BEGIN:VCALENDAR
VERSION:2.0
PRODID:-//Fundacja Dantian - ECPv6.15.20//NONSGML v1.0//EN
CALSCALE:GREGORIAN
METHOD:PUBLISH
X-ORIGINAL-URL:https://fundacjadantian.com
X-WR-CALDESC:Wydarzenia dla Fundacja Dantian
REFRESH-INTERVAL;VALUE=DURATION:PT1H
X-Robots-Tag:noindex
X-PUBLISHED-TTL:PT1H
BEGIN:VTIMEZONE
TZID:Europe/Warsaw
BEGIN:DAYLIGHT
TZOFFSETFROM:+0100
TZOFFSETTO:+0200
TZNAME:CEST
DTSTART:20240331T010000
END:DAYLIGHT
BEGIN:STANDARD
TZOFFSETFROM:+0200
TZOFFSETTO:+0100
TZNAME:CET
DTSTART:20241027T010000
END:STANDARD
BEGIN:DAYLIGHT
TZOFFSETFROM:+0100
TZOFFSETTO:+0200
TZNAME:CEST
DTSTART:20250330T010000
END:DAYLIGHT
BEGIN:STANDARD
TZOFFSETFROM:+0200
TZOFFSETTO:+0100
TZNAME:CET
DTSTART:20251026T010000
END:STANDARD
BEGIN:DAYLIGHT
TZOFFSETFROM:+0100
TZOFFSETTO:+0200
TZNAME:CEST
DTSTART:20260329T010000
END:DAYLIGHT
BEGIN:STANDARD
TZOFFSETFROM:+0200
TZOFFSETTO:+0100
TZNAME:CET
DTSTART:20261025T010000
END:STANDARD
END:VTIMEZONE
BEGIN:VEVENT
DTSTART;VALUE=DATE:20250402
DTEND;VALUE=DATE:20250405
DTSTAMP:20260425T054849
CREATED:20241125T120307Z
LAST-MODIFIED:20241125T120307Z
UID:44325-1743552000-1743811199@fundacjadantian.com
SUMMARY:Zamknięty warsztat oddechowy
DESCRIPTION:Zamknięty warsztat oddechowy dla kadry zarządzającej międzynarodowej korporacji.
URL:https://fundacjadantian.com/wydarzenie/zamkniety-warsztat-oddechowy/
LOCATION:Studio Burdąg\, Kolonia Burdąg 68\, Jedwabno\, 12-122
CATEGORIES:Warsztaty wyjazdowe
ATTACH;FMTTYPE=image/jpeg:https://fundacjadantian.com/wp-content/uploads/2024/11/Kalendarz-1920x1080-px-2-kopia.jpeg
END:VEVENT
BEGIN:VEVENT
DTSTART;TZID=Europe/Warsaw:20250404T173000
DTEND;TZID=Europe/Warsaw:20250404T183000
DTSTAMP:20260425T054849
CREATED:20250210T085527Z
LAST-MODIFIED:20250210T093449Z
UID:45011-1743787800-1743791400@fundacjadantian.com
SUMMARY:Staż taiji - forma miecza
DESCRIPTION:Warsztat wyłącznie dla adeptów naszej szkoły.
URL:https://fundacjadantian.com/wydarzenie/staz-taiji-forma-miecza/2025-04-04/
LOCATION:LO im. M.Konopnickiej\, ul. Madalińskiego 22\, Warszawa
CATEGORIES:Staż taiji
ATTACH;FMTTYPE=image/jpeg:https://fundacjadantian.com/wp-content/uploads/2023/10/STAZ.MIECZ_.jpg
END:VEVENT
END:VCALENDAR