BEGIN:VCALENDAR
VERSION:2.0
PRODID:-//Fundacja Dantian - ECPv6.15.16//NONSGML v1.0//EN
CALSCALE:GREGORIAN
METHOD:PUBLISH
X-ORIGINAL-URL:https://fundacjadantian.com
X-WR-CALDESC:Wydarzenia dla Fundacja Dantian
REFRESH-INTERVAL;VALUE=DURATION:PT1H
X-Robots-Tag:noindex
X-PUBLISHED-TTL:PT1H
BEGIN:VTIMEZONE
TZID:Europe/Warsaw
BEGIN:DAYLIGHT
TZOFFSETFROM:+0100
TZOFFSETTO:+0200
TZNAME:CEST
DTSTART:20240331T010000
END:DAYLIGHT
BEGIN:STANDARD
TZOFFSETFROM:+0200
TZOFFSETTO:+0100
TZNAME:CET
DTSTART:20241027T010000
END:STANDARD
BEGIN:DAYLIGHT
TZOFFSETFROM:+0100
TZOFFSETTO:+0200
TZNAME:CEST
DTSTART:20250330T010000
END:DAYLIGHT
BEGIN:STANDARD
TZOFFSETFROM:+0200
TZOFFSETTO:+0100
TZNAME:CET
DTSTART:20251026T010000
END:STANDARD
BEGIN:DAYLIGHT
TZOFFSETFROM:+0100
TZOFFSETTO:+0200
TZNAME:CEST
DTSTART:20260329T010000
END:DAYLIGHT
BEGIN:STANDARD
TZOFFSETFROM:+0200
TZOFFSETTO:+0100
TZNAME:CET
DTSTART:20261025T010000
END:STANDARD
END:VTIMEZONE
BEGIN:VEVENT
DTSTART;VALUE=DATE:20250503
DTEND;VALUE=DATE:20250511
DTSTAMP:20260420T071515
CREATED:20241025T090733Z
LAST-MODIFIED:20241025T090733Z
UID:44240-1746230400-1746921599@fundacjadantian.com
SUMMARY:Staż taiji\, Giens\, Francja
DESCRIPTION:Staż taiji\, pogłębiający praktykę\, z nauczycielem siódmej generacji\, Antoine Ly. Wyłącznie dla uczniów naszej szkoły.
URL:https://fundacjadantian.com/wydarzenie/staz-taiji-giens-francja/
CATEGORIES:Warsztaty wyjazdowe
ATTACH;FMTTYPE=image/jpeg:https://fundacjadantian.com/wp-content/uploads/2024/10/Kalendarz-1920x1080-px-2.jpeg
END:VEVENT
END:VCALENDAR