BEGIN:VCALENDAR
VERSION:2.0
PRODID:-//Fundacja Dantian - ECPv6.15.20//NONSGML v1.0//EN
CALSCALE:GREGORIAN
METHOD:PUBLISH
X-WR-CALNAME:Fundacja Dantian
X-ORIGINAL-URL:https://fundacjadantian.com
X-WR-CALDESC:Wydarzenia dla Fundacja Dantian
REFRESH-INTERVAL;VALUE=DURATION:PT1H
X-Robots-Tag:noindex
X-PUBLISHED-TTL:PT1H
BEGIN:VTIMEZONE
TZID:Europe/Warsaw
BEGIN:DAYLIGHT
TZOFFSETFROM:+0100
TZOFFSETTO:+0200
TZNAME:CEST
DTSTART:20240331T010000
END:DAYLIGHT
BEGIN:STANDARD
TZOFFSETFROM:+0200
TZOFFSETTO:+0100
TZNAME:CET
DTSTART:20241027T010000
END:STANDARD
BEGIN:DAYLIGHT
TZOFFSETFROM:+0100
TZOFFSETTO:+0200
TZNAME:CEST
DTSTART:20250330T010000
END:DAYLIGHT
BEGIN:STANDARD
TZOFFSETFROM:+0200
TZOFFSETTO:+0100
TZNAME:CET
DTSTART:20251026T010000
END:STANDARD
BEGIN:DAYLIGHT
TZOFFSETFROM:+0100
TZOFFSETTO:+0200
TZNAME:CEST
DTSTART:20260329T010000
END:DAYLIGHT
BEGIN:STANDARD
TZOFFSETFROM:+0200
TZOFFSETTO:+0100
TZNAME:CET
DTSTART:20261025T010000
END:STANDARD
END:VTIMEZONE
BEGIN:VEVENT
DTSTART;VALUE=DATE:20250707
DTEND;VALUE=DATE:20250714
DTSTAMP:20260424T022155
CREATED:20250101T151820Z
LAST-MODIFIED:20250129T090229Z
UID:44613-1751846400-1752451199@fundacjadantian.com
SUMMARY:Warsztat wyjazdowy - Przestrzenie kobiecości | II edycja
DESCRIPTION:Kobiecość ma wiele aspektów i coraz lepiej zdajemy sobie z tego sprawę. Kobiety intensywnie pracują i rozwijają się w wielu przestrzeniach życia. Stąd pomysł\, aby poświęcić warsztat wyłącznie kobietom\, ale poprzez różne aktywności i rożne sposoby wyrażania siebie. \nBędziemy się budzić o świcie\, aby rozpocząć dzień spacerem po łąkach i spokojną rozgrzewką z elementami Codziennego Rytuału Zdrowia. \nPo śniadaniu poświęcimy się nauce qigongu „Promienny Lotos”. To piękna forma pracy z ciałem dedykowana kobietom. Opracowała ją Daisy Lee\, łącząc elementy qigongu medycznego\, automasażu\, akupresury i leczących dźwięków jako formę samoleczenia. Qigong „Promienny Lotos” pomaga w uwalnianiu zablokowanych w ciele emocji i jest świetną profilaktyką antystresową. Wzmacnia układ immunologiczny i reguluje gospodarkę hormonalną. Podczas warsztatu nauczysz się odczuwać Qi. Poprzez automasaż poprawisz przepływ energii w meridianach wzmacniając i harmonizując cały organizm. Dowiesz się jak dobrze zarządzać własną energią\, by mieć jej więcej na co dzień i cieszyć się życiem\, ponieważ kiedy jesteśmy zrównoważone – fizycznie\, psychicznie\, emocjonalnie i duchowo – jesteśmy w stanie dostosować się do swojej naturalnej witalności i rytmów\, aby leczyć i harmonizować się z większą łatwością. \nDaisy Lee jest doświadczoną nauczycielką qigongu. Dzięki prawie 30-letniemu doświadczeniu i praktycznej wiedzy na temat samoleczenia\, od lat wspiera i uczy ludzi na całym świecie\, jak używać qigongu do radzenia sobie ze stresem oraz jak za jego pośrednictwem\, odzyskiwać zdrowie. W 2020 roku została uhonorowana nagrodą przez Światowy Kongres Qigong\, w uznaniu jej wpływu na poprawę zdrowia kobiet. \nPo odświeżającej kawie lub herbacie\, nakarmimy wojowniczy aspekt kobiecości ucząc się formy taiji z krótkim kijem. Taiji Yang Sheng Zhang to opracowany przez „Chińskie Stowarzyszenie Qigong dla Zdrowia”\, zestaw ośmiu ćwiczeń z kijem\, dla poprawy zdrowia\, ogólnego dobrostanu oraz promowania długowieczności. Kieruje się zasadami Tradycyjnej Medycyny Chińskiej\, równoważąc yin i yang. Ćwiczenia są wyjątkowo wdzięczne\, łatwe do nauki i możliwe do wykonywania w każdym momencie życia. Kij stanowi przedłużenie ciała i używany jest do automasażu wewnętrznych organów\, stymulowania punktów akupresury\, rozciągania mięśni i ścięgien\, koordynacji oddechu oraz uspokajania umysłu. Praktyka Taiji Yang Sheng Zhang Qigong pomaga poprawić postawę i problemy z plecami\, wzmacnia stawy oraz równoważy przepływ Qi w organizmie. Jest szczególnie polecana dla osób z dolegliwościami ramion\, szyi i nadgarstków spowodowanymi przypadkowymi urazami\, siedzącym trybem życia lub urazami wynikającymi z powtarzającego się obciążenia. \nPo dłuższej obiadowej przerwie coś dla wyprostowanej sylwetki! Choć Gimnastyka Tradycyjna ma znacznie szerszy zakres oddziaływania na ciało kobiece\, to jednak rzeczywiście dosyć szybko odczuwa się wewnętrzny imperatyw do wyprostowania. Jest to w pewnym sensie nowa forma treningu ciała i umysłu kobiet\, ale jej źródłem są ruchy i pozycje porodowe\, stosowane przez kobiety w różnych kulturach\, na różnych kontynentach\, na przełomie wieków. Ćwiczenia są tak skonstruowane\, żeby rozciągać i wzmacniać mięśnie grzbietu i pośladków\, czyli te części\, które ogromnie cierpią przy siedzącym trybie funkcjonowania. Pomagają dbać o kręgosłup\, jego zakresy i ogólną ruchomość. Wzmacniają stopy poprawiając naszą stabilność i równowagę. Aktywują meridiany mięśniowo-powięziowe\, poprawiając ogólny dobrostan i przepływ energii w ciele. \nNiezależnie w jakim okresie życia jesteśmy obecnie\, nauczyłyśmy się wierzyć\, że miesiączki bolą. I tu ważna informacja\, to nie jest koniecznością. Bardzo często wiąże się to z chronicznym napięciem w obrębie naszej miednicy i jej ogólną ruchomością. W Gimnastyce Tradycyjnej duża część pracy koncentruje się właśnie na mięśniach dna miednicy. Poszczególne ćwiczenia ułożone są tak\, aby zadbać o newralgiczne dla dobrostanu kobiety\, obszary jej ciała\, w każdym okresie życia. Wzmacniając uczą też odpuszczać\, a to przecież jeden z kluczy do dobrego życia. \nW każdej z nas drzemie Dzika Kobieta\, ta nasza bardziej intuicyjna i magiczna część\, która lubi piękno\, dba o zdrowie korzystając z darów natury\, kocha kwiaty albo uwielbia tańczyć! Dla tej części naszej natury mamy niespodziankę! Przez cały czas trwania warsztatu\, podczas spacerów po okolicy\, będziemy zbierały zioła\, kwiaty\, pióra i inne inspirujące artefakty\, z których stworzymy osobistą „Księgę Mocy”. A pod koniec warsztatu\, dla lepszego integrowania wszystkiego co będzie się działo\, zatańczymy! Watro więc zabrać sukienki 🙂 \nW trakcie trwania warsztatu\, jedno popołudnie będzie wolne. Można spędzić je w pobliskim Uniejowie\, miasteczku o długiej\, ciekawej historii\, którego atrakcją są gorące kąpiele w Uniejowskich Termach. \nProwadzące: Katarzyna Kahuna Kieraś\, Edyta Wypierowska \n  \nFORMULARZ DO ZAPISÓW
URL:https://fundacjadantian.com/wydarzenie/warsztat-wyjazdowy-przestrzenie-kobiecosci-ii-edycja/
LOCATION:Wytwórnia Ciszy\, Brzozówka 30\, Uniejów\, łódzkie\, 99-210\, Poland
CATEGORIES:Warsztaty wyjazdowe
ATTACH;FMTTYPE=image/jpeg:https://fundacjadantian.com/wp-content/uploads/2025/01/WYTWORNIA-CISZY.jpg
END:VEVENT
END:VCALENDAR