BEGIN:VCALENDAR
VERSION:2.0
PRODID:-//Fundacja Dantian - ECPv6.15.16//NONSGML v1.0//EN
CALSCALE:GREGORIAN
METHOD:PUBLISH
X-ORIGINAL-URL:https://fundacjadantian.com
X-WR-CALDESC:Wydarzenia dla Fundacja Dantian
REFRESH-INTERVAL;VALUE=DURATION:PT1H
X-Robots-Tag:noindex
X-PUBLISHED-TTL:PT1H
BEGIN:VTIMEZONE
TZID:Europe/Warsaw
BEGIN:DAYLIGHT
TZOFFSETFROM:+0100
TZOFFSETTO:+0200
TZNAME:CEST
DTSTART:20250330T010000
END:DAYLIGHT
BEGIN:STANDARD
TZOFFSETFROM:+0200
TZOFFSETTO:+0100
TZNAME:CET
DTSTART:20251026T010000
END:STANDARD
BEGIN:DAYLIGHT
TZOFFSETFROM:+0100
TZOFFSETTO:+0200
TZNAME:CEST
DTSTART:20260329T010000
END:DAYLIGHT
BEGIN:STANDARD
TZOFFSETFROM:+0200
TZOFFSETTO:+0100
TZNAME:CET
DTSTART:20261025T010000
END:STANDARD
BEGIN:DAYLIGHT
TZOFFSETFROM:+0100
TZOFFSETTO:+0200
TZNAME:CEST
DTSTART:20270328T010000
END:DAYLIGHT
BEGIN:STANDARD
TZOFFSETFROM:+0200
TZOFFSETTO:+0100
TZNAME:CET
DTSTART:20271031T010000
END:STANDARD
END:VTIMEZONE
BEGIN:VEVENT
DTSTART;TZID=Europe/Warsaw:20260617T090000
DTEND;TZID=Europe/Warsaw:20260617T095000
DTSTAMP:20260420T072909
CREATED:20250827T084107Z
LAST-MODIFIED:20250827T084931Z
UID:51023-1781686800-1781689800@fundacjadantian.com
SUMMARY:Qigong w DK Kadr
DESCRIPTION:W DK Kadr od lat ćwiczymy qigong z seniorami. Powstała\, wraz z otwarciem Domu Kultury Retro Akademia\, aktywizuje i uczy jak mieć się lepiej w swoim ciele z biegiem lat. Można dołączyć do zajęć\, zapisując się przez stronę DK Kadr. Zapraszamy 🙂
URL:https://fundacjadantian.com/wydarzenie/qigong-w-dk-kadr-6/2026-06-17/
LOCATION:DK KADR\, Rzymowskiego 32\, Wrszawa
CATEGORIES:Qigong
ATTACH;FMTTYPE=image/jpeg:https://fundacjadantian.com/wp-content/uploads/2023/10/dk-kadr.jpg
END:VEVENT
BEGIN:VEVENT
DTSTART;TZID=Europe/Warsaw:20260617T100000
DTEND;TZID=Europe/Warsaw:20260617T105000
DTSTAMP:20260420T072909
CREATED:20250827T084107Z
LAST-MODIFIED:20250827T084932Z
UID:51024-1781690400-1781693400@fundacjadantian.com
SUMMARY:Qigong w DK Kadr
DESCRIPTION:W DK Kadr od lat ćwiczymy qigong z seniorami. Powstała\, wraz z otwarciem Domu Kultury Retro Akademia\, aktywizuje i uczy jak mieć się lepiej w swoim ciele z biegiem lat. Można dołączyć do zajęć\, zapisując się przez stronę DK Kadr. Zapraszamy 🙂
URL:https://fundacjadantian.com/wydarzenie/qigong-w-dk-kadr-6/2026-06-17/10/
LOCATION:DK KADR\, Rzymowskiego 32\, Wrszawa
CATEGORIES:Qigong
ATTACH;FMTTYPE=image/jpeg:https://fundacjadantian.com/wp-content/uploads/2023/10/dk-kadr.jpg
END:VEVENT
BEGIN:VEVENT
DTSTART;TZID=Europe/Warsaw:20260617T103000
DTEND;TZID=Europe/Warsaw:20260617T113000
DTSTAMP:20260420T072909
CREATED:20260326T121913Z
LAST-MODIFIED:20260326T121913Z
UID:53091-1781692200-1781695800@fundacjadantian.com
SUMMARY:Wakacje z Qigongiem w MNW
DESCRIPTION:Dziedziniec Lorentza ponownie pełen energii świadomego ruchu! Fundacja Dantian wraz z Muzeum Narodowym w Warszawie zaprasza na cykl zajęć “Wakacje z Qigongiem – Prozdrowotne ćwiczenia dla każdego”  Spędź z nami aktywne wakacje. Zapraszamy każdej środy\, począwszy od 6.05.26 aż do końca września. Dziedzic Lorentza\, godz. 10.30 – 11.30 \nZajęcia są bezpłatne
URL:https://fundacjadantian.com/wydarzenie/wakacje-z-qigongiem-w-mnw-2/2026-06-17/
LOCATION:Muzeum Narodowe\, Al. Jerozolimskie 3\, Warszawa
CATEGORIES:Qigong
ATTACH;FMTTYPE=image/jpeg:https://fundacjadantian.com/wp-content/uploads/2022/06/Kalendarz-1920x1080-px.jpeg
END:VEVENT
END:VCALENDAR