BEGIN:VCALENDAR
VERSION:2.0
PRODID:-//Fundacja Dantian - ECPv6.15.20//NONSGML v1.0//EN
CALSCALE:GREGORIAN
METHOD:PUBLISH
X-WR-CALNAME:Fundacja Dantian
X-ORIGINAL-URL:https://fundacjadantian.com
X-WR-CALDESC:Wydarzenia dla Fundacja Dantian
REFRESH-INTERVAL;VALUE=DURATION:PT1H
X-Robots-Tag:noindex
X-PUBLISHED-TTL:PT1H
BEGIN:VTIMEZONE
TZID:Europe/Warsaw
BEGIN:DAYLIGHT
TZOFFSETFROM:+0100
TZOFFSETTO:+0200
TZNAME:CEST
DTSTART:20240331T010000
END:DAYLIGHT
BEGIN:STANDARD
TZOFFSETFROM:+0200
TZOFFSETTO:+0100
TZNAME:CET
DTSTART:20241027T010000
END:STANDARD
BEGIN:DAYLIGHT
TZOFFSETFROM:+0100
TZOFFSETTO:+0200
TZNAME:CEST
DTSTART:20250330T010000
END:DAYLIGHT
BEGIN:STANDARD
TZOFFSETFROM:+0200
TZOFFSETTO:+0100
TZNAME:CET
DTSTART:20251026T010000
END:STANDARD
BEGIN:DAYLIGHT
TZOFFSETFROM:+0100
TZOFFSETTO:+0200
TZNAME:CEST
DTSTART:20260329T010000
END:DAYLIGHT
BEGIN:STANDARD
TZOFFSETFROM:+0200
TZOFFSETTO:+0100
TZNAME:CET
DTSTART:20261025T010000
END:STANDARD
END:VTIMEZONE
BEGIN:VEVENT
DTSTART;TZID=Europe/Warsaw:20250729T180000
DTEND;TZID=Europe/Warsaw:20250729T193000
DTSTAMP:20260421T185611
CREATED:20250609T141707Z
LAST-MODIFIED:20250827T073241Z
UID:46123-1753812000-1753817400@fundacjadantian.com
SUMMARY:Treningi wakacyjne
DESCRIPTION:Zapraszamy na plenerowe treningi taiji. Są to zajęcia dla wszystkich\, mniej i bardziej zaawansowanych. Spotykamy się żeby razem praktykować! \nOsoby zainteresowane nauką taiji od października\, zapraszamy do spróbowania! \nWięcej informacji oraz link do formularza zgłoszeniowego znajdziesz TUTAJ
URL:https://fundacjadantian.com/wydarzenie/treningi-wakacyjne-2/2025-07-29/
CATEGORIES:Taiji Quan Grupa Łączona
ATTACH;FMTTYPE=image/jpeg:https://fundacjadantian.com/wp-content/uploads/2022/06/WAKACYJNE-TRENINGI-TAIJI.jpg
END:VEVENT
BEGIN:VEVENT
DTSTART;TZID=Europe/Warsaw:20250730T103000
DTEND;TZID=Europe/Warsaw:20250730T113000
DTSTAMP:20260421T185611
CREATED:20250404T103043Z
LAST-MODIFIED:20250404T103043Z
UID:45784-1753871400-1753875000@fundacjadantian.com
SUMMARY:Wakacje z Qigongiem w MNW
DESCRIPTION:Dziedziniec Lorentza ponownie pełen energii świadomego ruchu! Fundacja Dantian wraz z Muzeum Narodowym w Warszawie zaprasza na cykl zajęć “Wakacje z Qigongiem – Prozdrowotne ćwiczenia dla każdego”  Spędź z nami aktywne wakacje. Zapraszamy każdej środy\, począwszy od 14.05.25 aż do końca września. Dziedzic Lorentza\, godz. 10.30 – 11.30 \nZajęcia bezpłatne
URL:https://fundacjadantian.com/wydarzenie/wakacje-z-qigongiem-w-mnw/2025-07-30/
LOCATION:Muzeum Narodowe\, Al. Jerozolimskie 3\, Warszawa
CATEGORIES:Qigong
ATTACH;FMTTYPE=image/jpeg:https://fundacjadantian.com/wp-content/uploads/2022/06/Kalendarz-1920x1080-px.jpeg
END:VEVENT
BEGIN:VEVENT
DTSTART;TZID=Europe/Warsaw:20250731T180000
DTEND;TZID=Europe/Warsaw:20250731T193000
DTSTAMP:20260421T185611
CREATED:20250609T141707Z
LAST-MODIFIED:20250827T073242Z
UID:46124-1753984800-1753990200@fundacjadantian.com
SUMMARY:Treningi wakacyjne
DESCRIPTION:Zapraszamy na plenerowe treningi taiji. Są to zajęcia dla wszystkich\, mniej i bardziej zaawansowanych. Spotykamy się żeby razem praktykować! \nOsoby zainteresowane nauką taiji od października\, zapraszamy do spróbowania! \nWięcej informacji oraz link do formularza zgłoszeniowego znajdziesz TUTAJ
URL:https://fundacjadantian.com/wydarzenie/treningi-wakacyjne-2/2025-07-31/
CATEGORIES:Taiji Quan Grupa Łączona
ATTACH;FMTTYPE=image/jpeg:https://fundacjadantian.com/wp-content/uploads/2022/06/WAKACYJNE-TRENINGI-TAIJI.jpg
END:VEVENT
BEGIN:VEVENT
DTSTART;TZID=Europe/Warsaw:20250802T090000
DTEND;TZID=Europe/Warsaw:20250802T103000
DTSTAMP:20260421T185611
CREATED:20250609T155947Z
LAST-MODIFIED:20251121T084704Z
UID:46159-1754125200-1754130600@fundacjadantian.com
SUMMARY:Trening weekendowy
DESCRIPTION:Jeśli chcesz spędzić aktywnie czas\, w przyrodzie\, zapraszamy na weekendowe\, otwarte treningi do Łazienek Królewskich. O każdej porze roku\, bez względu na pogodę ćwiczymy ciało i ducha 🙂 wystarczy dostosować odpowiednio ubranie i buty. Zapraszamy zaawansowanych i niezaawansowanych. Zaczynamy Codziennym Rytuałem Zdrowia\, ćwiczymy długą formę Starego Stylu Yang Taiji oraz formy z bronią.  Do zobaczenia 🙂
URL:https://fundacjadantian.com/wydarzenie/trening-weekendowy-12/2025-08-02/
LOCATION:Łazienki Królewskie\, ul.Agrykola 1\, Warszawa
CATEGORIES:Trening weekendowy
ATTACH;FMTTYPE=image/jpeg:https://fundacjadantian.com/wp-content/uploads/2023/10/TRENING-PORANNY.jpeg
END:VEVENT
BEGIN:VEVENT
DTSTART;TZID=Europe/Warsaw:20250803T090000
DTEND;TZID=Europe/Warsaw:20250803T103000
DTSTAMP:20260421T185611
CREATED:20250609T155947Z
LAST-MODIFIED:20251121T084707Z
UID:46160-1754211600-1754217000@fundacjadantian.com
SUMMARY:Trening weekendowy
DESCRIPTION:Jeśli chcesz spędzić aktywnie czas\, w przyrodzie\, zapraszamy na weekendowe\, otwarte treningi do Łazienek Królewskich. O każdej porze roku\, bez względu na pogodę ćwiczymy ciało i ducha 🙂 wystarczy dostosować odpowiednio ubranie i buty. Zapraszamy zaawansowanych i niezaawansowanych. Zaczynamy Codziennym Rytuałem Zdrowia\, ćwiczymy długą formę Starego Stylu Yang Taiji oraz formy z bronią.  Do zobaczenia 🙂
URL:https://fundacjadantian.com/wydarzenie/trening-weekendowy-12/2025-08-03/
LOCATION:Łazienki Królewskie\, ul.Agrykola 1\, Warszawa
CATEGORIES:Trening weekendowy
ATTACH;FMTTYPE=image/jpeg:https://fundacjadantian.com/wp-content/uploads/2023/10/TRENING-PORANNY.jpeg
END:VEVENT
BEGIN:VEVENT
DTSTART;TZID=Europe/Warsaw:20250805T180000
DTEND;TZID=Europe/Warsaw:20250805T193000
DTSTAMP:20260421T185611
CREATED:20250609T141707Z
LAST-MODIFIED:20250827T073242Z
UID:46125-1754416800-1754422200@fundacjadantian.com
SUMMARY:Treningi wakacyjne
DESCRIPTION:Zapraszamy na plenerowe treningi taiji. Są to zajęcia dla wszystkich\, mniej i bardziej zaawansowanych. Spotykamy się żeby razem praktykować! \nOsoby zainteresowane nauką taiji od października\, zapraszamy do spróbowania! \nWięcej informacji oraz link do formularza zgłoszeniowego znajdziesz TUTAJ
URL:https://fundacjadantian.com/wydarzenie/treningi-wakacyjne-2/2025-08-05/
CATEGORIES:Taiji Quan Grupa Łączona
ATTACH;FMTTYPE=image/jpeg:https://fundacjadantian.com/wp-content/uploads/2022/06/WAKACYJNE-TRENINGI-TAIJI.jpg
END:VEVENT
BEGIN:VEVENT
DTSTART;TZID=Europe/Warsaw:20250806T103000
DTEND;TZID=Europe/Warsaw:20250806T113000
DTSTAMP:20260421T185611
CREATED:20250404T103043Z
LAST-MODIFIED:20250404T103043Z
UID:45785-1754476200-1754479800@fundacjadantian.com
SUMMARY:Wakacje z Qigongiem w MNW
DESCRIPTION:Dziedziniec Lorentza ponownie pełen energii świadomego ruchu! Fundacja Dantian wraz z Muzeum Narodowym w Warszawie zaprasza na cykl zajęć “Wakacje z Qigongiem – Prozdrowotne ćwiczenia dla każdego”  Spędź z nami aktywne wakacje. Zapraszamy każdej środy\, począwszy od 14.05.25 aż do końca września. Dziedzic Lorentza\, godz. 10.30 – 11.30 \nZajęcia bezpłatne
URL:https://fundacjadantian.com/wydarzenie/wakacje-z-qigongiem-w-mnw/2025-08-06/
LOCATION:Muzeum Narodowe\, Al. Jerozolimskie 3\, Warszawa
CATEGORIES:Qigong
ATTACH;FMTTYPE=image/jpeg:https://fundacjadantian.com/wp-content/uploads/2022/06/Kalendarz-1920x1080-px.jpeg
END:VEVENT
BEGIN:VEVENT
DTSTART;TZID=Europe/Warsaw:20250807T180000
DTEND;TZID=Europe/Warsaw:20250807T193000
DTSTAMP:20260421T185611
CREATED:20250609T141707Z
LAST-MODIFIED:20250827T073243Z
UID:46126-1754589600-1754595000@fundacjadantian.com
SUMMARY:Treningi wakacyjne
DESCRIPTION:Zapraszamy na plenerowe treningi taiji. Są to zajęcia dla wszystkich\, mniej i bardziej zaawansowanych. Spotykamy się żeby razem praktykować! \nOsoby zainteresowane nauką taiji od października\, zapraszamy do spróbowania! \nWięcej informacji oraz link do formularza zgłoszeniowego znajdziesz TUTAJ
URL:https://fundacjadantian.com/wydarzenie/treningi-wakacyjne-2/2025-08-07/
CATEGORIES:Taiji Quan Grupa Łączona
ATTACH;FMTTYPE=image/jpeg:https://fundacjadantian.com/wp-content/uploads/2022/06/WAKACYJNE-TRENINGI-TAIJI.jpg
END:VEVENT
BEGIN:VEVENT
DTSTART;TZID=Europe/Warsaw:20250809T090000
DTEND;TZID=Europe/Warsaw:20250809T103000
DTSTAMP:20260421T185611
CREATED:20250609T155947Z
LAST-MODIFIED:20251121T084708Z
UID:46161-1754730000-1754735400@fundacjadantian.com
SUMMARY:Trening weekendowy
DESCRIPTION:Jeśli chcesz spędzić aktywnie czas\, w przyrodzie\, zapraszamy na weekendowe\, otwarte treningi do Łazienek Królewskich. O każdej porze roku\, bez względu na pogodę ćwiczymy ciało i ducha 🙂 wystarczy dostosować odpowiednio ubranie i buty. Zapraszamy zaawansowanych i niezaawansowanych. Zaczynamy Codziennym Rytuałem Zdrowia\, ćwiczymy długą formę Starego Stylu Yang Taiji oraz formy z bronią.  Do zobaczenia 🙂
URL:https://fundacjadantian.com/wydarzenie/trening-weekendowy-12/2025-08-09/
LOCATION:Łazienki Królewskie\, ul.Agrykola 1\, Warszawa
CATEGORIES:Trening weekendowy
ATTACH;FMTTYPE=image/jpeg:https://fundacjadantian.com/wp-content/uploads/2023/10/TRENING-PORANNY.jpeg
END:VEVENT
BEGIN:VEVENT
DTSTART;TZID=Europe/Warsaw:20250810T090000
DTEND;TZID=Europe/Warsaw:20250810T103000
DTSTAMP:20260421T185611
CREATED:20250609T155947Z
LAST-MODIFIED:20251121T084709Z
UID:46162-1754816400-1754821800@fundacjadantian.com
SUMMARY:Trening weekendowy
DESCRIPTION:Jeśli chcesz spędzić aktywnie czas\, w przyrodzie\, zapraszamy na weekendowe\, otwarte treningi do Łazienek Królewskich. O każdej porze roku\, bez względu na pogodę ćwiczymy ciało i ducha 🙂 wystarczy dostosować odpowiednio ubranie i buty. Zapraszamy zaawansowanych i niezaawansowanych. Zaczynamy Codziennym Rytuałem Zdrowia\, ćwiczymy długą formę Starego Stylu Yang Taiji oraz formy z bronią.  Do zobaczenia 🙂
URL:https://fundacjadantian.com/wydarzenie/trening-weekendowy-12/2025-08-10/
LOCATION:Łazienki Królewskie\, ul.Agrykola 1\, Warszawa
CATEGORIES:Trening weekendowy
ATTACH;FMTTYPE=image/jpeg:https://fundacjadantian.com/wp-content/uploads/2023/10/TRENING-PORANNY.jpeg
END:VEVENT
BEGIN:VEVENT
DTSTART;TZID=Europe/Warsaw:20250812T180000
DTEND;TZID=Europe/Warsaw:20250812T193000
DTSTAMP:20260421T185611
CREATED:20250609T141707Z
LAST-MODIFIED:20250827T073245Z
UID:46127-1755021600-1755027000@fundacjadantian.com
SUMMARY:Treningi wakacyjne
DESCRIPTION:Zapraszamy na plenerowe treningi taiji. Są to zajęcia dla wszystkich\, mniej i bardziej zaawansowanych. Spotykamy się żeby razem praktykować! \nOsoby zainteresowane nauką taiji od października\, zapraszamy do spróbowania! \nWięcej informacji oraz link do formularza zgłoszeniowego znajdziesz TUTAJ
URL:https://fundacjadantian.com/wydarzenie/treningi-wakacyjne-2/2025-08-12/
CATEGORIES:Taiji Quan Grupa Łączona
ATTACH;FMTTYPE=image/jpeg:https://fundacjadantian.com/wp-content/uploads/2022/06/WAKACYJNE-TRENINGI-TAIJI.jpg
END:VEVENT
BEGIN:VEVENT
DTSTART;TZID=Europe/Warsaw:20250813T103000
DTEND;TZID=Europe/Warsaw:20250813T113000
DTSTAMP:20260421T185611
CREATED:20250404T103043Z
LAST-MODIFIED:20250404T103043Z
UID:45786-1755081000-1755084600@fundacjadantian.com
SUMMARY:Wakacje z Qigongiem w MNW
DESCRIPTION:Dziedziniec Lorentza ponownie pełen energii świadomego ruchu! Fundacja Dantian wraz z Muzeum Narodowym w Warszawie zaprasza na cykl zajęć “Wakacje z Qigongiem – Prozdrowotne ćwiczenia dla każdego”  Spędź z nami aktywne wakacje. Zapraszamy każdej środy\, począwszy od 14.05.25 aż do końca września. Dziedzic Lorentza\, godz. 10.30 – 11.30 \nZajęcia bezpłatne
URL:https://fundacjadantian.com/wydarzenie/wakacje-z-qigongiem-w-mnw/2025-08-13/
LOCATION:Muzeum Narodowe\, Al. Jerozolimskie 3\, Warszawa
CATEGORIES:Qigong
ATTACH;FMTTYPE=image/jpeg:https://fundacjadantian.com/wp-content/uploads/2022/06/Kalendarz-1920x1080-px.jpeg
END:VEVENT
BEGIN:VEVENT
DTSTART;TZID=Europe/Warsaw:20250814T180000
DTEND;TZID=Europe/Warsaw:20250814T193000
DTSTAMP:20260421T185611
CREATED:20250609T141707Z
LAST-MODIFIED:20250827T073246Z
UID:46128-1755194400-1755199800@fundacjadantian.com
SUMMARY:Treningi wakacyjne
DESCRIPTION:Zapraszamy na plenerowe treningi taiji. Są to zajęcia dla wszystkich\, mniej i bardziej zaawansowanych. Spotykamy się żeby razem praktykować! \nOsoby zainteresowane nauką taiji od października\, zapraszamy do spróbowania! \nWięcej informacji oraz link do formularza zgłoszeniowego znajdziesz TUTAJ
URL:https://fundacjadantian.com/wydarzenie/treningi-wakacyjne-2/2025-08-14/
CATEGORIES:Taiji Quan Grupa Łączona
ATTACH;FMTTYPE=image/jpeg:https://fundacjadantian.com/wp-content/uploads/2022/06/WAKACYJNE-TRENINGI-TAIJI.jpg
END:VEVENT
BEGIN:VEVENT
DTSTART;TZID=Europe/Warsaw:20250816T090000
DTEND;TZID=Europe/Warsaw:20250816T103000
DTSTAMP:20260421T185611
CREATED:20250609T155947Z
LAST-MODIFIED:20251121T084711Z
UID:46163-1755334800-1755340200@fundacjadantian.com
SUMMARY:Trening weekendowy
DESCRIPTION:Jeśli chcesz spędzić aktywnie czas\, w przyrodzie\, zapraszamy na weekendowe\, otwarte treningi do Łazienek Królewskich. O każdej porze roku\, bez względu na pogodę ćwiczymy ciało i ducha 🙂 wystarczy dostosować odpowiednio ubranie i buty. Zapraszamy zaawansowanych i niezaawansowanych. Zaczynamy Codziennym Rytuałem Zdrowia\, ćwiczymy długą formę Starego Stylu Yang Taiji oraz formy z bronią.  Do zobaczenia 🙂
URL:https://fundacjadantian.com/wydarzenie/trening-weekendowy-12/2025-08-16/
LOCATION:Łazienki Królewskie\, ul.Agrykola 1\, Warszawa
CATEGORIES:Trening weekendowy
ATTACH;FMTTYPE=image/jpeg:https://fundacjadantian.com/wp-content/uploads/2023/10/TRENING-PORANNY.jpeg
END:VEVENT
BEGIN:VEVENT
DTSTART;TZID=Europe/Warsaw:20250817T090000
DTEND;TZID=Europe/Warsaw:20250817T103000
DTSTAMP:20260421T185611
CREATED:20250609T155947Z
LAST-MODIFIED:20251121T084712Z
UID:46164-1755421200-1755426600@fundacjadantian.com
SUMMARY:Trening weekendowy
DESCRIPTION:Jeśli chcesz spędzić aktywnie czas\, w przyrodzie\, zapraszamy na weekendowe\, otwarte treningi do Łazienek Królewskich. O każdej porze roku\, bez względu na pogodę ćwiczymy ciało i ducha 🙂 wystarczy dostosować odpowiednio ubranie i buty. Zapraszamy zaawansowanych i niezaawansowanych. Zaczynamy Codziennym Rytuałem Zdrowia\, ćwiczymy długą formę Starego Stylu Yang Taiji oraz formy z bronią.  Do zobaczenia 🙂
URL:https://fundacjadantian.com/wydarzenie/trening-weekendowy-12/2025-08-17/
LOCATION:Łazienki Królewskie\, ul.Agrykola 1\, Warszawa
CATEGORIES:Trening weekendowy
ATTACH;FMTTYPE=image/jpeg:https://fundacjadantian.com/wp-content/uploads/2023/10/TRENING-PORANNY.jpeg
END:VEVENT
BEGIN:VEVENT
DTSTART;TZID=Europe/Warsaw:20250819T180000
DTEND;TZID=Europe/Warsaw:20250819T193000
DTSTAMP:20260421T185611
CREATED:20250609T141707Z
LAST-MODIFIED:20250827T073248Z
UID:46129-1755626400-1755631800@fundacjadantian.com
SUMMARY:Treningi wakacyjne
DESCRIPTION:Zapraszamy na plenerowe treningi taiji. Są to zajęcia dla wszystkich\, mniej i bardziej zaawansowanych. Spotykamy się żeby razem praktykować! \nOsoby zainteresowane nauką taiji od października\, zapraszamy do spróbowania! \nWięcej informacji oraz link do formularza zgłoszeniowego znajdziesz TUTAJ
URL:https://fundacjadantian.com/wydarzenie/treningi-wakacyjne-2/2025-08-19/
CATEGORIES:Taiji Quan Grupa Łączona
ATTACH;FMTTYPE=image/jpeg:https://fundacjadantian.com/wp-content/uploads/2022/06/WAKACYJNE-TRENINGI-TAIJI.jpg
END:VEVENT
BEGIN:VEVENT
DTSTART;TZID=Europe/Warsaw:20250820T103000
DTEND;TZID=Europe/Warsaw:20250820T113000
DTSTAMP:20260421T185611
CREATED:20250404T103043Z
LAST-MODIFIED:20250404T103043Z
UID:45787-1755685800-1755689400@fundacjadantian.com
SUMMARY:Wakacje z Qigongiem w MNW
DESCRIPTION:Dziedziniec Lorentza ponownie pełen energii świadomego ruchu! Fundacja Dantian wraz z Muzeum Narodowym w Warszawie zaprasza na cykl zajęć “Wakacje z Qigongiem – Prozdrowotne ćwiczenia dla każdego”  Spędź z nami aktywne wakacje. Zapraszamy każdej środy\, począwszy od 14.05.25 aż do końca września. Dziedzic Lorentza\, godz. 10.30 – 11.30 \nZajęcia bezpłatne
URL:https://fundacjadantian.com/wydarzenie/wakacje-z-qigongiem-w-mnw/2025-08-20/
LOCATION:Muzeum Narodowe\, Al. Jerozolimskie 3\, Warszawa
CATEGORIES:Qigong
ATTACH;FMTTYPE=image/jpeg:https://fundacjadantian.com/wp-content/uploads/2022/06/Kalendarz-1920x1080-px.jpeg
END:VEVENT
BEGIN:VEVENT
DTSTART;TZID=Europe/Warsaw:20250821T180000
DTEND;TZID=Europe/Warsaw:20250821T193000
DTSTAMP:20260421T185611
CREATED:20250609T141707Z
LAST-MODIFIED:20250827T073249Z
UID:46130-1755799200-1755804600@fundacjadantian.com
SUMMARY:Treningi wakacyjne
DESCRIPTION:Zapraszamy na plenerowe treningi taiji. Są to zajęcia dla wszystkich\, mniej i bardziej zaawansowanych. Spotykamy się żeby razem praktykować! \nOsoby zainteresowane nauką taiji od października\, zapraszamy do spróbowania! \nWięcej informacji oraz link do formularza zgłoszeniowego znajdziesz TUTAJ
URL:https://fundacjadantian.com/wydarzenie/treningi-wakacyjne-2/2025-08-21/
CATEGORIES:Taiji Quan Grupa Łączona
ATTACH;FMTTYPE=image/jpeg:https://fundacjadantian.com/wp-content/uploads/2022/06/WAKACYJNE-TRENINGI-TAIJI.jpg
END:VEVENT
BEGIN:VEVENT
DTSTART;TZID=Europe/Warsaw:20250823T090000
DTEND;TZID=Europe/Warsaw:20250823T103000
DTSTAMP:20260421T185611
CREATED:20250609T155947Z
LAST-MODIFIED:20251121T084713Z
UID:46165-1755939600-1755945000@fundacjadantian.com
SUMMARY:Trening weekendowy
DESCRIPTION:Jeśli chcesz spędzić aktywnie czas\, w przyrodzie\, zapraszamy na weekendowe\, otwarte treningi do Łazienek Królewskich. O każdej porze roku\, bez względu na pogodę ćwiczymy ciało i ducha 🙂 wystarczy dostosować odpowiednio ubranie i buty. Zapraszamy zaawansowanych i niezaawansowanych. Zaczynamy Codziennym Rytuałem Zdrowia\, ćwiczymy długą formę Starego Stylu Yang Taiji oraz formy z bronią.  Do zobaczenia 🙂
URL:https://fundacjadantian.com/wydarzenie/trening-weekendowy-12/2025-08-23/
LOCATION:Łazienki Królewskie\, ul.Agrykola 1\, Warszawa
CATEGORIES:Trening weekendowy
ATTACH;FMTTYPE=image/jpeg:https://fundacjadantian.com/wp-content/uploads/2023/10/TRENING-PORANNY.jpeg
END:VEVENT
BEGIN:VEVENT
DTSTART;TZID=Europe/Warsaw:20250824T090000
DTEND;TZID=Europe/Warsaw:20250824T103000
DTSTAMP:20260421T185611
CREATED:20250609T155947Z
LAST-MODIFIED:20251121T084714Z
UID:46166-1756026000-1756031400@fundacjadantian.com
SUMMARY:Trening weekendowy
DESCRIPTION:Jeśli chcesz spędzić aktywnie czas\, w przyrodzie\, zapraszamy na weekendowe\, otwarte treningi do Łazienek Królewskich. O każdej porze roku\, bez względu na pogodę ćwiczymy ciało i ducha 🙂 wystarczy dostosować odpowiednio ubranie i buty. Zapraszamy zaawansowanych i niezaawansowanych. Zaczynamy Codziennym Rytuałem Zdrowia\, ćwiczymy długą formę Starego Stylu Yang Taiji oraz formy z bronią.  Do zobaczenia 🙂
URL:https://fundacjadantian.com/wydarzenie/trening-weekendowy-12/2025-08-24/
LOCATION:Łazienki Królewskie\, ul.Agrykola 1\, Warszawa
CATEGORIES:Trening weekendowy
ATTACH;FMTTYPE=image/jpeg:https://fundacjadantian.com/wp-content/uploads/2023/10/TRENING-PORANNY.jpeg
END:VEVENT
BEGIN:VEVENT
DTSTART;TZID=Europe/Warsaw:20250826T180000
DTEND;TZID=Europe/Warsaw:20250826T193000
DTSTAMP:20260421T185611
CREATED:20250609T141707Z
LAST-MODIFIED:20250827T073250Z
UID:46131-1756231200-1756236600@fundacjadantian.com
SUMMARY:Treningi wakacyjne
DESCRIPTION:Zapraszamy na plenerowe treningi taiji. Są to zajęcia dla wszystkich\, mniej i bardziej zaawansowanych. Spotykamy się żeby razem praktykować! \nOsoby zainteresowane nauką taiji od października\, zapraszamy do spróbowania! \nWięcej informacji oraz link do formularza zgłoszeniowego znajdziesz TUTAJ
URL:https://fundacjadantian.com/wydarzenie/treningi-wakacyjne-2/2025-08-26/
CATEGORIES:Taiji Quan Grupa Łączona
ATTACH;FMTTYPE=image/jpeg:https://fundacjadantian.com/wp-content/uploads/2022/06/WAKACYJNE-TRENINGI-TAIJI.jpg
END:VEVENT
BEGIN:VEVENT
DTSTART;TZID=Europe/Warsaw:20250827T103000
DTEND;TZID=Europe/Warsaw:20250827T113000
DTSTAMP:20260421T185611
CREATED:20250404T103043Z
LAST-MODIFIED:20250404T103043Z
UID:45788-1756290600-1756294200@fundacjadantian.com
SUMMARY:Wakacje z Qigongiem w MNW
DESCRIPTION:Dziedziniec Lorentza ponownie pełen energii świadomego ruchu! Fundacja Dantian wraz z Muzeum Narodowym w Warszawie zaprasza na cykl zajęć “Wakacje z Qigongiem – Prozdrowotne ćwiczenia dla każdego”  Spędź z nami aktywne wakacje. Zapraszamy każdej środy\, począwszy od 14.05.25 aż do końca września. Dziedzic Lorentza\, godz. 10.30 – 11.30 \nZajęcia bezpłatne
URL:https://fundacjadantian.com/wydarzenie/wakacje-z-qigongiem-w-mnw/2025-08-27/
LOCATION:Muzeum Narodowe\, Al. Jerozolimskie 3\, Warszawa
CATEGORIES:Qigong
ATTACH;FMTTYPE=image/jpeg:https://fundacjadantian.com/wp-content/uploads/2022/06/Kalendarz-1920x1080-px.jpeg
END:VEVENT
BEGIN:VEVENT
DTSTART;TZID=Europe/Warsaw:20250828T180000
DTEND;TZID=Europe/Warsaw:20250828T193000
DTSTAMP:20260421T185611
CREATED:20250609T141707Z
LAST-MODIFIED:20250827T073251Z
UID:46132-1756404000-1756409400@fundacjadantian.com
SUMMARY:Treningi wakacyjne
DESCRIPTION:Zapraszamy na plenerowe treningi taiji. Są to zajęcia dla wszystkich\, mniej i bardziej zaawansowanych. Spotykamy się żeby razem praktykować! \nOsoby zainteresowane nauką taiji od października\, zapraszamy do spróbowania! \nWięcej informacji oraz link do formularza zgłoszeniowego znajdziesz TUTAJ
URL:https://fundacjadantian.com/wydarzenie/treningi-wakacyjne-2/2025-08-28/
CATEGORIES:Taiji Quan Grupa Łączona
ATTACH;FMTTYPE=image/jpeg:https://fundacjadantian.com/wp-content/uploads/2022/06/WAKACYJNE-TRENINGI-TAIJI.jpg
END:VEVENT
BEGIN:VEVENT
DTSTART;TZID=Europe/Warsaw:20250830T090000
DTEND;TZID=Europe/Warsaw:20250830T103000
DTSTAMP:20260421T185611
CREATED:20250609T155947Z
LAST-MODIFIED:20251121T084715Z
UID:46167-1756544400-1756549800@fundacjadantian.com
SUMMARY:Trening weekendowy
DESCRIPTION:Jeśli chcesz spędzić aktywnie czas\, w przyrodzie\, zapraszamy na weekendowe\, otwarte treningi do Łazienek Królewskich. O każdej porze roku\, bez względu na pogodę ćwiczymy ciało i ducha 🙂 wystarczy dostosować odpowiednio ubranie i buty. Zapraszamy zaawansowanych i niezaawansowanych. Zaczynamy Codziennym Rytuałem Zdrowia\, ćwiczymy długą formę Starego Stylu Yang Taiji oraz formy z bronią.  Do zobaczenia 🙂
URL:https://fundacjadantian.com/wydarzenie/trening-weekendowy-12/2025-08-30/
LOCATION:Łazienki Królewskie\, ul.Agrykola 1\, Warszawa
CATEGORIES:Trening weekendowy
ATTACH;FMTTYPE=image/jpeg:https://fundacjadantian.com/wp-content/uploads/2023/10/TRENING-PORANNY.jpeg
END:VEVENT
BEGIN:VEVENT
DTSTART;TZID=Europe/Warsaw:20250831T090000
DTEND;TZID=Europe/Warsaw:20250831T103000
DTSTAMP:20260421T185611
CREATED:20250609T155947Z
LAST-MODIFIED:20251121T084717Z
UID:46168-1756630800-1756636200@fundacjadantian.com
SUMMARY:Trening weekendowy
DESCRIPTION:Jeśli chcesz spędzić aktywnie czas\, w przyrodzie\, zapraszamy na weekendowe\, otwarte treningi do Łazienek Królewskich. O każdej porze roku\, bez względu na pogodę ćwiczymy ciało i ducha 🙂 wystarczy dostosować odpowiednio ubranie i buty. Zapraszamy zaawansowanych i niezaawansowanych. Zaczynamy Codziennym Rytuałem Zdrowia\, ćwiczymy długą formę Starego Stylu Yang Taiji oraz formy z bronią.  Do zobaczenia 🙂
URL:https://fundacjadantian.com/wydarzenie/trening-weekendowy-12/2025-08-31/
LOCATION:Łazienki Królewskie\, ul.Agrykola 1\, Warszawa
CATEGORIES:Trening weekendowy
ATTACH;FMTTYPE=image/jpeg:https://fundacjadantian.com/wp-content/uploads/2023/10/TRENING-PORANNY.jpeg
END:VEVENT
BEGIN:VEVENT
DTSTART;TZID=Europe/Warsaw:20250902T100000
DTEND;TZID=Europe/Warsaw:20250902T110000
DTSTAMP:20260421T185611
CREATED:20250827T072514Z
LAST-MODIFIED:20250827T072628Z
UID:50798-1756807200-1756810800@fundacjadantian.com
SUMMARY:Qigong dla dojrzałych
DESCRIPTION:Wraz z Mokotowskim Centrum Integracji Mieszkańców zapraszamy  na kolejną edycję „Qigongu dla dojrzałych”. Są to bezpłatne zajęcia\, podczas których uczymy podstaw qigongu oraz dalekowschodniego podejścia do zdrowia. Zajęcia przeznaczone są dla osób 55 + . Stopień trudności dostosowujemy do możliwości i kondycji uczestników. Wystarczy luźny stój i obuwie na miękkiej\, płaskiej podeszwie. Obowiązują zapisy w MCIM.
URL:https://fundacjadantian.com/wydarzenie/qigong-dla-dojrzalych-11/2025-09-02/
LOCATION:Mokotowskie Centrum Integracji Mieszkańców
CATEGORIES:Qigong - Woronicza 44 A
ATTACH;FMTTYPE=image/jpeg:https://fundacjadantian.com/wp-content/uploads/2022/01/page-3-1.jpeg
END:VEVENT
BEGIN:VEVENT
DTSTART;TZID=Europe/Warsaw:20250902T180000
DTEND;TZID=Europe/Warsaw:20250902T193000
DTSTAMP:20260421T185611
CREATED:20250609T141707Z
LAST-MODIFIED:20250609T141707Z
UID:50848-1756836000-1756841400@fundacjadantian.com
SUMMARY:Treningi wakacyjne
DESCRIPTION:Zapraszamy na plenerowe treningi taiji. Są to zajęcia dla wszystkich\, mniej i bardziej zaawansowanych. Spotykamy się żeby razem praktykować! \nOsoby zainteresowane nauką taiji od października\, zapraszamy do spróbowania! \nWięcej informacji oraz link do formularza zgłoszeniowego znajdziesz TUTAJ
URL:https://fundacjadantian.com/wydarzenie/treningi-wakacyjne-2/2025-09-02/
CATEGORIES:Taiji Quan Grupa Łączona
ATTACH;FMTTYPE=image/jpeg:https://fundacjadantian.com/wp-content/uploads/2022/06/WAKACYJNE-TRENINGI-TAIJI.jpg
END:VEVENT
BEGIN:VEVENT
DTSTART;TZID=Europe/Warsaw:20250903T103000
DTEND;TZID=Europe/Warsaw:20250903T113000
DTSTAMP:20260421T185611
CREATED:20250404T103043Z
LAST-MODIFIED:20250404T103043Z
UID:45789-1756895400-1756899000@fundacjadantian.com
SUMMARY:Wakacje z Qigongiem w MNW
DESCRIPTION:Dziedziniec Lorentza ponownie pełen energii świadomego ruchu! Fundacja Dantian wraz z Muzeum Narodowym w Warszawie zaprasza na cykl zajęć “Wakacje z Qigongiem – Prozdrowotne ćwiczenia dla każdego”  Spędź z nami aktywne wakacje. Zapraszamy każdej środy\, począwszy od 14.05.25 aż do końca września. Dziedzic Lorentza\, godz. 10.30 – 11.30 \nZajęcia bezpłatne
URL:https://fundacjadantian.com/wydarzenie/wakacje-z-qigongiem-w-mnw/2025-09-03/
LOCATION:Muzeum Narodowe\, Al. Jerozolimskie 3\, Warszawa
CATEGORIES:Qigong
ATTACH;FMTTYPE=image/jpeg:https://fundacjadantian.com/wp-content/uploads/2022/06/Kalendarz-1920x1080-px.jpeg
END:VEVENT
BEGIN:VEVENT
DTSTART;TZID=Europe/Warsaw:20250904T160000
DTEND;TZID=Europe/Warsaw:20250904T171500
DTSTAMP:20260421T185611
CREATED:20250827T072514Z
LAST-MODIFIED:20250827T072514Z
UID:50815-1757001600-1757006100@fundacjadantian.com
SUMMARY:Qigong dla dojrzałych
DESCRIPTION:Wraz z Mokotowskim Centrum Integracji Mieszkańców zapraszamy  na kolejną edycję „Qigongu dla dojrzałych”. Są to bezpłatne zajęcia\, podczas których uczymy podstaw qigongu oraz dalekowschodniego podejścia do zdrowia. Zajęcia przeznaczone są dla osób 55 + . Stopień trudności dostosowujemy do możliwości i kondycji uczestników. Wystarczy luźny stój i obuwie na miękkiej\, płaskiej podeszwie. Obowiązują zapisy w MCIM.
URL:https://fundacjadantian.com/wydarzenie/qigong-dla-dojrzalych-11/2025-09-04/
LOCATION:Mokotowskie Centrum Integracji Mieszkańców
CATEGORIES:Qigong - Woronicza 44 A
ATTACH;FMTTYPE=image/jpeg:https://fundacjadantian.com/wp-content/uploads/2022/01/page-3-1.jpeg
END:VEVENT
BEGIN:VEVENT
DTSTART;TZID=Europe/Warsaw:20250904T180000
DTEND;TZID=Europe/Warsaw:20250904T193000
DTSTAMP:20260421T185611
CREATED:20250609T141707Z
LAST-MODIFIED:20250609T141707Z
UID:50849-1757008800-1757014200@fundacjadantian.com
SUMMARY:Treningi wakacyjne
DESCRIPTION:Zapraszamy na plenerowe treningi taiji. Są to zajęcia dla wszystkich\, mniej i bardziej zaawansowanych. Spotykamy się żeby razem praktykować! \nOsoby zainteresowane nauką taiji od października\, zapraszamy do spróbowania! \nWięcej informacji oraz link do formularza zgłoszeniowego znajdziesz TUTAJ
URL:https://fundacjadantian.com/wydarzenie/treningi-wakacyjne-2/2025-09-04/
CATEGORIES:Taiji Quan Grupa Łączona
ATTACH;FMTTYPE=image/jpeg:https://fundacjadantian.com/wp-content/uploads/2022/06/WAKACYJNE-TRENINGI-TAIJI.jpg
END:VEVENT
END:VCALENDAR