BEGIN:VCALENDAR
VERSION:2.0
PRODID:-//Fundacja Dantian - ECPv6.15.20//NONSGML v1.0//EN
CALSCALE:GREGORIAN
METHOD:PUBLISH
X-ORIGINAL-URL:https://fundacjadantian.com
X-WR-CALDESC:Wydarzenia dla Fundacja Dantian
REFRESH-INTERVAL;VALUE=DURATION:PT1H
X-Robots-Tag:noindex
X-PUBLISHED-TTL:PT1H
BEGIN:VTIMEZONE
TZID:Europe/Warsaw
BEGIN:DAYLIGHT
TZOFFSETFROM:+0100
TZOFFSETTO:+0200
TZNAME:CEST
DTSTART:20170326T010000
END:DAYLIGHT
BEGIN:STANDARD
TZOFFSETFROM:+0200
TZOFFSETTO:+0100
TZNAME:CET
DTSTART:20171029T010000
END:STANDARD
BEGIN:DAYLIGHT
TZOFFSETFROM:+0100
TZOFFSETTO:+0200
TZNAME:CEST
DTSTART:20180325T010000
END:DAYLIGHT
BEGIN:STANDARD
TZOFFSETFROM:+0200
TZOFFSETTO:+0100
TZNAME:CET
DTSTART:20181028T010000
END:STANDARD
BEGIN:DAYLIGHT
TZOFFSETFROM:+0100
TZOFFSETTO:+0200
TZNAME:CEST
DTSTART:20190331T010000
END:DAYLIGHT
BEGIN:STANDARD
TZOFFSETFROM:+0200
TZOFFSETTO:+0100
TZNAME:CET
DTSTART:20191027T010000
END:STANDARD
END:VTIMEZONE
BEGIN:VEVENT
DTSTART;VALUE=DATE:20180301
DTEND;VALUE=DATE:20180303
DTSTAMP:20260425T125148
CREATED:20180216T220557Z
LAST-MODIFIED:20180216T220557Z
UID:15202-1519862400-1520035199@fundacjadantian.com
SUMMARY:Staż szabli z Mistrzem LY
DESCRIPTION:Zajęcia grup zaawansowanej w ramach stażu z Mistrzem LY. \n23.02 (piątek) 18:30 – 20:00 (ul. Madalińskiego 22)\n25.02 (niedziela 9:45 – 11:45 (sala\, ul.MDK\, Łazienkowska 7)\n27.02 (wtorek)  18:30 – 20:00 (sala\, ul. Madalińskiego 22)\n01.03 (czwartek) 18:30 – 20:00 (sala\, ul. Madalińskiego 22)\n02.03 (piątek) 18:30 – 20:00 (sala\, ul. Madalińskiego 22)
URL:https://fundacjadantian.com/wydarzenie/staz-szabli-z-mistrzem-ly-2/
CATEGORIES:Taiji Grupa Zaawansowana
ATTACH;FMTTYPE=image/jpeg:https://fundacjadantian.com/wp-content/uploads/2016/08/Mistrz-Ly-w-Polsce.jpg
END:VEVENT
BEGIN:VEVENT
DTSTART;TZID=Europe/Warsaw:20180306T100000
DTEND;TZID=Europe/Warsaw:20180306T110000
DTSTAMP:20260425T125148
CREATED:20180220T135243Z
LAST-MODIFIED:20180220T135243Z
UID:15257-1520330400-1520334000@fundacjadantian.com
SUMMARY:Ćwiczenia dla dojrzałych - Woronicza 44 A
DESCRIPTION:Zapraszamy wszystkich na kolejną edycję Qigongu dla dojrzałych. Są to bezpłatne zajęcia z podstaw gimnastyki chińskiej dla każdego bez względu na wiek\, wystarczy luźny stój i obuwie na miękkiej podeszwie. Ćwiczenia Qigongu oraz wstępu do Starego Stylu Yang Taijiquan odbywać się będą przy ulicy Woronicza 44A w Mokotowskim Centrum Integracji Mieszkańców. Zapraszamy od 6 marca w każdy wtorek na godzinę 10:00 do 11:00\, oraz w każdą środę na godzinę 16:00 do 17:00.
URL:https://fundacjadantian.com/wydarzenie/cwiczenia-dla-dojrzalych-woronicza-44-a/2018-03-06/
CATEGORIES:Qigong - Woronicza 44 A
ATTACH;FMTTYPE=image/jpeg:https://fundacjadantian.com/wp-content/uploads/2016/11/MCiM-Fundacja-Dantian.jpg
END:VEVENT
BEGIN:VEVENT
DTSTART;TZID=Europe/Warsaw:20180307T160000
DTEND;TZID=Europe/Warsaw:20180307T170000
DTSTAMP:20260425T125148
CREATED:20180220T135618Z
LAST-MODIFIED:20180220T135618Z
UID:15272-1520438400-1520442000@fundacjadantian.com
SUMMARY:Ćwiczenia dla dojrzałych - Woronicza 44 A
DESCRIPTION:Zapraszamy wszystkich na kolejną edycję Qigongu dla dojrzałych. Są to bezpłatne zajęcia z podstaw gimnastyki chińskiej dla każdego bez względu na wiek\, wystarczy luźny stój i obuwie na miękkiej podeszwie. Ćwiczenia Qigongu oraz wstępu do Starego Stylu Yang Taijiquan odbywać się będą przy ulicy Woronicza 44A w Mokotowskim Centrum Integracji Mieszkańców. Zapraszamy od 6 marca w każdy wtorek na godzinę 10:00 do 11:00\, oraz w każdą środę na godzinę 16:00 do 17:00.
URL:https://fundacjadantian.com/wydarzenie/cwiczenia-dla-dojrzalych-woronicza-44-a-2/2018-03-07/
CATEGORIES:Qigong - Woronicza 44 A
ATTACH;FMTTYPE=image/jpeg:https://fundacjadantian.com/wp-content/uploads/2016/11/MCiM-Fundacja-Dantian.jpg
END:VEVENT
BEGIN:VEVENT
DTSTART;TZID=Europe/Warsaw:20180307T180000
DTEND;TZID=Europe/Warsaw:20180307T193000
DTSTAMP:20260425T125148
CREATED:20180203T193409Z
LAST-MODIFIED:20180203T193409Z
UID:15180-1520445600-1520451000@fundacjadantian.com
SUMMARY:Qigong sztuki
DESCRIPTION:Podczas zajęć łączymy energię świadomego ruchu z malarstwem\, wyzwalając drzemiące w nas pokłady kreatywności. Zalecane luźne ubranie\, z uwzględnieniem możliwości poplamienia podczas pracy twórczej. Prowadzi Marzena Rostkowska (Fundacja Dantian). Wstęp: 30 zł (w cenie materiały). Wymagana rezerwacja uczestnictwa pod adresem rostkowska.marzena@gmail.com \nLink do filmiku z zajęć: https://www.youtube.com/watch?v=Bp7J4PMxD74&list=PLuf5vwboNESs0ztnmRl7_mUhpc7Nbef1-
URL:https://fundacjadantian.com/wydarzenie/qigong-sztuki/
CATEGORIES:Qigong - MAiP
ATTACH;FMTTYPE=image/jpeg:https://fundacjadantian.com/wp-content/uploads/2021/12/QIGONG-SZTUKI.jpg
END:VEVENT
BEGIN:VEVENT
DTSTART;TZID=Europe/Warsaw:20180307T194500
DTEND;TZID=Europe/Warsaw:20180307T211500
DTSTAMP:20260425T125148
CREATED:20180220T114115Z
LAST-MODIFIED:20180220T114115Z
UID:15221-1520451900-1520457300@fundacjadantian.com
SUMMARY:Qigong kija taiji
DESCRIPTION:Prozdrowotne ćwiczenia qigongu z kijem mają przynajmniej 2 000 lat historii\, o czym świadczą słynne ryciny odkryte w  grobowcu Mawangdui z dynastii Han (206 BC – 220 AD). Współczesne Chińskie Stowarzyszenie Qigongu Zdrowia opracowało zestaw ćwiczeń z kijem nazwany Ćwiczeniami Zachowania Zdrowia Kija Taiji\, którego fragmenty zostaną zaprezentowane w czasie wspólnych ćwiczeń (kije będą udostępnione chętnym).
URL:https://fundacjadantian.com/wydarzenie/qigong-kija-taiji-3/2018-03-07/
CATEGORIES:Qigong - MAiP
ATTACH;FMTTYPE=:
END:VEVENT
BEGIN:VEVENT
DTSTART;TZID=Europe/Warsaw:20180314T180000
DTEND;TZID=Europe/Warsaw:20180314T193000
DTSTAMP:20260425T125148
CREATED:20180220T120002Z
LAST-MODIFIED:20180220T120002Z
UID:15227-1521050400-1521055800@fundacjadantian.com
SUMMARY:Qigong dla oczu
DESCRIPTION:Po długiej zimie\, to zwykle nasze oczy jako pierwsze odczuwają negatywne efekty powrotu do pracy przed ekranami komputerów i smartfonów oraz codziennej\, domowej rutyny; warsztaty zapoznają z ćwiczeniami qigongu mającymi korzystny wpływ na cały proces widzenia. Prowadzi Jan Gliński
URL:https://fundacjadantian.com/wydarzenie/qigong-dla-oczu-3/
CATEGORIES:Qigong - MAiP
ATTACH;FMTTYPE=:
END:VEVENT
BEGIN:VEVENT
DTSTART;TZID=Europe/Warsaw:20180321T180000
DTEND;TZID=Europe/Warsaw:20180321T193000
DTSTAMP:20260425T125148
CREATED:20180220T121608Z
LAST-MODIFIED:20180220T121608Z
UID:15231-1521655200-1521660600@fundacjadantian.com
SUMMARY:Qigong - Przez kucanie do zdrowia - ćwiczenia ze skarbnicy terapii biegunowej
DESCRIPTION:Prozdrowotne ćwiczenia qigongu z uwzględnieniem pozycji kucznej stymulującej i harmonizującej przepływ energii oraz uwalniającej napięcia w miednicy\, kroczu i lędźwiach. Zestaw ćwiczeń rozciągających kręgosłup i otwierających klatkę piersiową. \nWięcej informacji na naszej stronie pod linkiem: https://fundacjadantian.com/terapia-biegunowa/ \n 
URL:https://fundacjadantian.com/wydarzenie/przez-kucanie-do-zdrowia-cwiczenia-ze-skarbnicy-terapii-biegunowej/
CATEGORIES:Qigong - MAiP
ATTACH;FMTTYPE=image/jpeg:https://fundacjadantian.com/wp-content/uploads/2017/04/Polarity-yoga.jpg
END:VEVENT
BEGIN:VEVENT
DTSTART;TZID=Europe/Warsaw:20180322T183000
DTEND;TZID=Europe/Warsaw:20180322T200000
DTSTAMP:20260425T125148
CREATED:20170829T123631Z
LAST-MODIFIED:20170829T123631Z
UID:13550-1521743400-1521748800@fundacjadantian.com
SUMMARY:Zajęcia przeniesione - Grupa zaawansowana Stary Styl Yang
DESCRIPTION:Więcej informacji bliżej terminu zajęć. \nKurs jest prowadzony z intencją trwałego zakorzenienia Yang Jia Lao Jia Taiji Quan w Polsce\, dla osób które pociąga perspektywa poświęcenia wielu lat regularnej pracy nad sobą poprzez naukę tego stylu i które z czasem staną się jego nauczycielami i mistrzami.
URL:https://fundacjadantian.com/wydarzenie/grupa-zaawansowana-stary-styl-yang-madalinskiego-22-2018-03-22/
CATEGORIES:Taiji Grupa Zaawansowana
ATTACH;FMTTYPE=image/jpeg:https://fundacjadantian.com/wp-content/uploads/2015/12/Madalinskiego_4.jpg
END:VEVENT
BEGIN:VEVENT
DTSTART;TZID=Europe/Warsaw:20180325T090000
DTEND;TZID=Europe/Warsaw:20180325T100000
DTSTAMP:20260425T125148
CREATED:20180323T201538Z
LAST-MODIFIED:20180323T201538Z
UID:15325-1521968400-1521972000@fundacjadantian.com
SUMMARY:TRENING WEEKENDOWY
DESCRIPTION:Zapraszamy na trening do Parku Łazienkowskiego. Spotykamy się o 9:00 przed Starą Kordegardą (jeśli deszcz\, śnieg – w Pawilonie Chińskim). Broń mile widziana ????
URL:https://fundacjadantian.com/wydarzenie/trening-weekendowy-4/
CATEGORIES:Trening weekendowy
ATTACH;FMTTYPE=image/jpeg:https://fundacjadantian.com/wp-content/uploads/2018/01/Post-noworoczny.jpg
END:VEVENT
BEGIN:VEVENT
DTSTART;TZID=Europe/Warsaw:20180328T194500
DTEND;TZID=Europe/Warsaw:20180328T211500
DTSTAMP:20260425T125148
CREATED:20170828T103230Z
LAST-MODIFIED:20170828T103230Z
UID:14839-1522266300-1522271700@fundacjadantian.com
SUMMARY:Zajęcia taiji i qigongu odwołane - wernisaż wystawy w MAiP
DESCRIPTION:
URL:https://fundacjadantian.com/wydarzenie/zajecia-taiji-i-qigongu-odwolane-wewnetrzna-impreza-w-maip/
CATEGORIES:Taiji Grupa Początkująca
ATTACH;FMTTYPE=image/jpeg:https://fundacjadantian.com/wp-content/uploads/2015/11/Maip_taiji_2.jpg
END:VEVENT
END:VCALENDAR