BEGIN:VCALENDAR
VERSION:2.0
PRODID:-//Fundacja Dantian - ECPv6.15.20//NONSGML v1.0//EN
CALSCALE:GREGORIAN
METHOD:PUBLISH
X-WR-CALNAME:Fundacja Dantian
X-ORIGINAL-URL:https://fundacjadantian.com
X-WR-CALDESC:Wydarzenia dla Fundacja Dantian
REFRESH-INTERVAL;VALUE=DURATION:PT1H
X-Robots-Tag:noindex
X-PUBLISHED-TTL:PT1H
BEGIN:VTIMEZONE
TZID:Europe/Warsaw
BEGIN:DAYLIGHT
TZOFFSETFROM:+0100
TZOFFSETTO:+0200
TZNAME:CEST
DTSTART:20170326T010000
END:DAYLIGHT
BEGIN:STANDARD
TZOFFSETFROM:+0200
TZOFFSETTO:+0100
TZNAME:CET
DTSTART:20171029T010000
END:STANDARD
BEGIN:DAYLIGHT
TZOFFSETFROM:+0100
TZOFFSETTO:+0200
TZNAME:CEST
DTSTART:20180325T010000
END:DAYLIGHT
BEGIN:STANDARD
TZOFFSETFROM:+0200
TZOFFSETTO:+0100
TZNAME:CET
DTSTART:20181028T010000
END:STANDARD
BEGIN:DAYLIGHT
TZOFFSETFROM:+0100
TZOFFSETTO:+0200
TZNAME:CEST
DTSTART:20190331T010000
END:DAYLIGHT
BEGIN:STANDARD
TZOFFSETFROM:+0200
TZOFFSETTO:+0100
TZNAME:CET
DTSTART:20191027T010000
END:STANDARD
END:VTIMEZONE
BEGIN:VEVENT
DTSTART;TZID=Europe/Warsaw:20180411T180000
DTEND;TZID=Europe/Warsaw:20180411T193000
DTSTAMP:20260425T012306
CREATED:20180328T112134Z
LAST-MODIFIED:20180328T112134Z
UID:15341-1523469600-1523475000@fundacjadantian.com
SUMMARY:Wiosenny triathlon qigongu (1/3): odtruwanie
DESCRIPTION:Kwiecień\, z budzącą się do życia przyrodą\, jest idealnym okresem przygotowania się do ćwiczeń w plenerze.  Bez względu na rodzaj ulubionej aktywności fizycznej\, łącznie z bieganiem czy jazdą na rowerze\, warto skorzystać z bogatej skarbnicy ćwiczeń qigongu do efektywnego przygotowania psychofizycznego. Cykl poświeconych temu trzech warsztatów\, rozpoczniemy od technik energetycznego detoksu\, nie przypadkiem po zimowych i wielkanocnych ekscesach.  Prowadzi Jan Gliński (Fundacja Dantian). Wstęp: 30 zł. Więcej informacji na: www.fundacjadantian.com
URL:https://fundacjadantian.com/wydarzenie/wiosenny-triathlon-qigongu-1-3-odtruwanie/
CATEGORIES:Qigong - MAiP
ATTACH;FMTTYPE=:
END:VEVENT
BEGIN:VEVENT
DTSTART;TZID=Europe/Warsaw:20180411T200000
DTEND;TZID=Europe/Warsaw:20180411T213000
DTSTAMP:20260425T012306
CREATED:20170828T103230Z
LAST-MODIFIED:20170828T103230Z
UID:14840-1523476800-1523482200@fundacjadantian.com
SUMMARY:Warsztaty wprowadzające do tańca z wachlarzami bojowymi
DESCRIPTION:Zajęcia dla kobiet ze sztuki posługiwania się wachlarzami bojowymi połączone z elementami tańca. Prowadzi Ewa Ampulska (Szkoła Tańca z Wachlarzami Bojowymi)\, Wstęp: 30 zł. Więcej informacji na:  www.facebook.com/Szkoła-Tańca-z-Wachlarzami-Bojowymi \n 
URL:https://fundacjadantian.com/wydarzenie/warsztaty-wprowadzajace-do-tanca-z-wachlarzami-bojowymi/2018-04-11/
ATTACH;FMTTYPE=image/jpeg:https://fundacjadantian.com/wp-content/uploads/2016/11/wachlarze_01.jpg
END:VEVENT
BEGIN:VEVENT
DTSTART;TZID=Europe/Warsaw:20180414T090000
DTEND;TZID=Europe/Warsaw:20180414T103000
DTSTAMP:20260425T012306
CREATED:20180411T210907Z
LAST-MODIFIED:20180411T210907Z
UID:15363-1523696400-1523701800@fundacjadantian.com
SUMMARY:Trening weekendowy
DESCRIPTION:Zapraszamy na trening taiji do Parku Łazienkowskiego. Spotykamy się  przed Starą Kordegardą (jeśli deszcz w Pawilonie Chińskim). Broń mile widziana ????
URL:https://fundacjadantian.com/wydarzenie/trening-weekendowy-5-2018-04-14/2018-04-14/
CATEGORIES:Trening weekendowy
ATTACH;FMTTYPE=:
END:VEVENT
BEGIN:VEVENT
DTSTART;TZID=Europe/Warsaw:20180418T180000
DTEND;TZID=Europe/Warsaw:20180418T193000
DTSTAMP:20260425T012306
CREATED:20180328T112405Z
LAST-MODIFIED:20180328T112405Z
UID:15344-1524074400-1524079800@fundacjadantian.com
SUMMARY:Wiosenny triathlon qigongu (2/3): harmonizowanie
DESCRIPTION:Następnym etapem przygotowania się do fizycznej aktywności w plenerze jest zapoznanie się z wybranymi technikami harmonizowania pracy narządów wewnętrznych oraz wykorzystania do tego celu wiosennej przyrody. Prowadzi Jan Gliński (Fundacja Dantian). Wstęp: 30 zł. Więcej informacji na: www.fundacjadantian.com
URL:https://fundacjadantian.com/wydarzenie/wiosenny-triathlon-qigongu-2-3-harmonizowanie/
CATEGORIES:Qigong - MAiP
ATTACH;FMTTYPE=:
END:VEVENT
BEGIN:VEVENT
DTSTART;TZID=Europe/Warsaw:20180425T180000
DTEND;TZID=Europe/Warsaw:20180425T193000
DTSTAMP:20260425T012306
CREATED:20180328T112654Z
LAST-MODIFIED:20180328T112654Z
UID:15347-1524679200-1524684600@fundacjadantian.com
SUMMARY:Wiosenny triathlon qigongu (3/3): wzmacnianie
DESCRIPTION:Aby móc pełniej i przy mniejszym wysiłku skorzystać z dowolnej aktywności fizycznej w plenerze\, warto poznać ćwiczenia zwiększające poziom energii wewnętrznej oraz ułatwiające jej prawidłowe krążenie w całym organizmie. Prowadzi Jan Gliński (Fundacja Dantian). Wstęp: 30 zł. Więcej informacji na: www.fundacjadantian.com
URL:https://fundacjadantian.com/wydarzenie/wiosenny-triathlon-qigongu-3-3-wzmacnianie/
CATEGORIES:Qigong - MAiP
ATTACH;FMTTYPE=image/jpeg:https://fundacjadantian.com/wp-content/uploads/2017/04/Lazienki-dzien-taiji_3.jpg
END:VEVENT
BEGIN:VEVENT
DTSTART;TZID=Europe/Warsaw:20180428T093000
DTEND;TZID=Europe/Warsaw:20180428T110000
DTSTAMP:20260425T012306
CREATED:20180414T063112Z
LAST-MODIFIED:20180414T063112Z
UID:15398-1524907800-1524913200@fundacjadantian.com
SUMMARY:Światowy Dzień Taijiquan i Qigongu – 28 kwietnia  - pod znakiem kija i wachlarza
DESCRIPTION:O godzinie 10:00 lokalnego czasu adepci tych sztuk spotykają się w parkach\, aby razem ćwiczyć. \nWraz z obrotem kuli ziemskiej fala wspólnej energii przetacza się przez cały świat. \nMy również  spotykamy się w sobotę 28 kwietnia\, o godzinie 9:30\, w wiosennym Parku Łazienki Królewskie\, przed Starą Kordegardą\, \naby po rozgrzewce być gotowym punktualnie o 10:00. \nW tym roku będziemy świętowali pod znakiem kija i wachlarza – będzie to okazja dla każdego\, kto chciałby spróbować paru ruchów formy tych broni. \nWłasny sprzęt mile widziany\, ale będziemy mieli ze sobą kije i wachlarze dla wszystkich chętnych. \nCzekamy na Was!
URL:https://fundacjadantian.com/wydarzenie/swiatowy-dzien-taijiquan-i-qigongu-28-kwietnia-pod-znakiem-kija-i-wachlarza/
CATEGORIES:Trening weekendowy
ATTACH;FMTTYPE=:
END:VEVENT
END:VCALENDAR