BEGIN:VCALENDAR
VERSION:2.0
PRODID:-//Fundacja Dantian - ECPv6.15.20//NONSGML v1.0//EN
CALSCALE:GREGORIAN
METHOD:PUBLISH
X-ORIGINAL-URL:https://fundacjadantian.com
X-WR-CALDESC:Wydarzenia dla Fundacja Dantian
REFRESH-INTERVAL;VALUE=DURATION:PT1H
X-Robots-Tag:noindex
X-PUBLISHED-TTL:PT1H
BEGIN:VTIMEZONE
TZID:Europe/Warsaw
BEGIN:DAYLIGHT
TZOFFSETFROM:+0100
TZOFFSETTO:+0200
TZNAME:CEST
DTSTART:20180325T010000
END:DAYLIGHT
BEGIN:STANDARD
TZOFFSETFROM:+0200
TZOFFSETTO:+0100
TZNAME:CET
DTSTART:20181028T010000
END:STANDARD
BEGIN:DAYLIGHT
TZOFFSETFROM:+0100
TZOFFSETTO:+0200
TZNAME:CEST
DTSTART:20190331T010000
END:DAYLIGHT
BEGIN:STANDARD
TZOFFSETFROM:+0200
TZOFFSETTO:+0100
TZNAME:CET
DTSTART:20191027T010000
END:STANDARD
BEGIN:DAYLIGHT
TZOFFSETFROM:+0100
TZOFFSETTO:+0200
TZNAME:CEST
DTSTART:20200329T010000
END:DAYLIGHT
BEGIN:STANDARD
TZOFFSETFROM:+0200
TZOFFSETTO:+0100
TZNAME:CET
DTSTART:20201025T010000
END:STANDARD
END:VTIMEZONE
BEGIN:VEVENT
DTSTART;TZID=Europe/Warsaw:20190505T090000
DTEND;TZID=Europe/Warsaw:20190505T103000
DTSTAMP:20260424T133330
CREATED:20190109T073739Z
LAST-MODIFIED:20190109T073739Z
UID:17475-1557046800-1557052200@fundacjadantian.com
SUMMARY:Trening weekendowy
DESCRIPTION:Serdecznie zapraszamy pod Kordegardę na wspólny trening formy ręcznej Starego Stylu Yang oraz broni (miecz\, szabla\, kij). W razie deszczu widzimy się w Pawilonie Chińskim
URL:https://fundacjadantian.com/wydarzenie/trening-weekendowy-12-2019-05-05/
CATEGORIES:Trening weekendowy
ATTACH;FMTTYPE=image/jpeg:https://fundacjadantian.com/wp-content/uploads/2018/04/Swiatowy-Dzien-Taiji-i-Qigongu_3.jpg
END:VEVENT
BEGIN:VEVENT
DTSTART;TZID=Europe/Warsaw:20190510T180000
DTEND;TZID=Europe/Warsaw:20190510T210000
DTSTAMP:20260424T133330
CREATED:20190415T163800Z
LAST-MODIFIED:20190415T163800Z
UID:18568-1557511200-1557522000@fundacjadantian.com
SUMMARY:ŚWIADOMOŚĆ SERCA JAKO WARUNEK ROZWOJU OSOBISTEGO
DESCRIPTION:Serdecznie zapraszamy na spotkanie z Tomaszem Chodkowskim – autorem książki „Szczęście bajkami cerowane” \nTomasz Chodkowski to szczęśliwy mąż Urszuli Anny. Ojciec trzech synów: Mikołaja\, Jakuba i Igora\, który w swojej ponad dwudziestoletniej karierze zawodowej miał okazję obserwować tysiące szczęśliwych dzieci.\nW tym samym czasie spotkał bardzo niewielu szczęśliwych dorosłych ludzi. \nUkończył Studium Podyplomowe – Akademię Psychologii Przywódców\, opracowaną i prowadzoną wspólnie przez Grupę Firm Doradczych Values i Szkołę Biznesu Politechniki Warszawskiej oraz podyplomowe studia MBA Executive na Akademii Leona Koźmińskiego. \nObecnie prowadzi projekty doradcze i szuka możliwości propagowania życia w radości. \nTemat warsztatu: Świadomość Serca\, jako warunek rozwoju osobistego. \n  \n  \n\n  \n  \n\nZapraszamy na odrobinę nietypowe\, warsztatowo – bajkowe spotkanie\, na którym w słowach i obrazach przybliżymy podejście do tego: \nkim jesteśmy?\njak funkcjonujemy?\nstruktury komunikacji wewnętrznej\nprostych technik wizualizacyjno-oddechowych \nDziałania wypływające ze świadomości serca dają znacznie więcej radości\, poczucia sensu\ni szczęścia. Pomagają poprawiać relacje z otoczeniem\, pozwalają uzyskać spójność\, zdrowie i siłę.\nZ tego powodu warto zastanowić się nad tym: kto\, z kim\, kiedy i dlaczego\, gdzie jest wewnętrzne dziecko\, gdzie ja\, a gdzie moje ego. \nDary serca mają najwyższą wagę\, zarówno wtedy\, gdy otrzymują je inne osoby\, jak\ni wtedy gdy czynimy je sobie\, dlatego świadomość serca jest tak niezwykle ważna na drodze rozwoju osobistego. \nWarsztat dla osób poszukujących: sposobu na wyciszenie wewnętrznego niepokoju\, inspiracji do dalszego rozwoju osobistego\, wskazówek dotyczących życia z wysokim poczuciem szczęścia. \nWarsztat / spotkanie będzie trwało 3 godziny\nKoszt 70zł \nDajcie sobie możliwość wzbogacenia Waszego życia\, zdobycia wiedzy jak być szczęśliwym oraz przeżycia cudownego\, pełnego życzliwości i ciepła spotkania. \nZapraszamy\, Studio Dantian\, ul. Słupecka 4/37 \n\n+ KALENDARZ GOOGLE
URL:https://fundacjadantian.com/wydarzenie/swiadomosc-serca-jako-warunek-rozwoju-osobistego/
CATEGORIES:Studio Dantian
ATTACH;FMTTYPE=:
END:VEVENT
BEGIN:VEVENT
DTSTART;TZID=Europe/Warsaw:20190511T173000
DTEND;TZID=Europe/Warsaw:20190511T193000
DTSTAMP:20260424T133330
CREATED:20190315T094958Z
LAST-MODIFIED:20190315T094958Z
UID:18318-1557595800-1557603000@fundacjadantian.com
SUMMARY:Iaido – japoński miecz
DESCRIPTION:Z POWODU WYJAZDU SOKE MASANORI OGAWA\, ZAJĘCIA SOBOTNIE NIE ODBĘDĄ SIĘ. \nZAPRASZAMY NA KOLEJNE WE WTOREK I SOBOTĘ. \n  \nSerdecznie zapraszamy na regularne zajęcia z Soke Masanori Ogawa\, głową  szkoły World Iai Hyoho HakuroShuntoKai.Soke Ogawa urodzony i wychowany w dojo w Himeji\,  stworzył swoją gałąź\, a jako spadkobierca dorobku kultury japońskiej z radością chciałby podzielić się swoją wiedzą z każdym pragnącym się uczyć i poznawać Iai. KATA – JAPOŃSKA METODA KSZTAŁTOWANIA CIAŁA\, DUCHA I UMYSŁU – to układy\, będące podstawą stylu sztuki walki  dojo. Układy Kata nie tylko są nośnikami techniki ale również kształtują osobowość i psychikę ćwiczącego. Mają bardzo starą tradycję i mówi się o nich jako o „żywych istotach” ewoluujących wraz z czasem. Każdy z następnych mistrzów odpowiedzialnych za szkole\, dąży do dalszego rozwoju Kata\, ich skuteczności oraz dba o ich ciągłość historyczną. \n  \n  \n  \nZapraszamy na regularne zajęcia Iaido\, japońskiej sztuki władania  mieczem\, dla dorosłych. \nDwa razy w tygodniu 300zł \nRaz w tygodniu 150zł \nZajęcia trwają 2 godziny.
URL:https://fundacjadantian.com/wydarzenie/iaido-japonski-miecz-2019-05-11/
CATEGORIES:Studio Dantian
ATTACH;FMTTYPE=:
END:VEVENT
BEGIN:VEVENT
DTSTART;TZID=Europe/Warsaw:20190512T150000
DTEND;TZID=Europe/Warsaw:20190512T170000
DTSTAMP:20260424T133330
CREATED:20190417T120928Z
LAST-MODIFIED:20190417T120928Z
UID:18593-1557673200-1557680400@fundacjadantian.com
SUMMARY:QIGONG Z FUNDACJĄ DANTIAN W ŁOMIANKACH
DESCRIPTION:Serdecznie zapraszamy do poćwiczenia z nami w Centrum Kultury w Łomiankach z okazji wydarzenia promującego kulturę chińską\, zorganizowane przez Towarzystwo Przyjaźni Polsko-Chińskiej. \n  \n  \n  \n  \n  \n  \n  \n  \n12 maja 2019\, od  15.00 – 19.00 \nKawiarenka \nSunrise Import And Export Corporation – powstała w 1995 roku i jest jedną z pierwszych firm w Polsce importującą herbatę bezpośrednio z Chin. Specjalizuje się w produkcji i sprzedaży wszelkiego rodzaju herbaty chińskiej. Począwszy od szerokiej gamy herbat zielonych\, białych\, ciemnych\, czarnych\, pu-erh\, oolong aż po ręcznie robione herbaty „kwitnące”. \nPodczas wydarzenia będzie okazja spróbować herbat Sunrise Import and Export Corporation w kawiarence Centrum Kultury\, jak również zakupić ich produkty w sklepiku. \n  \n15:00 Lekcja qigongu – prozdrowotnej gimnastyki chińskiej \nJan Gliński – nauczyciel ósmej generacji Sztuk Walki Klasycznego Yang Taiji\, założyciel Fundacji Dantian\, promującejzdrowy tryb życia przy wykorzystaniu tradycyjnych\, dalekowschodnich systemów ćwiczeń ciała i umysłu\, takich jak taiji quan (tai chi chuan)\, qigong (chi kung) czy japońskie sztuki walki. \nQigong (czyt. czigong) jest integralną częścią Tradycyjnej Medycyny Chińskiej (TMC) o ponad pięciu tysiącach lat nieprzerwanej historii i udoskonalającej ewolucji. Jest to skuteczna metoda utrzymania zdrowia poprzez wolne\, świadome ruchy\, wykonywane z kontrolowanym oddechem i koncentracją umysłu. \nĆwiczenia qigongu są często bardzo proste do zapamiętania i powtórzenia i mogą być praktykowane w każdym wieku i kondycji fizycznej. Istnieją zestawy ćwiczeń do wykonywania na siedząco\, leżąco\, przy poważnych ograniczeniach ruchowych\, problemach z utrzymaniem równowagi czy koncentracją umysłu\, itp. \nZaprezentowane zostaną wybrane ćwiczenia z najczęściej praktykowanych zestawów o dowiedzionej skuteczności profilaktycznej i leczniczej\, jak Ba Duan Jin (Osiem Kawałków Brokatu) oraz Wu Qin Xi (Ćwiczenia Pięciu Zwierząt). \n  \n16:00 Wykład o religiach chin \nPiotr Dutkiewicz – doktorant na Uniwersytecie Marie Curie-Skłodowskiej\, magister Politologii i absolwent Sinologii na Uniwersytecie Warszawskim. \nW swoim wystąpieniu przedstawi jakie religie i gdzie występują na terytorium Chin. Zaprezentuje zróżnicowanie religijne oraz pochodzenie danych religii w Chinach. Przybliży\,  w jaki sposób religie w Chińskiej Republice Ludowej egzystują w przestrzeni publicznej przy założeniu\, że Chiny są państwem laickim. Przedstawi również przypadki kontroli religii w Chińskiej Republice Ludowej. \n17:00 Pokaz tańca  \n  \n18:00 Pokaz zdjęć z podróży \nEwelina Horoszkiewicz – absolwentka Zarządzania i Sinologii na Uniwersytecie Warszawskim\, członek zespołu projektowego w Centrum Studiów Polska Azja\, członkini Towarzystwa Przyjaźni Polsko-Chińskiej. \nPodczas swojego wystąpienia zaprezentuje fotografie z miesięcznej podróży wzdłuż wschodniego wybrzeża Chin. Pokaże nam zarówno największe metropolie jak Pekin i Szanghaj oraz mniejsze miasta jak Pingyao\, które ma swoje miejsce na liście światowego dziedzictwa UNESCO. Opowie o życiu codziennym i zwyczajach mieszkańców tego najludniejszego państwa na świecie. Przybliży jego niezwykłe bogactwo i różnorodność kulturową. \n 
URL:https://fundacjadantian.com/wydarzenie/qigong-z-fundacja-dantian-w-lomiankach/
CATEGORIES:Qigong
ATTACH;FMTTYPE=image/jpeg:https://fundacjadantian.com/wp-content/uploads/2017/10/Dzien-Seniora-Ogrod-Saski_10.jpg
END:VEVENT
BEGIN:VEVENT
DTSTART;TZID=Europe/Warsaw:20190515T180000
DTEND;TZID=Europe/Warsaw:20190515T193000
DTSTAMP:20260424T133330
CREATED:20181212T092516Z
LAST-MODIFIED:20181212T092516Z
UID:17246-1557943200-1557948600@fundacjadantian.com
SUMMARY:Qigong Słupecka 4
DESCRIPTION:W terminie 15.05 – 30.05 zajęcia Taiji (poniedziałek i środa godz. 20.00)oraz Qigongu (poniedziałek i środa godz. 18.00) są odwołane z powodu wyjazdu instruktorów na Festiwal naszego stylu Yang Taijiquan do Japonii.  \n  \nZapraszamy na wprowadzające zajęcia Qigongu do Studia Dantian. Spotkania są dedykowane wszystkim zainteresowanym poznaniem tego dalekowschodniego systemu ćwiczeń. Poznamy zestaw ćwiczeń przygotowawczych\, dowiemy się jak oddychać przeponowo oraz jak wizualizacje  i nasza wyobraźnia wzbogacają ćwiczenia.
URL:https://fundacjadantian.com/wydarzenie/qigong-slupecka-4-2-2019-05-15/
CATEGORIES:Studio Dantian
ATTACH;FMTTYPE=image/jpeg:https://fundacjadantian.com/wp-content/uploads/2018/04/Wiosenny-triathlon-qigongu_2.jpg
END:VEVENT
BEGIN:VEVENT
DTSTART;TZID=Europe/Warsaw:20190515T200000
DTEND;TZID=Europe/Warsaw:20190515T213000
DTSTAMP:20260424T133330
CREATED:20180920T102335Z
LAST-MODIFIED:20180920T102335Z
UID:18645-1557950400-1557955800@fundacjadantian.com
SUMMARY:Taiji grupa początkująca - Słupecka 4
DESCRIPTION:W terminie 15.05 – 30.05 zajęcia Taiji (poniedziałek i środa godz. 20.00)oraz Qigongu (poniedziałek i środa godz. 18.00) są odwołane z powodu wyjazdu instruktorów na Festiwal naszego stylu Yang Taijiquan do Japonii.  \nCEL KURSU: \nNauka zestawu ćwiczeń przygotowawczych oraz – od początku – długiej formy Yang Jia Lao Jia („Starego Stylu Szkoły Yang”) Taiji Quan http://www.youtube.com/watch?v=Ja2BKK_aOJk. \nWARUNKI UCZESTNICTWA: \nWewnętrzna silna motywacja.\nDeklaracja regularnej\, indywidualnej pracy z samym sobą. \nUbiór: strój sportowy nie krępujący szerokich ruchów\, wygodne obuwie na płaskiej podeszwie. \n************************************************************************************************** \nWitam wszystkich zainteresowanych wstąpieniem na drogę Starego Stylu Yang Taijiquan\, \nPodobnie jak w ubiegłych latach\, organizuję ten kurs z intencją trwałego zakorzenienia Starego Stylu Szkoły Yang Taiji Quan w naszym kraju\, dla osób które pociąga perspektywa poświęcenia wielu lat regularnej pracy nad sobą poprzez naukę tego stylu i które z czasem staną się jego adeptami\, nauczycielami i mistrzami. \nSerdecznie zapraszam silnie zmotywowanych – pierwsze zajęcia gratis! \nJan Gliński \n*************************************************************************************************** \nKurs dla grupy początkującej w 2018 informacje oraz pytania proszę kierować na adres (jan.glinski@fundacjadantian.com) \nCENNIK: https://fundacjadantian.com/cennik/ \nZajęcia odbywają się na ul. Słupeckiej 4\, Stara Ochota\, poniedziałki i środy od 20.00 – 21.30\nhttps://fundacjadantian.com/kalendarz/ \nLink do ćwiczeń przygotowawaczych:
URL:https://fundacjadantian.com/wydarzenie/taiji-grupa-poczatkujaca-slupecka-4-2019-05-15/
CATEGORIES:Studio Dantian
ATTACH;FMTTYPE=image/jpeg:https://fundacjadantian.com/wp-content/uploads/2015/12/Madalinskiego_4.jpg
END:VEVENT
BEGIN:VEVENT
DTSTART;TZID=Europe/Warsaw:20190520T180000
DTEND;TZID=Europe/Warsaw:20190520T193000
DTSTAMP:20260424T133330
CREATED:20181212T090952Z
LAST-MODIFIED:20181212T090952Z
UID:17197-1558375200-1558380600@fundacjadantian.com
SUMMARY:Qigong Słupecka 4
DESCRIPTION:W terminie 15.05 – 30.05 zajęcia Taiji (poniedziałek i środa godz. 20.00)oraz Qigongu (poniedziałek i środa godz. 18.00) są odwołane z powodu wyjazdu instruktorów na Festiwal naszego stylu Yang Taijiquan do Japonii.  \nZapraszamy na wprowadzające zajęcia Qigongu do Studia Dantian. Spotkania są dedykowane wszystkim zainteresowanym poznaniem tego dalekowschodniego systemu ćwiczeń. Poznamy zestaw ćwiczeń przygotowawczych\, dowiemy się jak oddychać przeponowo oraz jak wizualizacje  i nasza wyobraźnia wzbogacają ćwiczenia.
URL:https://fundacjadantian.com/wydarzenie/qigong-slupecka-4-2019-05-20/
CATEGORIES:Studio Dantian
ATTACH;FMTTYPE=:
END:VEVENT
BEGIN:VEVENT
DTSTART;TZID=Europe/Warsaw:20190520T200000
DTEND;TZID=Europe/Warsaw:20190520T213000
DTSTAMP:20260424T133330
CREATED:20180920T102335Z
LAST-MODIFIED:20180920T102335Z
UID:18638-1558382400-1558387800@fundacjadantian.com
SUMMARY:Taiji grupa początkująca - Słupecka 4
DESCRIPTION:W terminie 15.05 – 30.05 zajęcia Taiji (poniedziałek i środa godz. 20.00)oraz Qigongu (poniedziałek i środa godz. 18.00) są odwołane z powodu wyjazdu instruktorów na Festiwal naszego stylu Yang Taijiquan do Japonii.  \nCEL KURSU: \nNauka zestawu ćwiczeń przygotowawczych oraz – od początku – długiej formy Yang Jia Lao Jia („Starego Stylu Szkoły Yang”) Taiji Quan http://www.youtube.com/watch?v=Ja2BKK_aOJk. \nWARUNKI UCZESTNICTWA: \nWewnętrzna silna motywacja.\nDeklaracja regularnej\, indywidualnej pracy z samym sobą. \nUbiór: strój sportowy nie krępujący szerokich ruchów\, wygodne obuwie na płaskiej podeszwie. \n************************************************************************************************** \nWitam wszystkich zainteresowanych wstąpieniem na drogę Starego Stylu Yang Taijiquan\, \nPodobnie jak w ubiegłych latach\, organizuję ten kurs z intencją trwałego zakorzenienia Starego Stylu Szkoły Yang Taiji Quan w naszym kraju\, dla osób które pociąga perspektywa poświęcenia wielu lat regularnej pracy nad sobą poprzez naukę tego stylu i które z czasem staną się jego adeptami\, nauczycielami i mistrzami. \nSerdecznie zapraszam silnie zmotywowanych – pierwsze zajęcia gratis! \nJan Gliński \n*************************************************************************************************** \nKurs dla grupy początkującej w 2018 informacje oraz pytania proszę kierować na adres (jan.glinski@fundacjadantian.com) \nCENNIK: https://fundacjadantian.com/cennik/ \nZajęcia odbywają się na ul. Słupeckiej 4\, Stara Ochota\, poniedziałki i środy od 20.00 – 21.30\nhttps://fundacjadantian.com/kalendarz/ \nLink do ćwiczeń przygotowawaczych:
URL:https://fundacjadantian.com/wydarzenie/taiji-grupa-poczatkujaca-slupecka-4-2019-05-20/
CATEGORIES:Studio Dantian
ATTACH;FMTTYPE=image/jpeg:https://fundacjadantian.com/wp-content/uploads/2015/12/Madalinskiego_4.jpg
END:VEVENT
BEGIN:VEVENT
DTSTART;TZID=Europe/Warsaw:20190522T180000
DTEND;TZID=Europe/Warsaw:20190522T193000
DTSTAMP:20260424T133330
CREATED:20181212T092517Z
LAST-MODIFIED:20181212T092517Z
UID:17247-1558548000-1558553400@fundacjadantian.com
SUMMARY:Qigong Słupecka 4
DESCRIPTION:W terminie 15.05 – 30.05 zajęcia Taiji (poniedziałek i środa godz. 20.00)oraz Qigongu (poniedziałek i środa godz. 18.00) są odwołane z powodu wyjazdu instruktorów na Festiwal naszego stylu Yang Taijiquan do Japonii.  \nZapraszamy na wprowadzające zajęcia Qigongu do Studia Dantian. Spotkania są dedykowane wszystkim zainteresowanym poznaniem tego dalekowschodniego systemu ćwiczeń. Poznamy zestaw ćwiczeń przygotowawczych\, dowiemy się jak oddychać przeponowo oraz jak wizualizacje  i nasza wyobraźnia wzbogacają ćwiczenia.
URL:https://fundacjadantian.com/wydarzenie/qigong-slupecka-4-2-2019-05-22/
CATEGORIES:Studio Dantian
ATTACH;FMTTYPE=image/jpeg:https://fundacjadantian.com/wp-content/uploads/2018/04/Wiosenny-triathlon-qigongu_2.jpg
END:VEVENT
BEGIN:VEVENT
DTSTART;TZID=Europe/Warsaw:20190522T200000
DTEND;TZID=Europe/Warsaw:20190522T213000
DTSTAMP:20260424T133330
CREATED:20180920T102335Z
LAST-MODIFIED:20180920T102335Z
UID:18646-1558555200-1558560600@fundacjadantian.com
SUMMARY:Taiji grupa początkująca - Słupecka 4
DESCRIPTION:W terminie 15.05 – 30.05 zajęcia Taiji (poniedziałek i środa godz. 20.00)oraz Qigongu (poniedziałek i środa godz. 18.00) są odwołane z powodu wyjazdu instruktorów na Festiwal naszego stylu Yang Taijiquan do Japonii.  \nCEL KURSU: \nNauka zestawu ćwiczeń przygotowawczych oraz – od początku – długiej formy Yang Jia Lao Jia („Starego Stylu Szkoły Yang”) Taiji Quan http://www.youtube.com/watch?v=Ja2BKK_aOJk. \nWARUNKI UCZESTNICTWA: \nWewnętrzna silna motywacja.\nDeklaracja regularnej\, indywidualnej pracy z samym sobą. \nUbiór: strój sportowy nie krępujący szerokich ruchów\, wygodne obuwie na płaskiej podeszwie. \n************************************************************************************************** \nWitam wszystkich zainteresowanych wstąpieniem na drogę Starego Stylu Yang Taijiquan\, \nPodobnie jak w ubiegłych latach\, organizuję ten kurs z intencją trwałego zakorzenienia Starego Stylu Szkoły Yang Taiji Quan w naszym kraju\, dla osób które pociąga perspektywa poświęcenia wielu lat regularnej pracy nad sobą poprzez naukę tego stylu i które z czasem staną się jego adeptami\, nauczycielami i mistrzami. \nSerdecznie zapraszam silnie zmotywowanych – pierwsze zajęcia gratis! \nJan Gliński \n*************************************************************************************************** \nKurs dla grupy początkującej w 2018 informacje oraz pytania proszę kierować na adres (jan.glinski@fundacjadantian.com) \nCENNIK: https://fundacjadantian.com/cennik/ \nZajęcia odbywają się na ul. Słupeckiej 4\, Stara Ochota\, poniedziałki i środy od 20.00 – 21.30\nhttps://fundacjadantian.com/kalendarz/ \nLink do ćwiczeń przygotowawaczych:
URL:https://fundacjadantian.com/wydarzenie/taiji-grupa-poczatkujaca-slupecka-4-2019-05-22/
CATEGORIES:Studio Dantian
ATTACH;FMTTYPE=image/jpeg:https://fundacjadantian.com/wp-content/uploads/2015/12/Madalinskiego_4.jpg
END:VEVENT
BEGIN:VEVENT
DTSTART;TZID=Europe/Warsaw:20190527T180000
DTEND;TZID=Europe/Warsaw:20190527T193000
DTSTAMP:20260424T133330
CREATED:20181212T090952Z
LAST-MODIFIED:20181212T090952Z
UID:17198-1558980000-1558985400@fundacjadantian.com
SUMMARY:Qigong Słupecka 4
DESCRIPTION:W terminie 15.05 – 30.05 zajęcia Taiji (poniedziałek i środa godz. 20.00)oraz Qigongu (poniedziałek i środa godz. 18.00) są odwołane z powodu wyjazdu instruktorów na Festiwal naszego stylu Yang Taijiquan do Japonii.  \nZapraszamy na wprowadzające zajęcia Qigongu do Studia Dantian. Spotkania są dedykowane wszystkim zainteresowanym poznaniem tego dalekowschodniego systemu ćwiczeń. Poznamy zestaw ćwiczeń przygotowawczych\, dowiemy się jak oddychać przeponowo oraz jak wizualizacje  i nasza wyobraźnia wzbogacają ćwiczenia.
URL:https://fundacjadantian.com/wydarzenie/qigong-slupecka-4-2019-05-27/
CATEGORIES:Studio Dantian
ATTACH;FMTTYPE=:
END:VEVENT
BEGIN:VEVENT
DTSTART;TZID=Europe/Warsaw:20190527T200000
DTEND;TZID=Europe/Warsaw:20190527T213000
DTSTAMP:20260424T133330
CREATED:20180920T102335Z
LAST-MODIFIED:20180920T102335Z
UID:18639-1558987200-1558992600@fundacjadantian.com
SUMMARY:Taiji grupa początkująca - Słupecka 4
DESCRIPTION:W terminie 15.05 – 30.05 zajęcia Taiji (poniedziałek i środa godz. 20.00)oraz Qigongu (poniedziałek i środa godz. 18.00) są odwołane z powodu wyjazdu instruktorów na Festiwal naszego stylu Yang Taijiquan do Japonii.  \nCEL KURSU: \nNauka zestawu ćwiczeń przygotowawczych oraz – od początku – długiej formy Yang Jia Lao Jia („Starego Stylu Szkoły Yang”) Taiji Quan http://www.youtube.com/watch?v=Ja2BKK_aOJk. \nWARUNKI UCZESTNICTWA: \nWewnętrzna silna motywacja.\nDeklaracja regularnej\, indywidualnej pracy z samym sobą. \nUbiór: strój sportowy nie krępujący szerokich ruchów\, wygodne obuwie na płaskiej podeszwie. \n************************************************************************************************** \nWitam wszystkich zainteresowanych wstąpieniem na drogę Starego Stylu Yang Taijiquan\, \nPodobnie jak w ubiegłych latach\, organizuję ten kurs z intencją trwałego zakorzenienia Starego Stylu Szkoły Yang Taiji Quan w naszym kraju\, dla osób które pociąga perspektywa poświęcenia wielu lat regularnej pracy nad sobą poprzez naukę tego stylu i które z czasem staną się jego adeptami\, nauczycielami i mistrzami. \nSerdecznie zapraszam silnie zmotywowanych – pierwsze zajęcia gratis! \nJan Gliński \n*************************************************************************************************** \nKurs dla grupy początkującej w 2018 informacje oraz pytania proszę kierować na adres (jan.glinski@fundacjadantian.com) \nCENNIK: https://fundacjadantian.com/cennik/ \nZajęcia odbywają się na ul. Słupeckiej 4\, Stara Ochota\, poniedziałki i środy od 20.00 – 21.30\nhttps://fundacjadantian.com/kalendarz/ \nLink do ćwiczeń przygotowawaczych:
URL:https://fundacjadantian.com/wydarzenie/taiji-grupa-poczatkujaca-slupecka-4-2019-05-27/
CATEGORIES:Studio Dantian
ATTACH;FMTTYPE=image/jpeg:https://fundacjadantian.com/wp-content/uploads/2015/12/Madalinskiego_4.jpg
END:VEVENT
BEGIN:VEVENT
DTSTART;TZID=Europe/Warsaw:20190529T180000
DTEND;TZID=Europe/Warsaw:20190529T193000
DTSTAMP:20260424T133330
CREATED:20181212T092517Z
LAST-MODIFIED:20181212T092517Z
UID:17248-1559152800-1559158200@fundacjadantian.com
SUMMARY:Qigong Słupecka 4
DESCRIPTION:W terminie 15.05 – 30.05 zajęcia Taiji (poniedziałek i środa godz. 20.00)oraz Qigongu (poniedziałek i środa godz. 18.00) są odwołane z powodu wyjazdu instruktorów na Festiwal naszego stylu Yang Taijiquan do Japonii.  \nZapraszamy na wprowadzające zajęcia Qigongu do Studia Dantian. Spotkania są dedykowane wszystkim zainteresowanym poznaniem tego dalekowschodniego systemu ćwiczeń. Poznamy zestaw ćwiczeń przygotowawczych\, dowiemy się jak oddychać przeponowo oraz jak wizualizacje  i nasza wyobraźnia wzbogacają ćwiczenia.
URL:https://fundacjadantian.com/wydarzenie/qigong-slupecka-4-2-2019-05-29/
CATEGORIES:Studio Dantian
ATTACH;FMTTYPE=image/jpeg:https://fundacjadantian.com/wp-content/uploads/2018/04/Wiosenny-triathlon-qigongu_2.jpg
END:VEVENT
BEGIN:VEVENT
DTSTART;TZID=Europe/Warsaw:20190529T200000
DTEND;TZID=Europe/Warsaw:20190529T213000
DTSTAMP:20260424T133330
CREATED:20180920T102335Z
LAST-MODIFIED:20180920T102335Z
UID:18647-1559160000-1559165400@fundacjadantian.com
SUMMARY:Taiji grupa początkująca - Słupecka 4
DESCRIPTION:W terminie 15.05 – 30.05 zajęcia Taiji (poniedziałek i środa godz. 20.00)oraz Qigongu (poniedziałek i środa godz. 18.00) są odwołane z powodu wyjazdu instruktorów na Festiwal naszego stylu Yang Taijiquan do Japonii.  \nCEL KURSU: \nNauka zestawu ćwiczeń przygotowawczych oraz – od początku – długiej formy Yang Jia Lao Jia („Starego Stylu Szkoły Yang”) Taiji Quan http://www.youtube.com/watch?v=Ja2BKK_aOJk. \nWARUNKI UCZESTNICTWA: \nWewnętrzna silna motywacja.\nDeklaracja regularnej\, indywidualnej pracy z samym sobą. \nUbiór: strój sportowy nie krępujący szerokich ruchów\, wygodne obuwie na płaskiej podeszwie. \n************************************************************************************************** \nWitam wszystkich zainteresowanych wstąpieniem na drogę Starego Stylu Yang Taijiquan\, \nPodobnie jak w ubiegłych latach\, organizuję ten kurs z intencją trwałego zakorzenienia Starego Stylu Szkoły Yang Taiji Quan w naszym kraju\, dla osób które pociąga perspektywa poświęcenia wielu lat regularnej pracy nad sobą poprzez naukę tego stylu i które z czasem staną się jego adeptami\, nauczycielami i mistrzami. \nSerdecznie zapraszam silnie zmotywowanych – pierwsze zajęcia gratis! \nJan Gliński \n*************************************************************************************************** \nKurs dla grupy początkującej w 2018 informacje oraz pytania proszę kierować na adres (jan.glinski@fundacjadantian.com) \nCENNIK: https://fundacjadantian.com/cennik/ \nZajęcia odbywają się na ul. Słupeckiej 4\, Stara Ochota\, poniedziałki i środy od 20.00 – 21.30\nhttps://fundacjadantian.com/kalendarz/ \nLink do ćwiczeń przygotowawaczych:
URL:https://fundacjadantian.com/wydarzenie/taiji-grupa-poczatkujaca-slupecka-4-2019-05-29/
CATEGORIES:Studio Dantian
ATTACH;FMTTYPE=image/jpeg:https://fundacjadantian.com/wp-content/uploads/2015/12/Madalinskiego_4.jpg
END:VEVENT
END:VCALENDAR