BEGIN:VCALENDAR
VERSION:2.0
PRODID:-//Fundacja Dantian - ECPv6.15.20//NONSGML v1.0//EN
CALSCALE:GREGORIAN
METHOD:PUBLISH
X-WR-CALNAME:Fundacja Dantian
X-ORIGINAL-URL:https://fundacjadantian.com
X-WR-CALDESC:Wydarzenia dla Fundacja Dantian
REFRESH-INTERVAL;VALUE=DURATION:PT1H
X-Robots-Tag:noindex
X-PUBLISHED-TTL:PT1H
BEGIN:VTIMEZONE
TZID:Europe/Warsaw
BEGIN:DAYLIGHT
TZOFFSETFROM:+0100
TZOFFSETTO:+0200
TZNAME:CEST
DTSTART:20180325T010000
END:DAYLIGHT
BEGIN:STANDARD
TZOFFSETFROM:+0200
TZOFFSETTO:+0100
TZNAME:CET
DTSTART:20181028T010000
END:STANDARD
BEGIN:DAYLIGHT
TZOFFSETFROM:+0100
TZOFFSETTO:+0200
TZNAME:CEST
DTSTART:20190331T010000
END:DAYLIGHT
BEGIN:STANDARD
TZOFFSETFROM:+0200
TZOFFSETTO:+0100
TZNAME:CET
DTSTART:20191027T010000
END:STANDARD
BEGIN:DAYLIGHT
TZOFFSETFROM:+0100
TZOFFSETTO:+0200
TZNAME:CEST
DTSTART:20200329T010000
END:DAYLIGHT
BEGIN:STANDARD
TZOFFSETFROM:+0200
TZOFFSETTO:+0100
TZNAME:CET
DTSTART:20201025T010000
END:STANDARD
END:VTIMEZONE
BEGIN:VEVENT
DTSTART;TZID=Europe/Warsaw:20191213T180000
DTEND;TZID=Europe/Warsaw:20191213T200000
DTSTAMP:20260423T082031
CREATED:20191207T073950Z
LAST-MODIFIED:20191207T073950Z
UID:20497-1576260000-1576267200@fundacjadantian.com
SUMMARY:SPOTKANIE WIGILIJNE FUNDACJI DANTIAN
DESCRIPTION:Serdecznie zapraszamy na coroczne Spotkanie Wigilijne do Studia Dantian na Słupecką 4/137\, w piątek\, 13 grudnia\, o godz. 18.00. \nZabierzcie ze sobą zdrową przekąskę\, każdy wkład mile widziany ???? \nJak co roku organizujemy mini kiermasz\, na którym można będzie nabyć prezenty pod choinkę dla bliskich i dla siebie – jak zwykle dochód ze sprzedaży zasili działania naszej Fundacji. Tradycyjny również Qigong choinki\, poprowadzony przez naszego nauczyciela Jana Glińskiego\, uzyska w tym roku dodatkową muzyczną oprawę – o 18.30 zanurzymy się w magię dźwięków dzwonków Koshi\, mis tybetańskich i szamańskiego bębna. \nDodatkowe atrakcje na miejscu. Czekamy na Was i gorąco pozdrawiamy\, \nZespół Studia Dantian
URL:https://fundacjadantian.com/wydarzenie/spotkanie-wigilijne/
CATEGORIES:Studio Dantian
ATTACH;FMTTYPE=image/jpeg:https://fundacjadantian.com/wp-content/uploads/2019/12/Spotkanie-Wigilije-13-gr-2019-2.jpg
END:VEVENT
END:VCALENDAR