BEGIN:VCALENDAR
VERSION:2.0
PRODID:-//Fundacja Dantian - ECPv6.15.20//NONSGML v1.0//EN
CALSCALE:GREGORIAN
METHOD:PUBLISH
X-ORIGINAL-URL:https://fundacjadantian.com
X-WR-CALDESC:Wydarzenia dla Fundacja Dantian
REFRESH-INTERVAL;VALUE=DURATION:PT1H
X-Robots-Tag:noindex
X-PUBLISHED-TTL:PT1H
BEGIN:VTIMEZONE
TZID:Europe/Warsaw
BEGIN:DAYLIGHT
TZOFFSETFROM:+0100
TZOFFSETTO:+0200
TZNAME:CEST
DTSTART:20190331T010000
END:DAYLIGHT
BEGIN:STANDARD
TZOFFSETFROM:+0200
TZOFFSETTO:+0100
TZNAME:CET
DTSTART:20191027T010000
END:STANDARD
BEGIN:DAYLIGHT
TZOFFSETFROM:+0100
TZOFFSETTO:+0200
TZNAME:CEST
DTSTART:20200329T010000
END:DAYLIGHT
BEGIN:STANDARD
TZOFFSETFROM:+0200
TZOFFSETTO:+0100
TZNAME:CET
DTSTART:20201025T010000
END:STANDARD
BEGIN:DAYLIGHT
TZOFFSETFROM:+0100
TZOFFSETTO:+0200
TZNAME:CEST
DTSTART:20210328T010000
END:DAYLIGHT
BEGIN:STANDARD
TZOFFSETFROM:+0200
TZOFFSETTO:+0100
TZNAME:CET
DTSTART:20211031T010000
END:STANDARD
END:VTIMEZONE
BEGIN:VEVENT
DTSTART;TZID=Europe/Warsaw:20200306T180000
DTEND;TZID=Europe/Warsaw:20200306T203000
DTSTAMP:20260424T115430
CREATED:20200227T104049Z
LAST-MODIFIED:20200227T104049Z
UID:20950-1583517600-1583526600@fundacjadantian.com
SUMMARY:LECZĄCE WIBRACJE – MIĘDZY MISTYKĄ A FIZYKĄ
DESCRIPTION:Zapraszamy na prelekcję i warsztat dotyczące leczniczych właściwości wibracji i dźwięku. \nMistyk za narzędzie poznania ma własny organizm\, a fizyk – najnowocześniejszą aparaturę. \nObaj różnymi\, często przeciwstawnymi drogami\, doszli do podobnej wizji Wszechświata\, jako wzajemnego powiązania wszystkiego co istnieje w kosmiczną całość.\nA wszystko co istnieje i co łączy\, jest u swojej podstawy drganiem cytując za Albertem Einsteinem\, a i wieloma mistykami\, “Wszystko w życiu jest wibracją”. \nRóżne\, odczuwalne przez nasz organizm formy tych wibracji\, jak światło\, dźwięk\, impulsy elektromagnetyczne\, były i są szeroko stosowane w diagnostyce i terapii medycznej. \nNajdłuższą historię\, niezwykle bogatą\, ma tu dźwięk\, słyszany nie tylko przez nasze uszy\, ale oddziałujący na każdą komórkę naszego ciała. \nJak pisał Mitchell Gaynor\, nowojorski onkolog i profesor medycyny klinicznej Cornell University:\n„Dźwięk wchodzi do równania leczniczego z kilku kierunków: może zmieniać funkcje komórkowe poprzez efekty energetyczne\, może przyczyniać się do działania bardziej homeostatycznego systemów biologicznych\, może uspokajać umysł\, a więc i ciało\, lub może wywoływać efekty emocjonalne\, które wpływają na przekaźniki nerwowe i neuropeptydy\, które z kolei pomagają regulować układ odpornościowy będący naszym wewnętrznym uzdrowicielem.” \nWarsztat łączy teorię z praktyką wybranych tradycyjnych technik oddziaływania wibracji na organizm ludzki\, jak: \n~ Liu Zi Jue\, czyli Sześć Leczących Dźwięków\,\n~ Archaiczny qigong “Rytuał serca”\,\n~ Śpiewające misy tybetańskie czy..\n~ Szamańskie bębnienie. \nProwadzi Jan Gliński\, doktor nauk fizycznych i długoletni adept tradycyjnych\, dalekowschodnich metod treningu ciała\, umysłu i ducha. \nWarsztat będzie trwał 3 godziny\, zaczynamy o 18.00 \nKoszt 50zł \nIlość miejsc ograniczona\, decyduje kolejność zapisów. \nZapisy: studiodantian@gmail.com \nZapraszamy serdecznie!
URL:https://fundacjadantian.com/wydarzenie/leczace-wibracje-miedzy-mistyka-a-fizyka/
CATEGORIES:Studio Dantian
ATTACH;FMTTYPE=image/jpeg:https://fundacjadantian.com/wp-content/uploads/2017/04/Misy-3.jpg
END:VEVENT
BEGIN:VEVENT
DTSTART;TZID=Europe/Warsaw:20200313T180000
DTEND;TZID=Europe/Warsaw:20200313T200000
DTSTAMP:20260424T115430
CREATED:20200227T111331Z
LAST-MODIFIED:20200227T111331Z
UID:20953-1584122400-1584129600@fundacjadantian.com
SUMMARY:ODDECH METODĄ BUTEJKI 〜 WARSZTAT ~ ODWOŁANY
DESCRIPTION:Niestety\, w zaistniałej w kraju sytuacji\, warsztat zostaje odwołany.  \n  \n  \nZapraszamy do Studia Dantian na warsztaty oddychania metodą Butejki. Warsztaty poprowadzi Małgorzata Bochińska! \nPodczas warsztatów dowiesz się: \n〜 jak biegać wykorzystując najefektywniej swoje zasoby energetyczne i unikając kontuzji\n〜 jak oddychać\, aby więcej tlenu docierało do mięśni\, mózgu i poszczególnych organów\n〜 jak za pomocą oddechu wyciszyć rozbiegany umysł i poprawić zdrowie i kondycję\, koncentrując się świadomie na każdym kroku i oddechu \nPrzyjdź na warsztaty i odkryj możliwości swojego oddechu oraz odszukaj harmonię i wydajność w ruchu. Naucz się odpowiednio oddychać\, aby zyskać więcej energii\, lepiej dotlenić i odżywić tkanki\, unormować ciśnienie i spać spokojnie. \nJeśli chcesz dowiedzieć się więcej o metodzie Butejki oraz bliżej poznać Małgosię Bochińską\, zapraszamy do obejrzenia nagrania z ostatniej prelekcji ????https://youtu.be/RBS7ZToWK9A \n???? Inwestycja – 50 zł\n???? Zapisy na adres: studiodantian@gmail.com\n???? Miejsce: Studio Dantian\, ul. Słupecka 4/37 (Stara Ochota) \nWarsztaty poprowadzi: \nMałgorzata Bochińska — zawodowo: architekt wnętrz i deweloper. Nieustająco w drodze: od niecierpliwego poszukiwania równowagi – do momentów\, kiedy może ją poczuć i cieszyć się tą chwilą. Jest instruktorem metody biegania ChiRunning\, metody oddechowej Butejki i Tlenowej Przewagi Patryka McKeown. \nDo zobaczenia w Studio Dantian (ul. Słupecka 4/37) 13 marca!
URL:https://fundacjadantian.com/wydarzenie/oddech-metoda-butejki-%e3%80%9c-warsztat/
CATEGORIES:Studio Dantian
ATTACH;FMTTYPE=:
END:VEVENT
BEGIN:VEVENT
DTSTART;TZID=Europe/Warsaw:20200315T150000
DTEND;TZID=Europe/Warsaw:20200315T203000
DTSTAMP:20260424T115430
CREATED:20200227T122754Z
LAST-MODIFIED:20200227T122754Z
UID:20960-1584284400-1584304200@fundacjadantian.com
SUMMARY:PRANA – UMYSŁ I RZECZYWISTOŚĆ POZA UMYSŁEM
DESCRIPTION:Z przykrością zawiadamiamy że nie odbędzie się spotkanie z Profesorem Raghuramji.  \nNiestety koronavirus dotknął negatywnie nasze plany\, Prof Raghuramji nie przyleci do Europy\, \nNiemcy nie wpuszczają mieszkańców z Azji zatem zmuszenie jesteśmy odwołać nasze spotkanie.\n  \nZapraszamy do Studia Dantian na wykład oraz warsztaty naukowe i praktyczne z guru filozofii jogi – z Prof. N.V. Raghuram z SVYASA Yoga University Bangalore! \nTo spotkanie z niezwykłym i cenionym nauczycielem\, dedykowane osobom pragnącym pogłębić swoją wiedzę na temat jogi. \nWykład i warsztaty tłumaczy z języka angielskiego dr Krzysztof Stec – jogin\, naukowiec\, autor książek i publikacji na temat jogi\, miłośnik Indii\, podróżnik. \n〜 HARMONOGRAM WYDARZEŃ 〜 \n???? 15.00 | WYKŁAD PRANA (CHI) 〜 UMYSŁ I RZECZYWISTOŚĆ POZA UMYSŁEM (1\,5 h) \n  \n  \nWiele osób na świecie ćwiczy praktyki związane z CHI (Qi)\, takie jak joga\, która w ostatnich latach zyskała niezwykłą popularność. Jednak niewiele z praktykujących ma wiedzę na temat wzajemnych powiązań chi i jogi oraz tego\, dokąd ostatecznie obie te praktyki mogą nas zaprowadzić jeśli są wykonywane prawidłowo. \nIstota ludzka jest kompleksem składającym się z ciała\, prany\, umysłu oraz świadomości. Wyjątkowe w tych praktykach jest to\, że pomagają nam one przejść od identyfikacji ciała na poziomie fizycznym do subtelnej świadomości (jaźni) głęboko w sobie. W ten sposób możemy korzystać z ciała\, prany i umysłu w bardziej oświecony sposób. \n???? 16.30 | WYSTĘP TANECZNY BHARATANATYAM\, który wykona artystka Shilpa Abhiram z Bangalore (ok. 30 min) \n► Wstęp na wykład i pokaz taneczny wolny!\n► Ilość miejsc ograniczona\, obowiązują zapisy na adres: studiodantian@gmail.com \n???? 17.00 | WARSZTATY 〜 CZĘŚĆ TEORETYCZNA I PRAKTYCZNA (ok 3 – 3\,5 h) \n???? SESJA I \nNiezwykle bliskie praktykom CHI są praktyki pranajamy oraz nieco mniej znane praktyki zwane krijami. Jak je poznać?\nNajlepiej poprzez doświadczenie i jednoczesne wdrożenie ich w życie\, aby mogły na nas bezpośrednio oddziaływać. \nNad tym będziemy pracować podczas pierwszej sesji warsztatów\, które będą równomiernie podzielone na część teoretyczną i ćwiczeniową. \nCzas trwania warsztatów ok. półtorej godziny. \n???? SESJA II \nObecnie rozróżniamy wiele technik medytacyjnych\, a wielu ekspertów próbuje sprawić\, by te sesje medytacji były bardzo mistyczne. Niestety bez odpowiednio wyszkolonego nauczyciela mogą być niebezpieczne. Jak uniknąć tych błędów? \nTu pomocny będzie właściwy sposób prezentacji teorii i mechanizmu medytacji oraz prawidłowo poprowadzona sesja praktyczna – nad czym będziemy koncentrować się podczas drugiej sesji. \nSesja II (wykład i praktyka medytacji) potrwa do półtorej godziny. Będzie zawierać również intonowane oryginalne mantry w sanskrycie\, pochodzące z ponad dziesięciu tysięcy lat! \n► Inwestycja w warsztaty – 150 zł przy zgłoszeniu udziału do środy do 11 marca. W dniu warsztatu cena wynosi – 180 zł \n► Ilość miejsc ograniczona\, obowiązują zapisy na adres: studiodantian@gmail.com \n???? WIĘCEJ O PROF. N.V. RAGHURAM \nProf. N.V. Raghuram jest założycielem i przewodniczącym fundacji Yoga Bharati oraz członkiem rady doradczej Dhruva Management Institute. Uczeń Swamiego Prabhuddhanandy i prof. Satyanarayana Shastri. Filozofię jogi wykładał w krajach Europy\, Azji i w Stanach Zjednoczonych. Od 2003 naucza filozofii jogi w Uniwersytecie Jogi im. Swamiego Vivekanandy w Bangalore\, w Indiach. Za swoją działalność związaną z propagowaniem jogi został odznaczony m.in. nagrodą Yoga Master Padma Vibhusha Dr BKS Iyengar.
URL:https://fundacjadantian.com/wydarzenie/prana-umysl-i-rzeczywistosc-poza-umyslem/
CATEGORIES:Studio Dantian
ATTACH;FMTTYPE=:
END:VEVENT
BEGIN:VEVENT
DTSTART;TZID=Europe/Warsaw:20200320T180000
DTEND;TZID=Europe/Warsaw:20200320T210000
DTSTAMP:20260424T115430
CREATED:20200301T122637Z
LAST-MODIFIED:20200301T122637Z
UID:20977-1584727200-1584738000@fundacjadantian.com
SUMMARY:POSZUKIWANIE SKARBÓW DLA LENIWYCH ~ WARSZTAT ODWOŁANY
DESCRIPTION:Zapraszamy do Studia Dantian na warsztaty rozwoju osobistego\, które poprowadzi Tomasz Chodkowski (z Poczucie Szczęścia – Tomasz Chodkowski) \nNawiązując do teorii „biologii przekonań” Bruce’a Liptona\, podczas warsztatu będziemy pracować nad tym: \n✔ jak rozpoznawać\, definiować i wykorzystywać własne\, podstawowe zasoby\n✔ jak uważnie obserwować\, rozpoznawać i odczytywać przekonania\n✔ jak przekonania wpływają na zarządzanie życiem \n  \n  \n✔ jak zmieniać przekonania\, by otworzyć możliwości korzystania ze wszystkich\nzasobów\n✔ jak sprawić\, by skarbem stały się rzeczy proste \nKorzyści płynące z warsztatu:\n✔ lepsze poznanie siebie\, tego co nami kieruje i tego co mamy we własnym zasięgu\n✔ sprawniejsze rozpoznawanie i nazywanie zasobów\, umiejętności\, kompetencji\ni przekonań\n✔ poszerzenie wiedzy o mechanizmach funkcjonowania człowieka.\n✔ podniesienie gotowości do rozpoznawania i zmiany własnych przekonań. \n???? Inwestycja – 90 zł\n???? Zapisy na adres: studiodantian@gmail.com\n???? Miejsce: Studio Dantian\, ul. Słupecka 4/37 (Stara Ochota) \nProwadzący warsztaty: \nTomasz Chodkowski – to autor nietypowego poradnika rozwoju osobistego dla osób poszukujących poczucia sensu\, szczęścia\, lepszego rozumienia siebie i otaczającego świata. \nZapraszamy! Przyjdź\, bo warto 🙂
URL:https://fundacjadantian.com/wydarzenie/poszukiwanie-skarbow-dla-leniwych-warsztat/
CATEGORIES:Studio Dantian
ATTACH;FMTTYPE=:
END:VEVENT
BEGIN:VEVENT
DTSTART;TZID=Europe/Warsaw:20200327T180000
DTEND;TZID=Europe/Warsaw:20200327T200000
DTSTAMP:20260424T115430
CREATED:20200301T124250Z
LAST-MODIFIED:20200301T124250Z
UID:20984-1585332000-1585339200@fundacjadantian.com
SUMMARY:ONLINE: MOC JEST Z TOBĄ 〜 PRELEKCJA DOROTY ZIEMBY-MIŁEK
DESCRIPTION:???? Zapraszamy na prelekcję ONLINE Doroty Ziemby-Milek! Uzdrawianie\, Transformacja i Rozwój Świadomością – to obszary\, które zgłębimy juz 27 marca. \n〜 Istnieje wiele poziomów naszej świadomości do których na co dzień nie mamy dostępu. Na tych poziomach ZAPISANE są nasze przekonania i dogmaty\, które warunkują naszą rzeczywistość. Nieświadomie żyjemy więc w „więzieniu” własnych\, nieświadomych zapisów. \n〜 Niestety\, przeciętny człowiek nie zdaje sobie sprawy z faktu\, że: \n◆ od momentu poczęcia w jego podświadomości zapisane są przekonania i doświadczenia rodowe\, które mogą zdeterminować doświadczenia życiowe\, \n◆ nasza podświadomość rejestruje wszystkie doświadczenia\, nauki i słowa płynące z naszego otoczenia\, \n◆ mamy zapisane w podświadomości przekonania zbiorowe naszego środowiska\, kraju i religii\, \n◆ podświadomość zapisuje pierwsze doświadczenia emocji (miłości\, strachu\, niezasługiwania itp.) jako wzorce naszych późniejszych relacji z otoczeniem. \nI choć czasem wolelibyśmy czuć i reagować inaczej\, wpadamy w dobrze nam znany schemat.. \n〜 Na całe szczęście istnieją metody\, które pozwalają odkryć i zmienić to\, co tej pory wydawało się silniejsze od nas! \n❓ Chcesz je odnaleźć? Zmienić? \nJeśli uświadomimy sobie i przeniesiemy na poziom świadomy\, to co do tej pory było nieuświadomione\, mechanizm zachowań przestaje działać automatycznie i odzyskujemy możliwość reagowania na różne sytuacje\, nie w zaprogramowany\, niezależny od nas sposób\, ale świadomie odzyskując możliwość kreowania naszego życia w taki sposób w jaki chcemy je doświadczać. \n???? Jak wziąć udział w prelekcji ONLINE? ???? \nInwestycja – 19 zł \n1️⃣ Formą zapisu jest przelew w wysokości 19 zł o tytule: Dorota Ziemba-Miłek – wykład online na konto Fundacji Dantian – Bank PKO SA\, nr konta: 06 1240 6218 1111 0010 7770 4082 \n2️⃣ Po wykonaniu przelewu\, prześlij nam potwierdzenie na email: studiodantian@gmail.com \n3️⃣ Dostaniesz od nas email zwrotny z zaproszeniem do wirtualnej platformy na której odbędzie się wykład \n❗️Uwaga ❗️ Zapisy i płatności przyjmujemy do 27 marca do godz. 15.00 \nW razie potrzeby\, służymy pomocą 🙂 \n???? Czas i miejsce spotkania? ???? \n???? Spotykamy się o godzinie 18.00 ONLINE na platformie ZOOM. Czas trwania – ok. 2 godziny. \n???? Wcześniej pobierz na komputer lub telefon bezpłatną aplikację ZOOM https://zoom.us/join \n???? Na godzinę przed spotkaniem otrzymasz od nas mail z linkiem do pokoju oraz ID i hasło do zalogowania się na wydarzenie \n〜 Prowadząca:\nDorota Ziemba-Milek – Konsultant Recall Healing i Psychogenealogii\, Hipnoterapeuta\, Certyfikowana terapeuta Kwantowego Uzdrawiania Hipnozą QHHT\, Praktyk SRT (Spiritual Response Therapy) \nZapraszamy! \n❓ZNASZ KOGOŚ KTO MÓGŁBY Z TEJ WIEDZY SKORZYSTAĆ? ZAPROŚ! OBIE STRONY BĘDĄ WDZIĘCZNE! 🙂
URL:https://fundacjadantian.com/wydarzenie/moc-jest-z-toba-%e3%80%9c-prelekcja-doroty-ziemby-milek/
CATEGORIES:Studio Dantian
ATTACH;FMTTYPE=:
END:VEVENT
BEGIN:VEVENT
DTSTART;TZID=Europe/Warsaw:20200328T180000
DTEND;TZID=Europe/Warsaw:20200328T200000
DTSTAMP:20260424T115430
CREATED:20200321T175748Z
LAST-MODIFIED:20200321T175748Z
UID:21039-1585418400-1585425600@fundacjadantian.com
SUMMARY:ONLINE: AUTOMASAŻ MERIDIANÓW 〜 WARSZTAT JANA GLIŃSKIEGO
DESCRIPTION:???? Zapraszamy na warsztat ONLINE 28 marca o godz. 18.00 z Janem Glińskim – długoletnim adeptem i nauczycielem dalekowschodnich sztuk walki i zdrowia. \nAutomasaż Meridianów jest uważany za najstarszą historycznie formę terapii manualnej. Spontanicznie reagujemy na bóle głowy czy mięśni masując\, uciskając bolące miejsca. \nW Chinach stopniowe odkrywanie sieci meridianów i związany z tym rozwój akupunktury\, zaowocował również wykorzystaniem tej wiedzy do rozwoju akupresury\, która może być dużo łatwiej niż akupunktura stosowana przez praktycznie każdego do autoterapii\, przy niewielkim ryzyku wystąpienia niepożądanych efektów ubocznych. \nW trakcie warsztatu omówimy na konkretnych przykładach często stosowane formy automasażu\, przedstawione w sposób niewymagający głębszej wiedzy o przebiegu meridianów i znajdujących się na nich punktów akupunktury\, koncentrując się na praktycznych radach masowania wybranych punktów związanych z często spotykanymi schorzeniami. \nJAK WZIĄĆ UDZIAŁ W WARSZTACIE ONLINE? \nInwestycja – 19 zł \n1️⃣ Formą zapisu jest przelew w wysokości 19 zł o tytule: Automasaż Meridianów – wykład online na konto Fundacji Dantian – Bank PKO SA\, nr konta: 06 1240 6218 1111 0010 7770 4082 \n2️⃣ Po wykonaniu przelewu\, prześlij nam potwierdzenie na email: studiodantian@gmail.com \n3️⃣ Dostaniesz od nas email zwrotny z zaproszeniem do wirtualnej platformy\, na której odbędzie się wykład\nUwaga! Zapisy i płatności przyjmujemy do 28 marca do godz. 15.00 \nCZAS I MIEJSCE SPOTKANIA? \nSpotykamy się o 28 marca o godzinie 18.00 ONLINE na platformie ZOOM. Czas trwania – ok. 1 godziny. \n1. Wcześniej pobierz na komputer lub telefon bezpłatną aplikację ZOOM https://zoom.us/join \n2. Na godzinę przed spotkaniem otrzymasz od nas mail z linkiem do pokoju oraz ID i hasło do zalogowania się na wydarzenie \nW razie potrzeby\, służymy pomocą ???? \nZapraszamy po wiedzę!
URL:https://fundacjadantian.com/wydarzenie/online-automasaz-meridianow-%e3%80%9c-warsztat-jana-glinskiego/
CATEGORIES:Studio Dantian
ATTACH;FMTTYPE=image/jpeg:https://fundacjadantian.com/wp-content/uploads/2020/03/automasaz.jpg
END:VEVENT
BEGIN:VEVENT
DTSTART;TZID=Europe/Warsaw:20200329T170000
DTEND;TZID=Europe/Warsaw:20200329T190000
DTSTAMP:20260424T115430
CREATED:20200227T121735Z
LAST-MODIFIED:20200227T121735Z
UID:20956-1585501200-1585508400@fundacjadantian.com
SUMMARY:ONLINE:  ROLA POWIĘZI W PRACY Z CIAŁEM ORAZ TERAPIA BLIZN ~ PRELEKCJA
DESCRIPTION:Jak przynieść ulgę ciału pracując z powięzią? Zapraszamy na prelekcję ???? ONLINE\, dzięki której poznasz metody pracy z tkanką powięziową: Rolfing® oraz Terapię Blizn wg metody ScarWork™. Prelekcję poprowadzi Anna Święcka-Głowacka. \n〜 Bez względu na źródło pochodzenia bólu jest to doświadczenie dewastujące jakość życia cierpiącego człowieka. Przedstawione podczas prelekcji podejście reprezentuje niemedyczny i niefarmakologiczny sposób radzenia sobie z bólem\, ale także ze sztywnością i napięciem wynikającymi z przebytej operacji\, wypadku\, traumy czy chronicznego stresu. \n〜 Biorąc udział w prelekcji\, dowiesz się: \n〜 czym jest Rolfing®. Poznasz tą holistyczną\, manualną metodę pracy z ciałem koncentrującej się na tkance powięziowej\, której celem jest uwolnienie głęboko zakorzenionych napięć oraz bólu. \n〜 czym jest terapia blizn ScarWork™ \, czyli metoda pracy z bliznami pooperacyjnymi\, po poparzeniach lub po chemioterapii. Dowiesz się\, jak działa dotyk terapeuty w oparciu o zebrane dane naukowe oraz jakie przynosi korzyści i czego można się spodziewać. \n???? Jak wziąć udział w prelekcji ONLINE? \nInwestycja – 19 zł \n1️⃣ Formą zapisu jest przelew w wysokości 19 zł o tytule: Anna Święcka – Głowacka – wykład online na konto Fundacji Dantian – Bank PKO SA\, nr konta 06 1240 6218 1111 0010 7770 4082 \n2️⃣ Po wykonaniu przelewu\, prześlij nam potwierdzenie na email: studiodantian@gmail.com \n3️⃣ Dostaniesz od nas email zwrotny z zaproszeniem do wirtualnej platformy\, na której odbędzie się wykład \n❗️Uwaga! Zapisy i płatności przyjmujemy do 29 marca dnia do godz. 15.00 \n???? Czas i miejsce spotkania? \n???? Czas trwania – 2 godziny Spotykamy się o godzinie 18.00 ONLINE na platformie ZOOM. \n???? Pobierz na komputer lub telefon bezpłatną aplikację ZOOM: https://zoom.us/join \n???? Na godzinę przed spotkaniem otrzymasz od nas mail z linkiem do pokoju oraz ID i hasło do zalogowania się na wydarzenie \nW razie potrzeby\, służymy pomocą 🙂 \nPrelekcję poprowadzi: \n〜 Anna Święcka-Głowacka – terapeutka Integracji Strukturalnej\, znanej też jako Rolfing®. Zajmuje się również terapią blizn wg metody ScarWork™. Z wykształcenia jest socjologiem i menadżerem\, ale w trakcie własnych zmagań ze zdrowiem i poszukiwania równowagi w życiu odkryła Rolfing\, który stał się jej pasją i powołaniem. Interesuje ją holistyczne podejście do zdrowia człowieka\, umożliwiające życie w poczuciu równowagi między ciałem\, umysłem i duchem. Pomaga ludziom w utrzymaniu ich dobrostanu poprzez poszerzenie świadomości ciała i umysłu w trakcie terapeutycznej pracy z ciałem\, uwalniającej od głęboko zakorzenionych w powięzi napięć\, bólu\, niezdrowych wzorców postawy. Jest absolwentką szkoły European Rolfing® Association w Monachium\, filii Rolf® Institute w Boulder\, USA. Ukończyła warsztat wprowadzający do pracy z traumą wg psychofizjologicznej metody leczenia objawów traumy i łagodzenia chronicznego stresu – Somatic Experiencing®(SE). \nZapraszamy!
URL:https://fundacjadantian.com/wydarzenie/rola-powiezi-w-pracy-z-cialem-oraz-terapia-blizn-prelekcja/
CATEGORIES:Studio Dantian
END:VEVENT
END:VCALENDAR