BEGIN:VCALENDAR
VERSION:2.0
PRODID:-//Fundacja Dantian - ECPv6.15.16//NONSGML v1.0//EN
CALSCALE:GREGORIAN
METHOD:PUBLISH
X-ORIGINAL-URL:https://fundacjadantian.com
X-WR-CALDESC:Wydarzenia dla Fundacja Dantian
REFRESH-INTERVAL;VALUE=DURATION:PT1H
X-Robots-Tag:noindex
X-PUBLISHED-TTL:PT1H
BEGIN:VTIMEZONE
TZID:Europe/Warsaw
BEGIN:DAYLIGHT
TZOFFSETFROM:+0100
TZOFFSETTO:+0200
TZNAME:CEST
DTSTART:20200329T010000
END:DAYLIGHT
BEGIN:STANDARD
TZOFFSETFROM:+0200
TZOFFSETTO:+0100
TZNAME:CET
DTSTART:20201025T010000
END:STANDARD
BEGIN:DAYLIGHT
TZOFFSETFROM:+0100
TZOFFSETTO:+0200
TZNAME:CEST
DTSTART:20210328T010000
END:DAYLIGHT
BEGIN:STANDARD
TZOFFSETFROM:+0200
TZOFFSETTO:+0100
TZNAME:CET
DTSTART:20211031T010000
END:STANDARD
BEGIN:DAYLIGHT
TZOFFSETFROM:+0100
TZOFFSETTO:+0200
TZNAME:CEST
DTSTART:20220327T010000
END:DAYLIGHT
BEGIN:STANDARD
TZOFFSETFROM:+0200
TZOFFSETTO:+0100
TZNAME:CET
DTSTART:20221030T010000
END:STANDARD
END:VTIMEZONE
BEGIN:VEVENT
DTSTART;TZID=Europe/Warsaw:20210107T190000
DTEND;TZID=Europe/Warsaw:20210107T203000
DTSTAMP:20260420T071815
CREATED:20210610T121557Z
LAST-MODIFIED:20210610T121557Z
UID:23610-1610046000-1610051400@fundacjadantian.com
SUMMARY:Taiji\, grupa zaawansowana i średnio zaawansowana
DESCRIPTION:CEL KURSU: \n\n\n\nNauka zestawu ćwiczeń przygotowawczych oraz – od początku – długiej formy Yang Jia Lao Jia („Starego Stylu Szkoły Yang”) Taiji Quan http://www.youtube.com/watch?v=Ja2BKK_aOJk. \n\n\n\nWARUNKI UCZESTNICTWA: \n\n\n\nWewnętrzna silna motywacja.Deklaracja regularnej\, indywidualnej pracy z samym sobą. \n\n\n\nUbiór: strój sportowy nie krępujący szerokich ruchów\, wygodne obuwie na płaskiej podeszwie. \n\n\n\n************************************************************************************************** \n\n\n\nWitam wszystkich zainteresowanych wstąpieniem na drogę Starego Stylu Yang Taijiquan\, \n\n\n\nPodobnie jak w ubiegłych latach\, organizuję ten kurs z intencją trwałego zakorzenienia Starego Stylu Szkoły Yang Taiji Quan w naszym kraju\, dla osób które pociąga perspektywa poświęcenia wielu lat regularnej pracy nad sobą poprzez naukę tego stylu i które z czasem staną się jego adeptami\, nauczycielami i mistrzami. \n\n\n\nSerdecznie zapraszam silnie zmotywowanych – pierwsze zajęcia gratis! \n\n\n\nJan Gliński \n\n\n\n*************************************************************************************************** \n\n\n\nKurs dla grupy początkującej w 2018 informacje oraz pytania proszę kierować na adres (jan.glinski@fundacjadantian.com) \n\n\n\nCENNIK: https://fundacjadantian.com/cennik/
URL:https://fundacjadantian.com/wydarzenie/taiji-grupa-zaawansowana-i-srednio-zaawansowana-2/2021-01-07/
CATEGORIES:Taiji Quan Grupa Łączona
ATTACH;FMTTYPE=image/jpeg:https://fundacjadantian.com/wp-content/uploads/2021/04/MG_9469.jpg
END:VEVENT
BEGIN:VEVENT
DTSTART;TZID=Europe/Warsaw:20210111T190000
DTEND;TZID=Europe/Warsaw:20210111T190000
DTSTAMP:20260420T071816
CREATED:20210108T092430Z
LAST-MODIFIED:20210108T092430Z
UID:22608-1610391600-1610391600@fundacjadantian.com
SUMMARY:ONLINE - QIGONG NA NOWĄ RZECZYWISTOŚĆ
DESCRIPTION:Od 11 stycznia zaczynamy nowy cykl pod hasłem „Qigong na nową rzeczywistość”.\n\n\n\n„Nową rzeczywistość”\, a nie „powrót do normalności”? Nie miejmy złudzeń – to co było przedcovidową „normalnością” już nie wróci w poprzednim kształcie\, zaś tworzący się nowy kształt trudno jeszcze dokładniej dojrzeć poprzez „covidową mgłę”…\n\n\nJak pokazuje długa historia\, zwłaszcza czasów istotnych przemian – a takie właśnie mamy – trzeba być wtedy po prostu „przygotowanym na wszystko”. I tu pomoże bez wątpienia praktyka taiji i qigongu. Dostępna dla każdego\, sprawdziła się w tej roli poprzez tysiąclecia. Każdy z nas\, nauczycieli\, instruktorów i adeptów tych dyscyplin\, doznał ich efektywności w swoim życiu zawodowym i prywatnym\, w którym nie brakowało konfrontacji z poważnymi przeciwnościami losu.\n\n\nPonieważ zawsze warto zacząć od podstaw\, a i – bez względu na stopień zaawansowania – periodycznie do nich wracać\, nasze poniedziałkowe streamingi na Facebook Live będą poświęcone prostym ćwiczeniom\, w których niemniej zawsze będą obecne trzy podstawowe składniki każdego qigongu\, czyli właściwy ruch\, właściwy oddech i właściwa koncentracja.\n\n\n\n CZAS I MIEJSCE SPOTKANIA?\nSpotykamy się online w każdy poniedziałek zaczynając od 11 stycznia o godz. 19.00\, live na Facebooku Studia Dantian.\n\n\n\n JAK SIĘ PRZYGOTOWAĆ?\nZorganizuj sobie miejsce w domu\, gdzie będziesz ćwiczyć. Przestrzeń na szerokość ramion będzie wystarczająca. Ubierz wygodne niekrępujące ruchów ubranie i płaskie buty lub możesz ćwiczyć boso.\n\n\n\n PROWADZĄCY\nJan Gliński\, założyciel Fundacji Dantian\, Mistrz VIII Generacji Starego Stylu Yang Taijiquan i Qigongu.\n\n\n\n PO CO ĆWICZYMY QIGONG?\nAby zachować zdrowie i spokojny umysł. Ćwicz z nami\, dla balansu\, dla harmonii\, dla zdrowia!\n\n\nWydarzenia bezpłatne!\n\nZapraszamy !
URL:https://fundacjadantian.com/wydarzenie/online-qigong-na-nowa-rzeczywistosc/2021-01-11/
CATEGORIES:Wydarzenie online
ATTACH;FMTTYPE=:
END:VEVENT
BEGIN:VEVENT
DTSTART;TZID=Europe/Warsaw:20210113T173000
DTEND;TZID=Europe/Warsaw:20210113T190000
DTSTAMP:20260420T071816
CREATED:20210108T093401Z
LAST-MODIFIED:20210108T093401Z
UID:22618-1610559000-1610564400@fundacjadantian.com
SUMMARY:KURS TAIJI - ONLINE
DESCRIPTION:Grupa średnio zaawansowana. \n\nTo piękny styl\, którego regularna praktyka wzmocni Twoje ciało\, zregeneruje zasoby energetyczne oraz wesprze Twój układ odpornościowy.\nJeśli czujesz wewnętrzną motywację\, ciekawość i otwartość na nową jakość ruchu\, ten kurs jest dla Ciebie!\n \nZajęcia online! 90 minut nauki z możliwością zadawania pytań!\nZaczynamy o 17.30 w każdą środę!\n \n\n\nCEL KURSU:\n\nRozpoczniemy Codziennym Rytuałem Zdrowia\, który stanowić będzie przygotowanie ciała do nauki długiej formy starego stylu Yang Taiji.\nKażdej kolejnej środy poznasz nowe sekwencje oraz będziesz utrwalać poprzednie.\nDowiesz się jak przygotować swoją przestrzeń do ćwiczeń.\nUzyskasz bezpłatny dostęp do materiałów przygotowawczych czyli Codziennego Rytuału Zdrowia\, aby móc praktykować pomiędzy lekcjami.\nPo zajęciach otrzymasz filmik z przerobionym na lekcji fragmentem formy\, aby móc ćwiczyć pomiędzy spotkaniami\, na większej przestrzeni.\n\nCO BĘDZIE CI POTRZEBNE? \n\n\n\nZadbaj o wygodny strój oraz buty na płaskiej podeszwie\, nie ma konieczności ćwiczenia boso.\nZorganizuj dla siebie przestrzeń około 2m x 2m\nMiej głośnik\, który pozwoli Ci słyszeć instruktora głośno i wyraźnie\n\nCZAS I MIEJSCE SPOTKANIA?\n\nSpotykamy się od 18 listopada w ŚRODY o godzinie 17.30 ONLINE na platformie ZOOM. Czas trwania – ok. 1\,5 godziny\nWcześniej pobierz na komputer lub telefon bezpłatną aplikację ZOOM https://zoom.us/join\nNa godzinę przed każdym spotkaniem otrzymasz od nas mail z linkiem do pokoju oraz ID i hasło do zalogowania się na wydarzenie\n\nJAK WZIĄĆ UDZIAŁ W SPOTKANIU ONLINE?\n\nFormą zapisu jest przelew w wysokości 100 zł (lub 30 zł w przypadku pojedynczych zajęć) o tytule: Internetowy kurs Taiji  na konto Fundacji Dantian – Bank PKO SA\, nr konta: 06 1240 6218 1111 0010 7770 4082\nPo wykonaniu przelewu\, prześlij nam potwierdzenie na email: studiodantian@gmail.com. Pamiętaj\, że wysyłany prosto z banku przelew nie ma adresata czyli ciebie\, więc prosimy o mail\, abyśmy mogli przesłać link.\nDostaniesz od nas email zwrotny z zaproszeniem do wirtualnej platformy\, na której odbędzie się wykład\n\nMiesięczny kurs online – 100 złMożliwość uczestniczenia w pojedynczych zajęciach – 30 zł \n  \n\n\nPROWADZĄCA: KATARZYNA KIERAŚ-KĘDZIAK\nTtrenuje taijiquan i qigong pod kierunkiem Jana Glińskiego od 2013 r. Uczestniczyła w międzynarodowym biennale Yang Jia Lao Jia (Starego Stylu Yang) Taiji Quan we Francji (2015) zdobywając złoty puchar w zawodach grupowych oraz srebrny medal na XX Ogólnopolskim Pucharze Taiji Warszawie (2016 r.). Brała udział w I Europejskim Festiwalu Sztuk Walki Klasycznego Yang Taiji (2018 r.) zdobywając złoty medal. Od 2017 jest certyfikowaną instruktorką z formy miecza\, zaś od 2018 r. formy szabli Starego Stylu Yang. Terapeutka zajęciowa zorientowana na arteterapię oraz terapię poprzez ruch. \n\n\nZapraszamy serdecznie!
URL:https://fundacjadantian.com/wydarzenie/kurs-taiji-online-2/2021-01-13/
CATEGORIES:Qigong
ATTACH;FMTTYPE=:
END:VEVENT
END:VCALENDAR