BEGIN:VCALENDAR
VERSION:2.0
PRODID:-//Fundacja Dantian - ECPv6.15.20//NONSGML v1.0//EN
CALSCALE:GREGORIAN
METHOD:PUBLISH
X-WR-CALNAME:Fundacja Dantian
X-ORIGINAL-URL:https://fundacjadantian.com
X-WR-CALDESC:Wydarzenia dla Fundacja Dantian
REFRESH-INTERVAL;VALUE=DURATION:PT1H
X-Robots-Tag:noindex
X-PUBLISHED-TTL:PT1H
BEGIN:VTIMEZONE
TZID:Europe/Warsaw
BEGIN:DAYLIGHT
TZOFFSETFROM:+0100
TZOFFSETTO:+0200
TZNAME:CEST
DTSTART:20200329T010000
END:DAYLIGHT
BEGIN:STANDARD
TZOFFSETFROM:+0200
TZOFFSETTO:+0100
TZNAME:CET
DTSTART:20201025T010000
END:STANDARD
BEGIN:DAYLIGHT
TZOFFSETFROM:+0100
TZOFFSETTO:+0200
TZNAME:CEST
DTSTART:20210328T010000
END:DAYLIGHT
BEGIN:STANDARD
TZOFFSETFROM:+0200
TZOFFSETTO:+0100
TZNAME:CET
DTSTART:20211031T010000
END:STANDARD
BEGIN:DAYLIGHT
TZOFFSETFROM:+0100
TZOFFSETTO:+0200
TZNAME:CEST
DTSTART:20220327T010000
END:DAYLIGHT
BEGIN:STANDARD
TZOFFSETFROM:+0200
TZOFFSETTO:+0100
TZNAME:CET
DTSTART:20221030T010000
END:STANDARD
END:VTIMEZONE
BEGIN:VEVENT
DTSTART;TZID=Europe/Warsaw:20210509T090000
DTEND;TZID=Europe/Warsaw:20210509T103000
DTSTAMP:20260422T174701
CREATED:20210528T133931Z
LAST-MODIFIED:20210528T133931Z
UID:23458-1620550800-1620556200@fundacjadantian.com
SUMMARY:Kurs Taiji - Łazienki Królewskie
DESCRIPTION:Kurs Taiji Starego Stylu Yang dla grupy początkującejZapraszamy na zajęcia w niedziele od 9 maja o godz.9.00 – 10.00 do Łazienek Królewskich\, przed Starą Kordegardę (będziemy ćwiczyć w plenerze).  CEL KURSU:* Rozpoczniemy Codziennym Rytuałem Zdrowia\, który stanowić będzie przygotowanie ciała do nauki długiej formy starego stylu Yang Taiji.* Każdą kolejną niedzielę poznasz nowe sekwencje oraz będziesz utrwalać poprzednie.* Uzyskasz bezpłatny dostęp do materiałów przygotowawczych czyli Codziennego Rytuału Zdrowia\, aby móc praktykować pomiędzy lekcjami.* Po zajęciach otrzymasz filmik z przerobionym na lekcji fragmentem formy\, aby móc ćwiczyć pomiędzy spotkaniami. CO BĘDZIE CI POTRZEBNE? * Zadbaj o wygodny strój oraz buty na płaskiej podeszwie.* Zabierz coś do picia\, bądź godzinę po posiłku* Bądź dziesięć minut przed terminem rozpoczęcia zajęć\, odetchnij\, wyhamuj\, naciesz oko widokiem przyrody. CZAS I MIEJSCE SPOTKANIA?* Spotykamy się od 9 maja w NIEDZIELE o godzinie 9.00 w Łazienkach Królewskich przed Starą Kordegardą. Czas trwania – ok. 1 godziny\, zajęcia mogą się przedłużyć\, uwzględnij to. JAK WZIĄĆ UDZIAŁ W SPOTKANIU?* Formą zapisu jest przelew w wysokości 120 zł (lub 30 zł w przypadku pojedynczych zajęć) o tytule: Kurs Taiji w Łazienkach na konto Fundacji Dantian – Bank PKO SA\, nr konta: 06 1240 6218 1111 0010 7770 4082* Po wykonaniu przelewu\, prześlij nam potwierdzenie na email: studiodantian@gmail.com. Pamiętaj\, że wysyłany prosto z banku przelew nie ma adresata czyli ciebie\, więc prosimy o mail\, a my potwierdzimy\, że jesteś wpisany na listę uczestników kursu. CENAMiesięczny kurs – 120 złMożliwość uczestniczenia w pojedynczych zajęciach – 30 zł INSTRUKTORMarzena Maya Rostkowskamagister sztuki\, scenograf\, ilustrator\, zawodowo graphic designer; hobbystycznie pisze i podróżuje. Trenuje indywidualnie pod kierunkiem Jana Glińskiego od 2011\, zarówno taiji quan\, jak i qigong. Uczestniczyła z powodzeniem w zawodach i zdawała egzaminy na kolejne stopnie kompetencji na międzynarodowych biennale Yang Jia Lao Jia (Starego Stylu Yang) Taiji Quan w Bułgarii (2011 r.)\, na Tajwanie (2013 r.) oraz we Francji (2015 r.)\, w Chinach (2017 r.)\, W Japonii (2019). Podczas XIX i XX Ogólnopolskiego Pucharu Taiji Warszawie (2015\, 2016 r.) zdobyła srebrny oraz brązowy medal. Od 2018 jest certyfikowaną instruktorką z formy szabli i miecza Starego Stylu Yang. Zawodowo zajmuje się projektowaniem graficznym oraz tworzeniem oprawy medialnej dla Fundacji Dantian.
URL:https://fundacjadantian.com/wydarzenie/kurs-taiji-lazienki-krolewskie/2021-05-09/
CATEGORIES:Taiji Grupa Początkująca
ATTACH;FMTTYPE=:
END:VEVENT
BEGIN:VEVENT
DTSTART;TZID=Europe/Warsaw:20210515T120000
DTEND;TZID=Europe/Warsaw:20210515T130000
DTSTAMP:20260422T174701
CREATED:20210524T120838Z
LAST-MODIFIED:20210524T120838Z
UID:23003-1621080000-1621083600@fundacjadantian.com
SUMMARY:QIGONG W POWSINIE
DESCRIPTION:Zapraszamy na plenerowe zajęcia Qigongu z Fundacją Dantian w Parku Powsin\, wybrane soboty o godzinie 12.00\, dokładne daty w kalendarzu.
URL:https://fundacjadantian.com/wydarzenie/qigong-w-powsinie-3/
CATEGORIES:Qigong
ATTACH;FMTTYPE=image/jpeg:https://fundacjadantian.com/wp-content/uploads/2020/07/8.jpg
END:VEVENT
BEGIN:VEVENT
DTSTART;TZID=Europe/Warsaw:20210522T080000
DTEND;TZID=Europe/Warsaw:20210522T180000
DTSTAMP:20260422T174701
CREATED:20210615T151608Z
LAST-MODIFIED:20210615T151608Z
UID:23730-1621670400-1621706400@fundacjadantian.com
SUMMARY:I STAŻ TAIJI\, GRUPA ONLINE
DESCRIPTION:Pogłębiający i uzupełniający\, stacjonarny straż taiji dla grupy początkującej online. \n\n\n\nPROWADZĄCA: KATARZYNA KIERAŚ-KĘDZIAK\n\n\n\nTrenuje taijiquan i qigong pod kierunkiem Jana Glińskiego od 2013 r. Uczestniczyła w międzynarodowym biennale Yang Jia Lao Jia (Starego Stylu Yang) Taiji Quan we Francji (2015) zdobywając złoty puchar w zawodach grupowych oraz srebrny medal na XX Ogólnopolskim Pucharze Taiji Warszawie (2016 r.). Brała udział w I Europejskim Festiwalu Sztuk Walki Klasycznego Yang Taiji (2018 r.) zdobywając złoty medal. Od 2017 jest certyfikowaną instruktorką z formy miecza\, zaś od 2018 r. formy szabli Starego Stylu Yang. Terapeutka zajęciowa zorientowana na arteterapię oraz terapię poprzez ruch.
URL:https://fundacjadantian.com/wydarzenie/i-staz-taiji-grupa-online-2/2021-05-22/
CATEGORIES:Taiji Grupa Początkująca
ATTACH;FMTTYPE=:
END:VEVENT
BEGIN:VEVENT
DTSTART;TZID=Europe/Warsaw:20210529T120000
DTEND;TZID=Europe/Warsaw:20210529T130000
DTSTAMP:20260422T174701
CREATED:20210524T115724Z
LAST-MODIFIED:20210524T115724Z
UID:22992-1622289600-1622293200@fundacjadantian.com
SUMMARY:Qigong w Powsinie
DESCRIPTION:Zapraszamy na plenerowe zajęcia Qigongu z Fundacją Dantian w Parku Powsin\, wybrane soboty o godzinie 12.00\, dokładne daty w kalendarzu.
URL:https://fundacjadantian.com/wydarzenie/qigong-w-powsinie-2/
CATEGORIES:Qigong
ATTACH;FMTTYPE=image/jpeg:https://fundacjadantian.com/wp-content/uploads/2020/07/8.jpg
END:VEVENT
END:VCALENDAR