BEGIN:VCALENDAR
VERSION:2.0
PRODID:-//Fundacja Dantian - ECPv6.15.16//NONSGML v1.0//EN
CALSCALE:GREGORIAN
METHOD:PUBLISH
X-WR-CALNAME:Fundacja Dantian
X-ORIGINAL-URL:https://fundacjadantian.com
X-WR-CALDESC:Wydarzenia dla Fundacja Dantian
REFRESH-INTERVAL;VALUE=DURATION:PT1H
X-Robots-Tag:noindex
X-PUBLISHED-TTL:PT1H
BEGIN:VTIMEZONE
TZID:Europe/Warsaw
BEGIN:DAYLIGHT
TZOFFSETFROM:+0100
TZOFFSETTO:+0200
TZNAME:CEST
DTSTART:20200329T010000
END:DAYLIGHT
BEGIN:STANDARD
TZOFFSETFROM:+0200
TZOFFSETTO:+0100
TZNAME:CET
DTSTART:20201025T010000
END:STANDARD
BEGIN:DAYLIGHT
TZOFFSETFROM:+0100
TZOFFSETTO:+0200
TZNAME:CEST
DTSTART:20210328T010000
END:DAYLIGHT
BEGIN:STANDARD
TZOFFSETFROM:+0200
TZOFFSETTO:+0100
TZNAME:CET
DTSTART:20211031T010000
END:STANDARD
BEGIN:DAYLIGHT
TZOFFSETFROM:+0100
TZOFFSETTO:+0200
TZNAME:CEST
DTSTART:20220327T010000
END:DAYLIGHT
BEGIN:STANDARD
TZOFFSETFROM:+0200
TZOFFSETTO:+0100
TZNAME:CET
DTSTART:20221030T010000
END:STANDARD
END:VTIMEZONE
BEGIN:VEVENT
DTSTART;TZID=Europe/Warsaw:20210911T120000
DTEND;TZID=Europe/Warsaw:20210911T170000
DTSTAMP:20260420T040435
CREATED:20210906T072611Z
LAST-MODIFIED:20210906T072611Z
UID:24047-1631361600-1631379600@fundacjadantian.com
SUMMARY:Narodowy Dzień Sportu
DESCRIPTION:Narodowy Dzień Sportu to ogólnopolska akcja społeczna\, która łączy setki placówek sportowych w całym kraju. To tysiące bezpłatnych treningów\, zajęć i wydarzeń sportowych rozsianych po całym kraju. Co roku w Narodowym Dniu Sportu bierze udział kilkaset tysięcy Polaków. My również dołączamy do akcji. Możecie z nami poćwiczyć\, porozmawiać o tym czym się zajmujemy\, o planowanych na najbliższą jesień treningach\, o walorach zdrowotnych dalekowschodnich sposobów dbania o ciało\, umysł i ducha\, jakie propagujemy.  \n\n\n\nJuż 11 września\, między 12.00 a 17.00\, na błoniach PGE Narodowego w sekcji Zdrowie 🙂
URL:https://fundacjadantian.com/wydarzenie/narodowy-dzien-sportu-2/
END:VEVENT
BEGIN:VEVENT
DTSTART;TZID=Europe/Warsaw:20210920T150000
DTEND;TZID=Europe/Warsaw:20210926T110000
DTSTAMP:20260420T040435
CREATED:20210906T073836Z
LAST-MODIFIED:20210906T073836Z
UID:24050-1632150000-1632654000@fundacjadantian.com
SUMMARY:Duszniki Zdrój - warsztat
DESCRIPTION:Zapraszamy na 6-dniowy warsztat\, w trakcie którego nauczysz się szeregu prozdrowotnych zestawów ćwiczeń do samodzielnej praktyki. Wzmocnią one nie tylko odporność Twojego organizmu\, ale również harmonijnie zaktywizują poszczególne obszary ciała\, narażone szczególnie podczas lockdownu\, przy pracy zdalnej lub ogólnie mniejszej aktywności fizycznej jesienią i zimą. \n\n\n\nWięcej informacji w zakładce „Wakacje”
URL:https://fundacjadantian.com/wydarzenie/duszniki-zdroj-warsztat/
ATTACH;FMTTYPE=:
END:VEVENT
BEGIN:VEVENT
DTSTART;TZID=Europe/Warsaw:20210921T180000
DTEND;TZID=Europe/Warsaw:20210921T193000
DTSTAMP:20260420T040435
CREATED:20210610T130619Z
LAST-MODIFIED:20210610T130619Z
UID:23866-1632247200-1632252600@fundacjadantian.com
SUMMARY:Taiji\, grupa zaawansowana i średnio zaawansowana
DESCRIPTION:CEL KURSU: \n\n\n\nNauka zestawu ćwiczeń przygotowawczych oraz – od początku – długiej formy Yang Jia Lao Jia („Starego Stylu Szkoły Yang”) Taiji Quan http://www.youtube.com/watch?v=Ja2BKK_aOJk. \n\n\n\nWARUNKI UCZESTNICTWA: \n\n\n\nWewnętrzna silna motywacja.Deklaracja regularnej\, indywidualnej pracy z samym sobą. \n\n\n\nUbiór: strój sportowy nie krępujący szerokich ruchów\, wygodne obuwie na płaskiej podeszwie. \n\n\n\n************************************************************************************************** \n\n\n\nWitam wszystkich zainteresowanych wstąpieniem na drogę Starego Stylu Yang Taijiquan\, \n\n\n\nPodobnie jak w ubiegłych latach\, organizuję ten kurs z intencją trwałego zakorzenienia Starego Stylu Szkoły Yang Taiji Quan w naszym kraju\, dla osób które pociąga perspektywa poświęcenia wielu lat regularnej pracy nad sobą poprzez naukę tego stylu i które z czasem staną się jego adeptami\, nauczycielami i mistrzami. \n\n\n\nSerdecznie zapraszam silnie zmotywowanych – pierwsze zajęcia gratis! \n\n\n\nJan Gliński \n\n\n\n*************************************************************************************************** \n\n\n\nKurs dla grupy początkującej w 2018 informacje oraz pytania proszę kierować na adres (jan.glinski@fundacjadantian.com) \n\n\n\nCENNIK: https://fundacjadantian.com/cennik/
URL:https://fundacjadantian.com/wydarzenie/taiji-grupa-zaawansowana-i-srednio-zaawansowana-3-2021-09-21/
CATEGORIES:Taiji Quan Grupa Łączona
ATTACH;FMTTYPE=image/jpeg:https://fundacjadantian.com/wp-content/uploads/2021/04/MG_9469.jpg
END:VEVENT
END:VCALENDAR