BEGIN:VCALENDAR
VERSION:2.0
PRODID:-//Fundacja Dantian - ECPv6.15.20//NONSGML v1.0//EN
CALSCALE:GREGORIAN
METHOD:PUBLISH
X-WR-CALNAME:Fundacja Dantian
X-ORIGINAL-URL:https://fundacjadantian.com
X-WR-CALDESC:Wydarzenia dla Fundacja Dantian
REFRESH-INTERVAL;VALUE=DURATION:PT1H
X-Robots-Tag:noindex
X-PUBLISHED-TTL:PT1H
BEGIN:VTIMEZONE
TZID:Europe/Warsaw
BEGIN:DAYLIGHT
TZOFFSETFROM:+0100
TZOFFSETTO:+0200
TZNAME:CEST
DTSTART:20200329T010000
END:DAYLIGHT
BEGIN:STANDARD
TZOFFSETFROM:+0200
TZOFFSETTO:+0100
TZNAME:CET
DTSTART:20201025T010000
END:STANDARD
BEGIN:DAYLIGHT
TZOFFSETFROM:+0100
TZOFFSETTO:+0200
TZNAME:CEST
DTSTART:20210328T010000
END:DAYLIGHT
BEGIN:STANDARD
TZOFFSETFROM:+0200
TZOFFSETTO:+0100
TZNAME:CET
DTSTART:20211031T010000
END:STANDARD
BEGIN:DAYLIGHT
TZOFFSETFROM:+0100
TZOFFSETTO:+0200
TZNAME:CEST
DTSTART:20220327T010000
END:DAYLIGHT
BEGIN:STANDARD
TZOFFSETFROM:+0200
TZOFFSETTO:+0100
TZNAME:CET
DTSTART:20221030T010000
END:STANDARD
END:VTIMEZONE
BEGIN:VEVENT
DTSTART;TZID=Europe/Warsaw:20211001T183000
DTEND;TZID=Europe/Warsaw:20211001T193000
DTSTAMP:20260422T174701
CREATED:20210914T143533Z
LAST-MODIFIED:20210914T143533Z
UID:24225-1633113000-1633116600@fundacjadantian.com
SUMMARY:QIGONG - ROZBRAT
DESCRIPTION:Zapraszamy na regularne zajęcia wszystkich chcących poznać qigong. Fundacja Dantian organizuje od października 2021 roku\, cykle warsztatów i zajęć poświęconych rożnym formom qigongu\, z naciskiem na te zestawy ćwiczeń\, które mają udokumentowany\, pozytywny wpływ na zdrowie fizyczne i psychiczne. \n\n\n\n???? Młodzieżowy Dom Kultury\, ul. Łazienkowska 7 (przystanek autobusowy Rozbrat) \n\n\n\n???? Początek zajęć 8.10.21 \n\n\n\ngodz. 18.30 -19.30 \n\n\n\n \n\n\n\nPaździernik: \n\n\n\nTematem zajęć będą ćwiczenia na pięć tzw. narządów Zang\, których główną rolą jest transformacja  \n\n\n\ni przechowywanie substancji życiowych w organizmie. \n\n\n\n01.10 Qigong na Nerki \n\n\n\n08.10 Qigong na Płuca \n\n\n\n15.10 Qigong na Wątrobę \n\n\n\n22.10 Qigong na Śledzionę \n\n\n\n29.10 Qigong na Serce \n\n\n\nListopad: \n\n\n\nTematem zajęć będą ćwiczenia na trzy dantiany (centra energetyczne). \n\n\n\n05.11 Dolny dantian („pole życiodajnego eliksiru”) \n\n\n\n19.11 Środkowy dantian („karmazynowy pałac”) \n\n\n\n26.11 Górny dantian („trzecie oko”) \n\n\n\nGrudzień: \n\n\n\nTematem zajęć będzie Osiem Kawałków Brokatu według Lam Kam Chuen. \n\n\n\n03.12 Brokaty I-IV \n\n\n\n10.12 Brokaty V-VIII \n\n\n\nCo będzie potrzebne? \n\n\n\nWewnętrzna motywacja\, chęć nauki\, wygodny strój i buty na płaskiej podeszwie ???? \n\n\n\nDecydując się na kurs qigongu\, bierzesz udział w integralnym programie miesięcznym.  \n\n\n\nW każdym miesiącu inna tematyka kursu. \n\n\n\nInwestycja: \n\n\n\nZajęcia raz w tygodniu:• 140 zł opłata miesięczna (płatna do 10 dnia każdego miesiąca)Uczestnictwo jednorazowe:• 40 zł (płatne na miejscu) \n\n\n\n❗️ Liczba miejsc jest ograniczona. Zapisy trwają do wyczerpania miejsc\, \n\n\n\nOpłaty za zajęcia należy wpłacać gotówką przed zajęciami lub przelewem na konto:Fundacja DantianBank PKO SA\, Al. Jerozolimskie 65/79\,nr konta 08124062181111001058278535 \n\n\n\n❗️ZAPISZ SIĘ WYPEŁNIAJĄC FORMULARZ  https://tiny.pl/9tz6w
URL:https://fundacjadantian.com/wydarzenie/qigong-rozbrat/2021-10-01/
END:VEVENT
BEGIN:VEVENT
DTSTART;TZID=Europe/Warsaw:20211005T183000
DTEND;TZID=Europe/Warsaw:20211005T200000
DTSTAMP:20260422T174701
CREATED:20210908T075213Z
LAST-MODIFIED:20210908T075213Z
UID:24102-1633458600-1633464000@fundacjadantian.com
SUMMARY:Taiji\, grupa zaawansowana i średnio zaawansowana
DESCRIPTION:Zapraszamy na regularne zajęcia\, ponownie w sali\, LO na ul. Madalińkigo 22 \n\n\n\nCEL KURSU: \n\n\n\nNauka zestawu ćwiczeń przygotowawczych oraz – od początku – długiej formy Yang Jia Lao Jia („Starego Stylu Szkoły Yang”) Taiji Quan http://www.youtube.com/watch?v=Ja2BKK_aOJk. \n\n\n\nWARUNKI UCZESTNICTWA: \n\n\n\nWewnętrzna silna motywacja.Deklaracja regularnej\, indywidualnej pracy z samym sobą. \n\n\n\nUbiór: strój sportowy nie krępujący szerokich ruchów\, wygodne obuwie na płaskiej podeszwie. \n\n\n\n************************************************************************************************** \n\n\n\nWitam wszystkich zainteresowanych wstąpieniem na drogę Starego Stylu Yang Taijiquan\, \n\n\n\nPodobnie jak w ubiegłych latach\, organizuję ten kurs z intencją trwałego zakorzenienia Starego Stylu Szkoły Yang Taiji Quan w naszym kraju\, dla osób które pociąga perspektywa poświęcenia wielu lat regularnej pracy nad sobą poprzez naukę tego stylu i które z czasem staną się jego adeptami\, nauczycielami i mistrzami. \n\n\n\nSerdecznie zapraszam silnie zmotywowanych – pierwsze zajęcia gratis! \n\n\n\nJan Gliński \n\n\n\n*************************************************************************************************** \n\n\n\nKurs dla grupy początkującej w 2018 informacje oraz pytania proszę kierować na adres (jan.glinski@fundacjadantian.com) \n\n\n\nCENNIK: https://fundacjadantian.com/cennik/
URL:https://fundacjadantian.com/wydarzenie/taiji-grupa-zaawansowana-i-srednio-zaawansowana-5/2021-10-05/
END:VEVENT
BEGIN:VEVENT
DTSTART;TZID=Europe/Warsaw:20211005T183000
DTEND;TZID=Europe/Warsaw:20211005T200000
DTSTAMP:20260422T174701
CREATED:20210909T121815Z
LAST-MODIFIED:20210909T121815Z
UID:24159-1633458600-1633464000@fundacjadantian.com
SUMMARY:TAIJI\, GRUPA POCZĄTKUJĄCA
DESCRIPTION:Zapraszamy na regularne zajęcia taiji do Młodzieżowego Domu Kultury przy ul. Łazienkowskiej 7\, (przystanek autobusowy Rozbrat) \n\n\n\nPodobnie jak w ubiegłych latach\, organizujemy ten kurs z intencją trwałego zakorzenienia Starego Stylu Szkoły Yang Taiji Quan w naszym kraju\, dla osób które pociąga perspektywa poświęcenia wielu lat regularnej pracy nad sobą poprzez naukę tego stylu i które z czasem staną się jego adeptami\, nauczycielami i mistrzami. \n\n\n\nCEL KURSU: \n\n\n\nNauka zestawu ćwiczeń przygotowawczych oraz – od początku – długiej formy Yang Jia Lao Jia („Starego Stylu Szkoły Yang”) Taiji Quan http://www.youtube.com/watch?v=Ja2BKK_aOJk. \n\n\n\nWARUNKI UCZESTNICTWA: \n\n\n\nWewnętrzna silna motywacja.Deklaracja regularnej\, indywidualnej pracy z samym sobą. \n\n\n\nIlość osób w grupie ograniczona\, decyduje kolejność zgłoszeń.  \n\n\n\nZapisz się wypełniając formularz:  https://tiny.pl/9tk2zl \n\n\n\n \n\n\n\nInwestycja: \n\n\n\nZajęcia dwa razy w tygodniu:• 240 zł opłata miesięczna (płatna do 10 dnia każdego miesiąca)Raz w tygodniu w tygodniu:• 140 zł opłata miesięczna (płatna do 10 dnia każdego miesiąca)Uczestnictwo jednorazowe• 40 zł (płatne na miejscu)
URL:https://fundacjadantian.com/wydarzenie/taiji-grupa-poczatkujaca-4/2021-10-05/
END:VEVENT
BEGIN:VEVENT
DTSTART;TZID=Europe/Warsaw:20211006T090000
DTEND;TZID=Europe/Warsaw:20211006T095000
DTSTAMP:20260422T174701
CREATED:20210908T065744Z
LAST-MODIFIED:20210908T065744Z
UID:24077-1633510800-1633513800@fundacjadantian.com
SUMMARY:Qigong DK Kadr
DESCRIPTION:Zapraszamy za cotygodniowe zajęcia qigingu do Domu Kultury Kadr.
URL:https://fundacjadantian.com/wydarzenie/qigong-dk-kadr/2021-10-06/
END:VEVENT
BEGIN:VEVENT
DTSTART;TZID=Europe/Warsaw:20211006T173000
DTEND;TZID=Europe/Warsaw:20211006T190000
DTSTAMP:20260422T174701
CREATED:20210908T102123Z
LAST-MODIFIED:20210908T102123Z
UID:24125-1633541400-1633546800@fundacjadantian.com
SUMMARY:TAIJI  ONLINE\, GRUPA ŚREDNIO ZAAWANSOWANA
DESCRIPTION:Grupa średnio zaawansowana. \n\n\n\nTo piękny styl\, którego regularna praktyka wzmocni Twoje ciało\, zregeneruje zasoby energetyczne oraz wesprze Twój układ odpornościowy.Jeśli czujesz wewnętrzną motywację\, ciekawość i otwartość na nową jakość ruchu\, ten kurs jest dla Ciebie! Zajęcia online! 90 minut nauki z możliwością zadawania pytań!Zaczynamy o 17.30 w każdą środę! \n\n\n\nCEL KURSU:\n\n\n\nRozpoczniemy Codziennym Rytuałem Zdrowia\, który stanowić będzie przygotowanie ciała do nauki długiej formy starego stylu Yang Taiji.Każdej kolejnej środy poznasz nowe sekwencje oraz będziesz utrwalać poprzednie.Dowiesz się jak przygotować swoją przestrzeń do ćwiczeń.Uzyskasz bezpłatny dostęp do materiałów przygotowawczych czyli Codziennego Rytuału Zdrowia\, aby móc praktykować pomiędzy lekcjami.Po zajęciach otrzymasz filmik z przerobionym na lekcji fragmentem formy\, aby móc ćwiczyć pomiędzy spotkaniami\, na większej przestrzeni.\n\n\n\nCO BĘDZIE CI POTRZEBNE? \n\n\n\nZadbaj o wygodny strój oraz buty na płaskiej podeszwie\, nie ma konieczności ćwiczenia boso.Zorganizuj dla siebie przestrzeń około 2m x 2mMiej głośnik\, który pozwoli Ci słyszeć instruktora głośno i wyraźnie\n\n\n\nCZAS I MIEJSCE SPOTKANIA?\n\n\n\nSpotykamy się od 18 listopada w ŚRODY o godzinie 17.30 ONLINE na platformie ZOOM. Czas trwania – ok. 1\,5 godzinyWcześniej pobierz na komputer lub telefon bezpłatną aplikację ZOOM https://zoom.us/joinNa godzinę przed każdym spotkaniem otrzymasz od nas mail z linkiem do pokoju oraz ID i hasło do zalogowania się na wydarzenie\n\n\n\nJAK WZIĄĆ UDZIAŁ W SPOTKANIU ONLINE?\n\n\n\nFormą zapisu jest przelew w wysokości 100 zł (lub 30 zł w przypadku pojedynczych zajęć) o tytule: Internetowy kurs Taiji  na konto Fundacji Dantian – Bank PKO SA\, nr konta: 06 1240 6218 1111 0010 7770 4082Po wykonaniu przelewu\, prześlij nam potwierdzenie na email: studiodantian@gmail.com. Pamiętaj\, że wysyłany prosto z banku przelew nie ma adresata czyli ciebie\, więc prosimy o mail\, abyśmy mogli przesłać link.Dostaniesz od nas email zwrotny z zaproszeniem do wirtualnej platformy\, na której odbędzie się wykład\n\n\n\nMiesięczny kurs online – 100 złMożliwość uczestniczenia w pojedynczych zajęciach – 30 zł \n\n\n\nPROWADZĄCA: KATARZYNA KIERAŚ-KĘDZIAK\n\n\n\nTtrenuje taijiquan i qigong pod kierunkiem Jana Glińskiego od 2013 r. Uczestniczyła w międzynarodowym biennale Yang Jia Lao Jia (Starego Stylu Yang) Taiji Quan we Francji (2015) zdobywając złoty puchar w zawodach grupowych oraz srebrny medal na XX Ogólnopolskim Pucharze Taiji Warszawie (2016 r.). Brała udział w I Europejskim Festiwalu Sztuk Walki Klasycznego Yang Taiji (2018 r.) zdobywając złoty medal. Od 2017 jest certyfikowaną instruktorką z formy miecza\, zaś od 2018 r. formy szabli Starego Stylu Yang. Terapeutka zajęciowa zorientowana na arteterapię oraz terapię poprzez ruch.
URL:https://fundacjadantian.com/wydarzenie/kurs-taiji-online-3/2021-10-06/
END:VEVENT
BEGIN:VEVENT
DTSTART;TZID=Europe/Warsaw:20211018T190000
DTEND;TZID=Europe/Warsaw:20211018T190000
DTSTAMP:20260422T174701
CREATED:20211018T130835Z
LAST-MODIFIED:20211018T130835Z
UID:24311-1634583600-1634583600@fundacjadantian.com
SUMMARY:QIFIT W DUCHU OLIMPIJSKIM - ONLINE
DESCRIPTION:Zapraszamy na cykl otwartych zajęć online Starożytne Ćwiczenia dla Każdego. Począwszy od 18 października\, co poniedziałek o godzinie 19:00  na: \nplatformie internetowej QiFit  www.QiFit.pl\, \nFacebooku QiFit https://www.facebook.com/Platforma.Edukacyjna.QiFit \noraz kanale You Tube https://www.youtube.com/channel/UCTS0mlRM8eLhS0cIfsvPxPg \nPierwszy trening poświęcimy zostanie prozdrowotnym ćwiczeniom nawiązującym do sportów dawnego Egiptu. Lekkoatletyka i sprawność fizyczna odgrywały integralną rolę w życiu starożytnych Egipcjan w każdym wieku. Sport był częścią koronacji faraonów\, obchodów zwycięstw wojskowych\, ceremonii religijnych i festiwali. Na ścianach grobowców i świątyń znajduje się wiele ich przedstawień\, ale żadne nie jest bardziej uderzające niż jeden z najstarszych dokumentów dotyczących sportu: wyjątkowy mural przedstawiający samego faraona\, Dżosera\, założyciela trzeciej dynastii prawie 5000 lat temu\, uczestniczącego w programie biegowym święta Heb Sed\, jako symbolu znaczenia sprawności fizycznej dla starożytnych Egipcjan. Nota bene\, na zachód od słynnej\, schodkowej piramidy Dżosera w Sakkarze od lat badania prowadzi Polsko-Egipska Misja Archeologiczna. Prowadzi Jan Gliński (Fundacja Dantian) \nZajęcia są częścią projektu QiFit w Olimpijskim Duchu – Starożytne Ćwiczenia dla Każdego\, który realizuje Fundacja Dantian\, pragnąc podnieść społeczną świadomość fundamentalnego znaczenia codziennego\, właściwego ruchu w utrzymaniu zdrowia oraz w procesach rehabilitacyjnych\, wraz z partnerami projektu: Muzeum Narodowym w Warszawie\, Muzeum Łazienki Królewskie oraz Parkiem Kultury w Powsinie przy współfinansowaniu Ministerstwa Kultury\, Dziedzictwa Narodowego i Sportu. https://www.qifit.pl/p/qifit-w-olimpijskim-duchu-starozytne-cwiczenia-dla-kazdego \nProjekt został oparty o idee olimpijskie\, które oddają charakter prowadzonych w nim zajęć. Idee te przedstawiają sport\, który wychowuje\, jednoczy\, sprawia przyjemność\, radość\, buduje przyjaźnie oraz pokój między ludźmi i narodami. Obok motta „szybciej\, wyżej\, mocniej” występuje również kulturotwórcza i wychowawcza rola aktywności fizycznej mówiąca\, że sport doskonali ludzi nie tylko w wymiarze cielesnym\, ale także psychicznym\, co stanowi nawiązanie do antycznego ideału człowieka pięknego fizycznie i wewnętrznie. Wyraża to drugie motto olimpijskie „Najważniejszą rzeczą w igrzyskach olimpijskich jest nie zwyciężyć\, ale wziąć w nich udział\, podobnie jak w życiu nie jest ważne triumfować\, ale zmagać się z organizmem”. Taki właśnie charakter mają nasze starożytne ćwiczenia dla każdego\, ukierunkowane nie tylko na rywalizację\, cel lub wynik ruchu\, ale także na świadome jego doświadczanie. \n\n\n\n\n\n\n\n\n\n 
URL:https://fundacjadantian.com/wydarzenie/qifit-w-duchu-olimpijskim-online/2021-10-18/
CATEGORIES:Wydarzenie online
END:VEVENT
BEGIN:VEVENT
DTSTART;VALUE=DATE:20211024
DTEND;VALUE=DATE:20211028
DTSTAMP:20260422T174701
CREATED:20211018T125150Z
LAST-MODIFIED:20211018T125150Z
UID:24305-1635033600-1635379199@fundacjadantian.com
SUMMARY:STAŻ TAIJI Z MISTRZEM LY
DESCRIPTION:Stacjonarny staż doszkalający formy ręcznej oraz form z bronią\, Starego Stylu Yang Taijiquan. Staż przeznaczony wyłącznie dla adeptów naszego stylu.   \n\n\n\n\n\n\n\n\n\n 
URL:https://fundacjadantian.com/wydarzenie/staz-taiji-z-mistrzem-ly/
CATEGORIES:Staż taiji
END:VEVENT
END:VCALENDAR