BEGIN:VCALENDAR
VERSION:2.0
PRODID:-//Fundacja Dantian - ECPv6.15.20//NONSGML v1.0//EN
CALSCALE:GREGORIAN
METHOD:PUBLISH
X-WR-CALNAME:Fundacja Dantian
X-ORIGINAL-URL:https://fundacjadantian.com
X-WR-CALDESC:Wydarzenia dla Fundacja Dantian
REFRESH-INTERVAL;VALUE=DURATION:PT1H
X-Robots-Tag:noindex
X-PUBLISHED-TTL:PT1H
BEGIN:VTIMEZONE
TZID:Europe/Warsaw
BEGIN:DAYLIGHT
TZOFFSETFROM:+0100
TZOFFSETTO:+0200
TZNAME:CEST
DTSTART:20210328T010000
END:DAYLIGHT
BEGIN:STANDARD
TZOFFSETFROM:+0200
TZOFFSETTO:+0100
TZNAME:CET
DTSTART:20211031T010000
END:STANDARD
BEGIN:DAYLIGHT
TZOFFSETFROM:+0100
TZOFFSETTO:+0200
TZNAME:CEST
DTSTART:20220327T010000
END:DAYLIGHT
BEGIN:STANDARD
TZOFFSETFROM:+0200
TZOFFSETTO:+0100
TZNAME:CET
DTSTART:20221030T010000
END:STANDARD
BEGIN:DAYLIGHT
TZOFFSETFROM:+0100
TZOFFSETTO:+0200
TZNAME:CEST
DTSTART:20230326T010000
END:DAYLIGHT
BEGIN:STANDARD
TZOFFSETFROM:+0200
TZOFFSETTO:+0100
TZNAME:CET
DTSTART:20231029T010000
END:STANDARD
END:VTIMEZONE
BEGIN:VEVENT
DTSTART;TZID=Europe/Warsaw:20220503T090000
DTEND;TZID=Europe/Warsaw:20220503T103000
DTSTAMP:20260424T062049
CREATED:20220413T143650Z
LAST-MODIFIED:20220413T143652Z
UID:29608-1651568400-1651573800@fundacjadantian.com
SUMMARY:Trening poranny
DESCRIPTION:Jeśli chcesz spędzić aktywnie dzień wolny od pracy\, w przyrodzie\, zapraszamy na otwarty treningi do Łazienek Królewskich. O każdej porze roku\, bez względu na pogodę ćwiczymy ciało i ducha 🙂 wystarczy dostosować odpowiednio ubranie i buty. Zapraszamy zaawansowanych i niezaawansowanych. Zaczynamy Codziennym Rytuałem Zdrowia\, ćwiczymy długą formę Starego Stylu Yang Taiji oraz formy z bronią.  Do zobaczenia 🙂
URL:https://fundacjadantian.com/wydarzenie/trening-poranny-2/
LOCATION:Łazienki Królewskie\, ul.Agrykola 1\, Warszawa
CATEGORIES:Trening weekendowy
ATTACH;FMTTYPE=image/jpeg:https://fundacjadantian.com/wp-content/uploads/2022/04/TRENING-PORANNY.jpg
END:VEVENT
BEGIN:VEVENT
DTSTART;TZID=Europe/Warsaw:20220505T180000
DTEND;TZID=Europe/Warsaw:20220505T193000
DTSTAMP:20260424T062049
CREATED:20220413T134929Z
LAST-MODIFIED:20220608T081122Z
UID:29588-1651773600-1651779000@fundacjadantian.com
SUMMARY:Taiji\, grupa średnio i zaawansowana
DESCRIPTION:Poznanie długiej formy Starego Stylu Yang Taiji to początek drogi adepta. Jeśli myślisz że już umiesz\, jesteś w błędzie. Taiji to sztuka życia\, która nigdy się nie kończy. Nieustająco szlifujemy poszczególne ruchy\, odkrywając coraz głębsze ich aspekty. Z zadziwieniem obserwujemy jak daleko może sięgać ta praktyka. W tym czasie niepostrzeżenia zmienia się ciało\, harmonizuje umysł a życie staje się piękniejsze. To daje wspaniałą perspektywę 🙂  Regularne zajęcia grup średnio- i zaawansowanej w okresie wiosennym i wakacyjnym odbywają się w Łazienkach Królewskich\, przed Starą Kordegardą. \nCEL KURSU: \nNauka zestawu ćwiczeń przygotowawczych oraz – od początku – długiej formy Yang Jia Lao Jia („Starego Stylu Szkoły Yang”) Taiji Quan \nhttp://www.youtube.com/watch?v=Ja2BKK_aOJk. \nWARUNKI UCZESTNICTWA: \nWewnętrzna silna motywacja.\nDeklaracja regularnej\, indywidualnej pracy z samym sobą. \nUbiór: strój sportowy nie krępujący szerokich ruchów\, wygodne obuwie na płaskiej podeszwie.
URL:https://fundacjadantian.com/wydarzenie/taiji-grupa-srednio-i-zaawansowana-2/2022-05-05/
LOCATION:Łazienki Królewskie\, ul.Agrykola 1\, Warszawa
CATEGORIES:Taiji Quan Grupa Łączona
ATTACH;FMTTYPE=image/jpeg:https://fundacjadantian.com/wp-content/uploads/2022/04/Taiji.-Kalendarz.jpg
END:VEVENT
BEGIN:VEVENT
DTSTART;TZID=Europe/Warsaw:20220505T183000
DTEND;TZID=Europe/Warsaw:20220505T200000
DTSTAMP:20260424T062049
CREATED:20220124T102608Z
LAST-MODIFIED:20220302T135840Z
UID:27292-1651775400-1651780800@fundacjadantian.com
SUMMARY:Taiji\, grupa początkująca
DESCRIPTION:Jeśli chcesz poznać i praktykować Stary Styl Yang Taiji\, zapraszamy na regularne zajęcia. Potrzebna będzie wewnętrzna  motywacja\, deklaracja regularnej\, również indywidualnej pracy z samym sobą oraz ciekawość i otwartość. Ta decyzja może zmienić twoje życie. Zyskasz narzędzia do lepszego radzenia sobie z codziennością\, poprawisz kondycję i elastyczność ciała. Dowiesz się jak lepiej radzić sobie ze stresem. Taiji da ci siłę\, lepszą koncentrację i większą radość życia 🙂 \n  \nCEL KURSU: \nNauka zestawu ćwiczeń przygotowawczych oraz – od początku – długiej formy Yang Jia Lao Jia („Starego Stylu Szkoły Yang”) Taiji Quan \n http://www.youtube.com/watch?v=Ja2BKK_aOJk. \nIlość osób w grupie ograniczona\, to ostatni moment żeby dołączyć. \nZapisz się wypełniając formularz: https://tiny.pl/9tk2zl \n  \nInwestycja: \nZajęcia dwa razy w tygodniu:\n• 240 zł opłata miesięczna (płatna do 10 dnia każdego miesiąca)\nRaz w tygodniu w tygodniu:\n• 140 zł opłata miesięczna (płatna do 10 dnia każdego miesiąca)
URL:https://fundacjadantian.com/wydarzenie/taiji-grupa-poczatkujaca-5-2022-05-05/
LOCATION:MDK im. W.Broniewskiego\, Ul. Łazienkowska 7\, Warszawa
CATEGORIES:Taiji Grupa Początkująca
ATTACH;FMTTYPE=image/jpeg:https://fundacjadantian.com/wp-content/uploads/2022/01/page-5.jpeg
END:VEVENT
BEGIN:VEVENT
DTSTART;TZID=Europe/Warsaw:20220510T183000
DTEND;TZID=Europe/Warsaw:20220510T200000
DTSTAMP:20260424T062049
CREATED:20220124T102608Z
LAST-MODIFIED:20220302T135932Z
UID:27293-1652207400-1652212800@fundacjadantian.com
SUMMARY:Taiji\, grupa początkująca
DESCRIPTION:Jeśli chcesz poznać i praktykować Stary Styl Yang Taiji\, zapraszamy na regularne zajęcia. Potrzebna będzie wewnętrzna  motywacja\, deklaracja regularnej\, również indywidualnej pracy z samym sobą oraz ciekawość i otwartość. Ta decyzja może zmienić twoje życie. Zyskasz narzędzia do lepszego radzenia sobie z codziennością\, poprawisz kondycję i elastyczność ciała. Dowiesz się jak lepiej radzić sobie ze stresem. Taiji da ci siłę\, lepszą koncentrację i większą radość życia 🙂 \n  \nCEL KURSU: \nNauka zestawu ćwiczeń przygotowawczych oraz – od początku – długiej formy Yang Jia Lao Jia („Starego Stylu Szkoły Yang”) Taiji Quan \n http://www.youtube.com/watch?v=Ja2BKK_aOJk. \nIlość osób w grupie ograniczona\, to ostatni moment żeby dołączyć. \nZapisz się wypełniając formularz: https://tiny.pl/9tk2zl \n  \nInwestycja: \nZajęcia dwa razy w tygodniu:\n• 240 zł opłata miesięczna (płatna do 10 dnia każdego miesiąca)\nRaz w tygodniu w tygodniu:\n• 140 zł opłata miesięczna (płatna do 10 dnia każdego miesiąca)
URL:https://fundacjadantian.com/wydarzenie/taiji-grupa-poczatkujaca-5-2022-05-10/
LOCATION:MDK im. W.Broniewskiego\, Ul. Łazienkowska 7\, Warszawa
CATEGORIES:Taiji Grupa Początkująca
ATTACH;FMTTYPE=image/jpeg:https://fundacjadantian.com/wp-content/uploads/2022/01/page-5.jpeg
END:VEVENT
BEGIN:VEVENT
DTSTART;TZID=Europe/Warsaw:20220512T183000
DTEND;TZID=Europe/Warsaw:20220512T200000
DTSTAMP:20260424T062049
CREATED:20220124T102608Z
LAST-MODIFIED:20220302T140017Z
UID:27294-1652380200-1652385600@fundacjadantian.com
SUMMARY:Taiji\, grupa początkująca
DESCRIPTION:Jeśli chcesz poznać i praktykować Stary Styl Yang Taiji\, zapraszamy na regularne zajęcia. Potrzebna będzie wewnętrzna  motywacja\, deklaracja regularnej\, również indywidualnej pracy z samym sobą oraz ciekawość i otwartość. Ta decyzja może zmienić twoje życie. Zyskasz narzędzia do lepszego radzenia sobie z codziennością\, poprawisz kondycję i elastyczność ciała. Dowiesz się jak lepiej radzić sobie ze stresem. Taiji da ci siłę\, lepszą koncentrację i większą radość życia 🙂 \n  \nCEL KURSU: \nNauka zestawu ćwiczeń przygotowawczych oraz – od początku – długiej formy Yang Jia Lao Jia („Starego Stylu Szkoły Yang”) Taiji Quan \n http://www.youtube.com/watch?v=Ja2BKK_aOJk. \nIlość osób w grupie ograniczona\, to ostatni moment żeby dołączyć. \nZapisz się wypełniając formularz: https://tiny.pl/9tk2zl \n  \nInwestycja: \nZajęcia dwa razy w tygodniu:\n• 240 zł opłata miesięczna (płatna do 10 dnia każdego miesiąca)\nRaz w tygodniu w tygodniu:\n• 140 zł opłata miesięczna (płatna do 10 dnia każdego miesiąca)
URL:https://fundacjadantian.com/wydarzenie/taiji-grupa-poczatkujaca-5-2022-05-12/
LOCATION:MDK im. W.Broniewskiego\, Ul. Łazienkowska 7\, Warszawa
CATEGORIES:Taiji Grupa Początkująca
ATTACH;FMTTYPE=image/jpeg:https://fundacjadantian.com/wp-content/uploads/2022/01/page-5.jpeg
END:VEVENT
BEGIN:VEVENT
DTSTART;TZID=Europe/Warsaw:20220513T183000
DTEND;TZID=Europe/Warsaw:20220513T193000
DTSTAMP:20260424T062049
CREATED:20220509T092545Z
LAST-MODIFIED:20220509T092547Z
UID:29711-1652466600-1652470200@fundacjadantian.com
SUMMARY:Qigong w MDK
DESCRIPTION:Może zastanawiasz się co to właściwie jest? Otóż Potrójny Ogrzewacz (San Jiao) to zbiór trzech ogrzewaczy\, z których każdy ma swoją funkcję. Jako całość zapewnia on przemianę energii zewnętrznej (zawartej w powietrzu i pożywieniu) w energie niezbędne do życia człowieka. Funkcyjnie dzielimy go na trzy poziome jamy ciała\, znajdujące się jedna nad drugą. Górny Ogrzewacz (Shang Jiao) znajdujący się w klatce piersiowej\, nad przeponą\, obejmujący płuca i serce. Środkowy Ogrzewacz (Zhong Jiao)\, między przeponą a fikcyjną płaszczyzną przechodzącą na poziomie pępka. Obejmuje wątrobę\, żołądek\, śledzionę\, jelito cienkie i woreczek żółciowy\,  zapewniając przemianę energii żywności oraz dolny Ogrzewacz (Xia Jiao) znajdujący się w podbrzuszu\, między pępkiem a łonem. Obejmuje nerki\, pęcherz\, jelito grube\, a także gruczoły dokrewne (jajniki lub jądra). Jego głównym zadaniem jest eliminacja zbędnej części pokarmu. W skrócie można powiedzieć\, że Górny Ogrzewacz jest odpowiedzialny za absorpcję powietrza i pożywienia\, Środkowy – za ich przetwarzanie\, a Dolny – za wydalenie nieczystości.\nZatem ich prawidłowemu działaniu zawdzięczamy bardzo wiele!\nJak zadbać o Potrójny Ogrzewacz dowiesz się na naszym piątkowym spotkaniu w MDK\, 13.05.22.\nSpotkanie prowadzi Jan Gliński.\n\nZ powodu ograniczonego miejsca w sali\, obowiązują zapisy\nAby się zapisać\, wypełnij formularz
URL:https://fundacjadantian.com/wydarzenie/qigong-w-mdk/
LOCATION:MDK im. W.Broniewskiego\, Ul. Łazienkowska 7\, Warszawa
CATEGORIES:Qigong
ATTACH;FMTTYPE=image/jpeg:https://fundacjadantian.com/wp-content/uploads/2022/01/Kalendarz-1920x1080-px.jpeg
END:VEVENT
BEGIN:VEVENT
DTSTART;TZID=Europe/Warsaw:20220514T120000
DTEND;TZID=Europe/Warsaw:20220514T133000
DTSTAMP:20260424T062049
CREATED:20220509T093555Z
LAST-MODIFIED:20220513T104952Z
UID:29716-1652529600-1652535000@fundacjadantian.com
SUMMARY:Qigong w Parku Kultury w Powsinie
DESCRIPTION:Ruchu oraz obecności wsród przyrody nigdy za wiele. Szczególnie w pięknym miejscu\, jakim jest Park Kultury w Powsinie\, gdzie odbywać się będą nasze wiosenno-letnie zajęcia qigongu\, który przecież najprzyjemniej praktykować w przyrodzie. Zaplanuj sobie zieloną sobotę w Powsinie. Po zajęciach możesz pospacerować\, odwiedzić Ogród Botaniczny\, pograć w Chińczyka pod brzozami albo po prostu napić się herbaty i pooddychać leśnym powietrzem.\nZapraszamy w wybrane soboty. Spotykamy się o 11.50 przed Klubokawiarnią.
URL:https://fundacjadantian.com/wydarzenie/qigong-w-parku-kultury-w-powsinie/
LOCATION:Park Kultury w Powsinie\, Maślaków 1\, Warszawa\, 02-973
CATEGORIES:Qigong
ATTACH;FMTTYPE=image/jpeg:https://fundacjadantian.com/wp-content/uploads/2022/05/QIGING-W-POWSINIE.jpg
END:VEVENT
BEGIN:VEVENT
DTSTART;TZID=Europe/Warsaw:20220515T100000
DTEND;TZID=Europe/Warsaw:20220515T113000
DTSTAMP:20260424T062049
CREATED:20220509T092937Z
LAST-MODIFIED:20220513T104213Z
UID:29714-1652608800-1652614200@fundacjadantian.com
SUMMARY:Ósme urodziny Fundacji Dantian
DESCRIPTION:15 maja nasza Fundacja kończy 8 lat! Ósemka (八) uważana jest przez Chińczyków za najszczęśliwszą liczbę\, ponieważ 八 bā wymawia się podobnie jak 发 fā\, bogacenie się. Niech to będzie dobra wróżba dla naszej Fundacji 😀.\nÓsemkę spotykamy też często w qigongu. Jedną z jego najbardziej rozpowszechnionych form jest Ba Duan Jin\, czyli Osiem Kawałków Brokatu. Z kolei Baguazhang\, czyli Dłoń Ośmiu Trygramów\, jest jednym z trzech głównych systemów sztuk walki szkoły Wudang (dwa pozostałe to Taiji i Xing Yi). Jest też Osiem Cudownych Meridianów (Qi Jing Ba Mai)\, stanowiących rezerwuary energii dla pozostałych meridianów i będących rodzajem rusztowania energetycznego naszego ciała. Nic więc dziwnego\, że szczęśliwa ósemka będzie też przyświecała naszym ćwiczeniom w najbliższą\, rocznicową niedzielę\, przed Starą Kordegardą w Łazienkach Królewskich.\nPo ćwiczeniach – składkowy piknik. Zapraszamy!
URL:https://fundacjadantian.com/wydarzenie/osme-urodziny-fundacji-dantian/
LOCATION:Łazienki Królewskie\, ul.Agrykola 1\, Warszawa
ATTACH;FMTTYPE=image/jpeg:https://fundacjadantian.com/wp-content/uploads/2022/05/8-URODZINY-FUNDACJI.jpg
END:VEVENT
BEGIN:VEVENT
DTSTART;TZID=Europe/Warsaw:20220517T183000
DTEND;TZID=Europe/Warsaw:20220517T200000
DTSTAMP:20260424T062049
CREATED:20220124T102608Z
LAST-MODIFIED:20220302T140059Z
UID:27295-1652812200-1652817600@fundacjadantian.com
SUMMARY:Taiji\, grupa początkująca
DESCRIPTION:Jeśli chcesz poznać i praktykować Stary Styl Yang Taiji\, zapraszamy na regularne zajęcia. Potrzebna będzie wewnętrzna  motywacja\, deklaracja regularnej\, również indywidualnej pracy z samym sobą oraz ciekawość i otwartość. Ta decyzja może zmienić twoje życie. Zyskasz narzędzia do lepszego radzenia sobie z codziennością\, poprawisz kondycję i elastyczność ciała. Dowiesz się jak lepiej radzić sobie ze stresem. Taiji da ci siłę\, lepszą koncentrację i większą radość życia 🙂 \n  \nCEL KURSU: \nNauka zestawu ćwiczeń przygotowawczych oraz – od początku – długiej formy Yang Jia Lao Jia („Starego Stylu Szkoły Yang”) Taiji Quan \n http://www.youtube.com/watch?v=Ja2BKK_aOJk. \nIlość osób w grupie ograniczona\, to ostatni moment żeby dołączyć. \nZapisz się wypełniając formularz: https://tiny.pl/9tk2zl \n  \nInwestycja: \nZajęcia dwa razy w tygodniu:\n• 240 zł opłata miesięczna (płatna do 10 dnia każdego miesiąca)\nRaz w tygodniu w tygodniu:\n• 140 zł opłata miesięczna (płatna do 10 dnia każdego miesiąca)
URL:https://fundacjadantian.com/wydarzenie/taiji-grupa-poczatkujaca-5-2022-05-17/
LOCATION:MDK im. W.Broniewskiego\, Ul. Łazienkowska 7\, Warszawa
CATEGORIES:Taiji Grupa Początkująca
ATTACH;FMTTYPE=image/jpeg:https://fundacjadantian.com/wp-content/uploads/2022/01/page-5.jpeg
END:VEVENT
BEGIN:VEVENT
DTSTART;TZID=Europe/Warsaw:20220519T110000
DTEND;TZID=Europe/Warsaw:20220519T120000
DTSTAMP:20260424T062049
CREATED:20220125T081300Z
LAST-MODIFIED:20220302T135620Z
UID:28245-1652958000-1652961600@fundacjadantian.com
SUMMARY:Warsztaty artystyczno-ruchowe
DESCRIPTION:Poznaj i zrozum działa sztuki angażując wszystkie zmysły. Patrz uważniej\, obserwuj przyrodę\, siebie\, rozwijaj się. Rzeźbiąc\, malując\, słuchając\, poruszając się\, odkryj energetyczne siły żywiołów: ognia\, powietrza\, wody i ziemi. Na styczniowych warsztatach podpatrzysz\, w jaki sposób artyści uwieczniali zmienności zjawisk na niebie. Od delikatnych obłoczków oświetlonych słońcem\, poprzez imponujące\, wypiętrzone w niebo struktury\, aż po ciemne groźne chmury zwiastujące nawałnice. Każdy z nas zauważył\, jak dynamicznie zmienia się obraz nieba\, czasem z minuty na minutę. Poznasz taż ćwiczenia taiji i qigongu\, które harmonizują ciało i umysł a inspirowane są\, płynącymi po niebie chmurami. \nWarsztat prowadzi Marzena Rostkowska. \nZapraszamy!
URL:https://fundacjadantian.com/wydarzenie/warsztaty-artystyczno-ruchowe-5/
LOCATION:Muzeum Narodowe\, Al. Jerozolimskie 3\, Warszawa
CATEGORIES:Qigong
ATTACH;FMTTYPE=image/jpeg:https://fundacjadantian.com/wp-content/uploads/2022/01/Kalendarz-1920x1080-px-2.jpeg
END:VEVENT
BEGIN:VEVENT
DTSTART;TZID=Europe/Warsaw:20220519T183000
DTEND;TZID=Europe/Warsaw:20220519T200000
DTSTAMP:20260424T062049
CREATED:20220124T102608Z
LAST-MODIFIED:20220302T140254Z
UID:27296-1652985000-1652990400@fundacjadantian.com
SUMMARY:Taiji\, grupa początkująca
DESCRIPTION:Jeśli chcesz poznać i praktykować Stary Styl Yang Taiji\, zapraszamy na regularne zajęcia. Potrzebna będzie wewnętrzna  motywacja\, deklaracja regularnej\, również indywidualnej pracy z samym sobą oraz ciekawość i otwartość. Ta decyzja może zmienić twoje życie. Zyskasz narzędzia do lepszego radzenia sobie z codziennością\, poprawisz kondycję i elastyczność ciała. Dowiesz się jak lepiej radzić sobie ze stresem. Taiji da ci siłę\, lepszą koncentrację i większą radość życia 🙂 \n  \nCEL KURSU: \nNauka zestawu ćwiczeń przygotowawczych oraz – od początku – długiej formy Yang Jia Lao Jia („Starego Stylu Szkoły Yang”) Taiji Quan \n http://www.youtube.com/watch?v=Ja2BKK_aOJk. \nIlość osób w grupie ograniczona\, to ostatni moment żeby dołączyć. \nZapisz się wypełniając formularz: https://tiny.pl/9tk2zl \n  \nInwestycja: \nZajęcia dwa razy w tygodniu:\n• 240 zł opłata miesięczna (płatna do 10 dnia każdego miesiąca)\nRaz w tygodniu w tygodniu:\n• 140 zł opłata miesięczna (płatna do 10 dnia każdego miesiąca)
URL:https://fundacjadantian.com/wydarzenie/taiji-grupa-poczatkujaca-5-2022-05-19/
LOCATION:MDK im. W.Broniewskiego\, Ul. Łazienkowska 7\, Warszawa
CATEGORIES:Taiji Grupa Początkująca
ATTACH;FMTTYPE=image/jpeg:https://fundacjadantian.com/wp-content/uploads/2022/01/page-5.jpeg
END:VEVENT
BEGIN:VEVENT
DTSTART;TZID=Europe/Warsaw:20220520T183000
DTEND;TZID=Europe/Warsaw:20220520T193000
DTSTAMP:20260424T062049
CREATED:20220509T103719Z
LAST-MODIFIED:20220513T104834Z
UID:29735-1653071400-1653075000@fundacjadantian.com
SUMMARY:Qigong w MDK
DESCRIPTION:EFT Tapping to metoda pracy z ciałem\, emocjami i umysłem. Bezbolesna\, będąca też prostym sposobem leczenia. Na zajęciach dowiesz się dlaczego najlepiej zajmować się sobą kompleksowo oraz jak bardzo ciało\, emocje i umysł idą ze sobą w parze. Poprzez opukiwanie wskazanych punktów merydianowych możesz uwolnić sporo zablokowanej energii\, która według Cary Craig\, gromadzi się w ciele\, podczas szczególnie stresujących momentów. Nauczysz się w tym celu techniki EFT (Emotional Freedom Techniques – Tapping) czyli opukiwania. Dając sobie uwagę oraz czas na poznanie tapiingu\, jednego z wielu istniejących sposobów radzenia sobie ze stresem\, nadmiarem myśli\, uzyskasz proste narzędzie do pracy własnej. Przyjdź i dowiedz się czy ta metoda jest dla ciebie. Zajęcia prowadzi Marzena Maya Rostkowska.EFT Tapping – metoda pracy z ciałem. \nProwadzi Marzena Rostkowska \nZe względu na ograniczoną liczbę miejsc\, obowiązują wcześniejsze zapisy. Zarezerwuj wstępnie miejsce wypełniając formularz
URL:https://fundacjadantian.com/wydarzenie/qigong-w-mdk-2/
LOCATION:MDK im. W.Broniewskiego\, Ul. Łazienkowska 7\, Warszawa
CATEGORIES:Qigong
ATTACH;FMTTYPE=image/jpeg:https://fundacjadantian.com/wp-content/uploads/2022/01/Kalendarz-1920x1080-px.jpeg
END:VEVENT
BEGIN:VEVENT
DTSTART;TZID=Europe/Warsaw:20220527T183000
DTEND;TZID=Europe/Warsaw:20220527T193000
DTSTAMP:20260424T062049
CREATED:20220509T113331Z
LAST-MODIFIED:20220509T113402Z
UID:29752-1653676200-1653679800@fundacjadantian.com
SUMMARY:Qigong w MDK
DESCRIPTION:Zapraszamy na dwa spotkania z Codziennym Rytuałem Zdrowia. Poznaj ten komplementarny zestaw 15 ćwiczeń\, wykonywanych przed każdym treningiem taiji czy qigongu w tradycji Starego Stylu Yang Taiji Quan. To wspaniały sposób dla optymalnego rozpoczęcia dnia. Wykonywany regularnie\, pomaga zachować elastyczność stawów\, mięśni\, ścięgień i powięzi\, wzamcnia kości\, poprawia przepływ energii\, krwi i limfy\, a z prawidowym oddechem jest prawdziwym “skarbem”\, pozwalającym nam zachować sprawność fizyczną i mentalną niezależnie od wieku. Kiedy poznasz już wszystkie ćwiczenia\, wykonanie całości zajmuje około 20 minut. Tyle\, ile trwa przepływ krwi przez wszystkie narządy i części ciała.\nZajęcia prowadzi Edyta Wypierowska\n\nZe względu na ograniczoną liczbę miejsc\, obowiązują wcześniejsze zapisy. Zarezerwuj wstępnie miejsce wypełniając formularz
URL:https://fundacjadantian.com/wydarzenie/qigong-w-mdk-3/2022-05-27/
LOCATION:MDK im. W.Broniewskiego\, Ul. Łazienkowska 7\, Warszawa
CATEGORIES:Qigong
ATTACH;FMTTYPE=image/jpeg:https://fundacjadantian.com/wp-content/uploads/2022/01/Kalendarz-1920x1080-px.jpeg
END:VEVENT
BEGIN:VEVENT
DTSTART;TZID=Europe/Warsaw:20220528T120000
DTEND;TZID=Europe/Warsaw:20220528T133000
DTSTAMP:20260424T062049
CREATED:20220509T093905Z
LAST-MODIFIED:20220513T104923Z
UID:29722-1653739200-1653744600@fundacjadantian.com
SUMMARY:Qigong w Parku Kultury w Powsinie
DESCRIPTION:Ruchu oraz obecności wsród przyrody nigdy za wiele. Szczególnie w pięknym miejscu\, jakim jest Park Kultury w Powsinie\, gdzie odbywać się będą nasze wiosenno-letnie zajęcia qigongu\, który przecież najprzyjemniej praktykować w przyrodzie. Zaplanuj sobie zieloną sobotę w Powsinie. Po zajęciach możesz pospacerować\, odwiedzić Ogród Botaniczny\, pograć w Chińczyka pod brzozami albo po prostu napić się herbaty i pooddychać leśnym powietrzem.\nZapraszamy w wybrane soboty. Spotykamy się o 12.00 przed Klubokawiarnią.
URL:https://fundacjadantian.com/wydarzenie/qigong-w-parku-kultury-w-powsinie-2/
LOCATION:Park Kultury w Powsinie\, Maślaków 1\, Warszawa\, 02-973
CATEGORIES:Qigong
ATTACH;FMTTYPE=image/jpeg:https://fundacjadantian.com/wp-content/uploads/2022/05/QIGING-W-POWSINIE.jpg
END:VEVENT
END:VCALENDAR