BEGIN:VCALENDAR
VERSION:2.0
PRODID:-//Fundacja Dantian - ECPv6.15.16//NONSGML v1.0//EN
CALSCALE:GREGORIAN
METHOD:PUBLISH
X-ORIGINAL-URL:https://fundacjadantian.com
X-WR-CALDESC:Wydarzenia dla Fundacja Dantian
REFRESH-INTERVAL;VALUE=DURATION:PT1H
X-Robots-Tag:noindex
X-PUBLISHED-TTL:PT1H
BEGIN:VTIMEZONE
TZID:Europe/Warsaw
BEGIN:DAYLIGHT
TZOFFSETFROM:+0100
TZOFFSETTO:+0200
TZNAME:CEST
DTSTART:20210328T010000
END:DAYLIGHT
BEGIN:STANDARD
TZOFFSETFROM:+0200
TZOFFSETTO:+0100
TZNAME:CET
DTSTART:20211031T010000
END:STANDARD
BEGIN:DAYLIGHT
TZOFFSETFROM:+0100
TZOFFSETTO:+0200
TZNAME:CEST
DTSTART:20220327T010000
END:DAYLIGHT
BEGIN:STANDARD
TZOFFSETFROM:+0200
TZOFFSETTO:+0100
TZNAME:CET
DTSTART:20221030T010000
END:STANDARD
BEGIN:DAYLIGHT
TZOFFSETFROM:+0100
TZOFFSETTO:+0200
TZNAME:CEST
DTSTART:20230326T010000
END:DAYLIGHT
BEGIN:STANDARD
TZOFFSETFROM:+0200
TZOFFSETTO:+0100
TZNAME:CET
DTSTART:20231029T010000
END:STANDARD
END:VTIMEZONE
BEGIN:VEVENT
DTSTART;TZID=Europe/Warsaw:20220218T183000
DTEND;TZID=Europe/Warsaw:20220218T193000
DTSTAMP:20260419T171611
CREATED:20220210T113035Z
LAST-MODIFIED:20220210T113304Z
UID:29125-1645209000-1645212600@fundacjadantian.com
SUMMARY:Qigong - MDK
DESCRIPTION:Cykl Wudang Qigong cieszy się sporym zainteresowaniem dlatego też\, kontynuujemy tę podróż śladami mistrzów qigongu\, w góry Wudang w południowo-wschodnich Chinach! Warsztaty przeznaczone są zarówno dla tych\, którzy chcą ugruntować zdobytą wiedzę\, jak i dla tych\, którzy chcą zapoznać się z tym ciekawym\, wewnętrznym systemem ćwiczeń\, pamiętając że jak w każdym systemie wewnętrznych sztuk energetycznych ważny jest nie tylko ruch\, ale przede wszystkim odpowiedni oddech oraz koncentracja umysłu. Taki też charakter mają nasze warsztaty. \nZaczynamy  18.02\, do zobaczenia \nZapisz się wypełniając formularz \ngodz. 18.30 -19.30 ( sala nr 5)
URL:https://fundacjadantian.com/wydarzenie/qigong-mdk/2022-02-18/
CATEGORIES:Qigong
ATTACH;FMTTYPE=image/jpeg:https://fundacjadantian.com/wp-content/uploads/2022/01/Kalendarz-1920x1080-px.jpeg
END:VEVENT
END:VCALENDAR