BEGIN:VCALENDAR
VERSION:2.0
PRODID:-//Fundacja Dantian - ECPv6.15.20//NONSGML v1.0//EN
CALSCALE:GREGORIAN
METHOD:PUBLISH
X-ORIGINAL-URL:https://fundacjadantian.com
X-WR-CALDESC:Wydarzenia dla Fundacja Dantian
REFRESH-INTERVAL;VALUE=DURATION:PT1H
X-Robots-Tag:noindex
X-PUBLISHED-TTL:PT1H
BEGIN:VTIMEZONE
TZID:Europe/Warsaw
BEGIN:DAYLIGHT
TZOFFSETFROM:+0100
TZOFFSETTO:+0200
TZNAME:CEST
DTSTART:20220327T010000
END:DAYLIGHT
BEGIN:STANDARD
TZOFFSETFROM:+0200
TZOFFSETTO:+0100
TZNAME:CET
DTSTART:20221030T010000
END:STANDARD
BEGIN:DAYLIGHT
TZOFFSETFROM:+0100
TZOFFSETTO:+0200
TZNAME:CEST
DTSTART:20230326T010000
END:DAYLIGHT
BEGIN:STANDARD
TZOFFSETFROM:+0200
TZOFFSETTO:+0100
TZNAME:CET
DTSTART:20231029T010000
END:STANDARD
BEGIN:DAYLIGHT
TZOFFSETFROM:+0100
TZOFFSETTO:+0200
TZNAME:CEST
DTSTART:20240331T010000
END:DAYLIGHT
BEGIN:STANDARD
TZOFFSETFROM:+0200
TZOFFSETTO:+0100
TZNAME:CET
DTSTART:20241027T010000
END:STANDARD
BEGIN:DAYLIGHT
TZOFFSETFROM:+0100
TZOFFSETTO:+0200
TZNAME:CEST
DTSTART:20250330T010000
END:DAYLIGHT
BEGIN:STANDARD
TZOFFSETFROM:+0200
TZOFFSETTO:+0100
TZNAME:CET
DTSTART:20251026T010000
END:STANDARD
BEGIN:DAYLIGHT
TZOFFSETFROM:+0100
TZOFFSETTO:+0200
TZNAME:CEST
DTSTART:20260329T010000
END:DAYLIGHT
BEGIN:STANDARD
TZOFFSETFROM:+0200
TZOFFSETTO:+0100
TZNAME:CET
DTSTART:20261025T010000
END:STANDARD
BEGIN:DAYLIGHT
TZOFFSETFROM:+0100
TZOFFSETTO:+0200
TZNAME:CEST
DTSTART:20270328T010000
END:DAYLIGHT
BEGIN:STANDARD
TZOFFSETFROM:+0200
TZOFFSETTO:+0100
TZNAME:CET
DTSTART:20271031T010000
END:STANDARD
END:VTIMEZONE
BEGIN:VEVENT
DTSTART;TZID=Europe/Warsaw:20260125T100000
DTEND;TZID=Europe/Warsaw:20260125T110000
DTSTAMP:20260423T235245
CREATED:20251121T081951Z
LAST-MODIFIED:20260225T180347Z
UID:51994-1769335200-1769338800@fundacjadantian.com
SUMMARY:Niedzielne marsze oddechowe
DESCRIPTION:Poprzez różnorodne formy działalności\, Fundacja Dantian od szeregu lat stara się dołożyć swoją cegiełkę\, zwłaszcza w zakresie profilaktyki zdrowotnej. Widząc ciągle rosnący odsetek ludzi z chorobami cywilizacyjnymi\, postanowiliśmy podzielić się z Wami wschodnioazjatyckimi technikami qigongu medycznego\, o udokumentowanych – na Wschodzie i na Zachodzie – pozytywnych efektach w zapobieganiu pojawienia się chorób cywilizacyjnych jak również w ich zwalczaniu. Te coniedzielne spotkania mają charakter profilaktyczny i edukacyjny\, ponieważ zarówno oddech jak i sposób poruszania wymagają wiedzy i praktyki. Zapraszamy do wspólnego maszerowania po zdrowie\,  Spotykamy się przed Starą Kordegardą o 10.00. Spotkania są bezpłatne. 
URL:https://fundacjadantian.com/wydarzenie/niedzielne-marsze-oddechowe-6/2026-01-25/
LOCATION:Łazienki Królewskie\, ul.Agrykola 1\, Warszawa
CATEGORIES:Marsze chodzone
ATTACH;FMTTYPE=image/jpeg:https://fundacjadantian.com/wp-content/uploads/2023/09/marsze-chodzone.jpg
END:VEVENT
BEGIN:VEVENT
DTSTART;TZID=Europe/Warsaw:20260118T100000
DTEND;TZID=Europe/Warsaw:20260118T110000
DTSTAMP:20260423T235245
CREATED:20251121T081951Z
LAST-MODIFIED:20260225T180346Z
UID:51993-1768730400-1768734000@fundacjadantian.com
SUMMARY:Niedzielne marsze oddechowe
DESCRIPTION:Poprzez różnorodne formy działalności\, Fundacja Dantian od szeregu lat stara się dołożyć swoją cegiełkę\, zwłaszcza w zakresie profilaktyki zdrowotnej. Widząc ciągle rosnący odsetek ludzi z chorobami cywilizacyjnymi\, postanowiliśmy podzielić się z Wami wschodnioazjatyckimi technikami qigongu medycznego\, o udokumentowanych – na Wschodzie i na Zachodzie – pozytywnych efektach w zapobieganiu pojawienia się chorób cywilizacyjnych jak również w ich zwalczaniu. Te coniedzielne spotkania mają charakter profilaktyczny i edukacyjny\, ponieważ zarówno oddech jak i sposób poruszania wymagają wiedzy i praktyki. Zapraszamy do wspólnego maszerowania po zdrowie\,  Spotykamy się przed Starą Kordegardą o 10.00. Spotkania są bezpłatne. 
URL:https://fundacjadantian.com/wydarzenie/niedzielne-marsze-oddechowe-6/2026-01-18/
LOCATION:Łazienki Królewskie\, ul.Agrykola 1\, Warszawa
CATEGORIES:Marsze chodzone
ATTACH;FMTTYPE=image/jpeg:https://fundacjadantian.com/wp-content/uploads/2023/09/marsze-chodzone.jpg
END:VEVENT
BEGIN:VEVENT
DTSTART;TZID=Europe/Warsaw:20260111T100000
DTEND;TZID=Europe/Warsaw:20260111T110000
DTSTAMP:20260423T235245
CREATED:20251121T081951Z
LAST-MODIFIED:20260225T180344Z
UID:51992-1768125600-1768129200@fundacjadantian.com
SUMMARY:Niedzielne marsze oddechowe
DESCRIPTION:Poprzez różnorodne formy działalności\, Fundacja Dantian od szeregu lat stara się dołożyć swoją cegiełkę\, zwłaszcza w zakresie profilaktyki zdrowotnej. Widząc ciągle rosnący odsetek ludzi z chorobami cywilizacyjnymi\, postanowiliśmy podzielić się z Wami wschodnioazjatyckimi technikami qigongu medycznego\, o udokumentowanych – na Wschodzie i na Zachodzie – pozytywnych efektach w zapobieganiu pojawienia się chorób cywilizacyjnych jak również w ich zwalczaniu. Te coniedzielne spotkania mają charakter profilaktyczny i edukacyjny\, ponieważ zarówno oddech jak i sposób poruszania wymagają wiedzy i praktyki. Zapraszamy do wspólnego maszerowania po zdrowie\,  Spotykamy się przed Starą Kordegardą o 10.00. Spotkania są bezpłatne. 
URL:https://fundacjadantian.com/wydarzenie/niedzielne-marsze-oddechowe-6/2026-01-11/
LOCATION:Łazienki Królewskie\, ul.Agrykola 1\, Warszawa
CATEGORIES:Marsze chodzone
ATTACH;FMTTYPE=image/jpeg:https://fundacjadantian.com/wp-content/uploads/2023/09/marsze-chodzone.jpg
END:VEVENT
BEGIN:VEVENT
DTSTART;TZID=Europe/Warsaw:20251214T100000
DTEND;TZID=Europe/Warsaw:20251214T110000
DTSTAMP:20260423T235245
CREATED:20251121T081951Z
LAST-MODIFIED:20260225T180343Z
UID:51988-1765706400-1765710000@fundacjadantian.com
SUMMARY:Niedzielne marsze oddechowe
DESCRIPTION:Poprzez różnorodne formy działalności\, Fundacja Dantian od szeregu lat stara się dołożyć swoją cegiełkę\, zwłaszcza w zakresie profilaktyki zdrowotnej. Widząc ciągle rosnący odsetek ludzi z chorobami cywilizacyjnymi\, postanowiliśmy podzielić się z Wami wschodnioazjatyckimi technikami qigongu medycznego\, o udokumentowanych – na Wschodzie i na Zachodzie – pozytywnych efektach w zapobieganiu pojawienia się chorób cywilizacyjnych jak również w ich zwalczaniu. Te coniedzielne spotkania mają charakter profilaktyczny i edukacyjny\, ponieważ zarówno oddech jak i sposób poruszania wymagają wiedzy i praktyki. Zapraszamy do wspólnego maszerowania po zdrowie\,  Spotykamy się przed Starą Kordegardą o 10.00. Spotkania są bezpłatne. 
URL:https://fundacjadantian.com/wydarzenie/niedzielne-marsze-oddechowe-6/2025-12-14/
LOCATION:Łazienki Królewskie\, ul.Agrykola 1\, Warszawa
CATEGORIES:Marsze chodzone
ATTACH;FMTTYPE=image/jpeg:https://fundacjadantian.com/wp-content/uploads/2023/09/marsze-chodzone.jpg
END:VEVENT
BEGIN:VEVENT
DTSTART;TZID=Europe/Warsaw:20251207T100000
DTEND;TZID=Europe/Warsaw:20251207T110000
DTSTAMP:20260423T235245
CREATED:20251121T081951Z
LAST-MODIFIED:20260225T180342Z
UID:51987-1765101600-1765105200@fundacjadantian.com
SUMMARY:Niedzielne marsze oddechowe
DESCRIPTION:Poprzez różnorodne formy działalności\, Fundacja Dantian od szeregu lat stara się dołożyć swoją cegiełkę\, zwłaszcza w zakresie profilaktyki zdrowotnej. Widząc ciągle rosnący odsetek ludzi z chorobami cywilizacyjnymi\, postanowiliśmy podzielić się z Wami wschodnioazjatyckimi technikami qigongu medycznego\, o udokumentowanych – na Wschodzie i na Zachodzie – pozytywnych efektach w zapobieganiu pojawienia się chorób cywilizacyjnych jak również w ich zwalczaniu. Te coniedzielne spotkania mają charakter profilaktyczny i edukacyjny\, ponieważ zarówno oddech jak i sposób poruszania wymagają wiedzy i praktyki. Zapraszamy do wspólnego maszerowania po zdrowie\,  Spotykamy się przed Starą Kordegardą o 10.00. Spotkania są bezpłatne. 
URL:https://fundacjadantian.com/wydarzenie/niedzielne-marsze-oddechowe-6/2025-12-07/
LOCATION:Łazienki Królewskie\, ul.Agrykola 1\, Warszawa
CATEGORIES:Marsze chodzone
ATTACH;FMTTYPE=image/jpeg:https://fundacjadantian.com/wp-content/uploads/2023/09/marsze-chodzone.jpg
END:VEVENT
BEGIN:VEVENT
DTSTART;TZID=Europe/Warsaw:20251130T100000
DTEND;TZID=Europe/Warsaw:20251130T110000
DTSTAMP:20260423T235245
CREATED:20251121T081951Z
LAST-MODIFIED:20260225T180330Z
UID:51986-1764496800-1764500400@fundacjadantian.com
SUMMARY:Niedzielne marsze oddechowe
DESCRIPTION:Poprzez różnorodne formy działalności\, Fundacja Dantian od szeregu lat stara się dołożyć swoją cegiełkę\, zwłaszcza w zakresie profilaktyki zdrowotnej. Widząc ciągle rosnący odsetek ludzi z chorobami cywilizacyjnymi\, postanowiliśmy podzielić się z Wami wschodnioazjatyckimi technikami qigongu medycznego\, o udokumentowanych – na Wschodzie i na Zachodzie – pozytywnych efektach w zapobieganiu pojawienia się chorób cywilizacyjnych jak również w ich zwalczaniu. Te coniedzielne spotkania mają charakter profilaktyczny i edukacyjny\, ponieważ zarówno oddech jak i sposób poruszania wymagają wiedzy i praktyki. Zapraszamy do wspólnego maszerowania po zdrowie\,  Spotykamy się przed Starą Kordegardą o 10.00. Spotkania są bezpłatne. 
URL:https://fundacjadantian.com/wydarzenie/niedzielne-marsze-oddechowe-6/2025-11-30/
LOCATION:Łazienki Królewskie\, ul.Agrykola 1\, Warszawa
CATEGORIES:Marsze chodzone
ATTACH;FMTTYPE=image/jpeg:https://fundacjadantian.com/wp-content/uploads/2023/09/marsze-chodzone.jpg
END:VEVENT
BEGIN:VEVENT
DTSTART;TZID=Europe/Warsaw:20251123T100000
DTEND;TZID=Europe/Warsaw:20251123T110000
DTSTAMP:20260423T235245
CREATED:20251121T081951Z
LAST-MODIFIED:20260225T180320Z
UID:51984-1763892000-1763895600@fundacjadantian.com
SUMMARY:Niedzielne marsze oddechowe
DESCRIPTION:Poprzez różnorodne formy działalności\, Fundacja Dantian od szeregu lat stara się dołożyć swoją cegiełkę\, zwłaszcza w zakresie profilaktyki zdrowotnej. Widząc ciągle rosnący odsetek ludzi z chorobami cywilizacyjnymi\, postanowiliśmy podzielić się z Wami wschodnioazjatyckimi technikami qigongu medycznego\, o udokumentowanych – na Wschodzie i na Zachodzie – pozytywnych efektach w zapobieganiu pojawienia się chorób cywilizacyjnych jak również w ich zwalczaniu. Te coniedzielne spotkania mają charakter profilaktyczny i edukacyjny\, ponieważ zarówno oddech jak i sposób poruszania wymagają wiedzy i praktyki. Zapraszamy do wspólnego maszerowania po zdrowie\,  Spotykamy się przed Starą Kordegardą o 10.00. Spotkania są bezpłatne. 
URL:https://fundacjadantian.com/wydarzenie/niedzielne-marsze-oddechowe-6/2025-11-23/
LOCATION:Łazienki Królewskie\, ul.Agrykola 1\, Warszawa
CATEGORIES:Marsze chodzone
ATTACH;FMTTYPE=image/jpeg:https://fundacjadantian.com/wp-content/uploads/2023/09/marsze-chodzone.jpg
END:VEVENT
BEGIN:VEVENT
DTSTART;TZID=Europe/Warsaw:20230415T100000
DTEND;TZID=Europe/Warsaw:20230415T110000
DTSTAMP:20260423T235245
CREATED:20230327T073829Z
LAST-MODIFIED:20230327T100323Z
UID:33467-1681552800-1681556400@fundacjadantian.com
SUMMARY:Sobotnie marsze oddechowe
DESCRIPTION:Poprzez różnorodne formy działalności\, Fundacja Dantian od szeregu lat stara się dołożyć swoją cegiełkę\, zwłaszcza w zakresie profilaktyki zdrowotnej. Widząc ciągle rosnący odsetek ludzi z chorobami nowotworowymi\, postanowiliśmy podzielić się z Wami dalekowschodnimi technikami qigongu medycznego\, o udokumentowanych – na Wschodzie i na Zachodzie – pozytywnych efektach zarówno w zapobieganiu pojawienia się nowotworów\, jak i w towarzyszeniu współczesnej terapii onkologicznej. W tym duchu zorganizowaliśmy warsztat\, dedykowany najbardziej chyba rozpowszechnionej technice tzw. antyrakowego qigongu Guolin. Ale co dalej? Oprócz planowania kolejnych warsztatów\, zapraszamy na sobotnie marsze w przyrodzie\, w Łazienkach Królewskich. Marsze mają charakter profilaktyczny ale też mogą przyspieszyć powrót do zdrowia tym\, którzy kończą lub mają już za sobą zwykle bardzo osłabiającą organizm szpitalną terapię onkologiczną. Sobotnie marsze oddechowe to cotygodniowe spacery połączone z odpowiednim oddechem.  Spotykamy się przed Starą Kordegardą o 10.00.  \nDaj nam znać że będziesz i zapisz się poprzez formularz
URL:https://fundacjadantian.com/wydarzenie/marsz-guolin-plus-6/2023-04-15/
LOCATION:Łazienki Królewskie\, ul.Agrykola 1\, Warszawa
CATEGORIES:Qigong Guolin
ATTACH;FMTTYPE=image/jpeg:https://fundacjadantian.com/wp-content/uploads/2023/03/SOBOTNIE-MARSZE-ODDECHOWE.jpg
END:VEVENT
BEGIN:VEVENT
DTSTART;TZID=Europe/Warsaw:20230305T100000
DTEND;TZID=Europe/Warsaw:20230305T110000
DTSTAMP:20260423T235245
CREATED:20230316T080645Z
LAST-MODIFIED:20230316T080646Z
UID:32557-1678010400-1678014000@fundacjadantian.com
SUMMARY:Marsz Guolin plus
DESCRIPTION:Poprzez różnorodne formy działalności\, Fundacja Dantian od szeregu lat stara się dołożyć swoją cegiełkę\, zwłaszcza w zakresie profilaktyki zdrowotnej. Widząc ciągle rosnący odsetek ludzi z chorobami nowotworowymi\, postanowiliśmy podzielić się z Wami dalekowschodnimi technikami qigongu medycznego\, o udokumentowanych – na Wschodzie i na Zachodzie – pozytywnych efektach zarówno w zapobieganiu pojawienia się nowotworów\, jak i w towarzyszeniu współczesnej terapii onkologicznej. W tym duchu zorganizowaliśmy warsztat\, dedykowany najbardziej chyba rozpowszechnionej technice tzw. antyrakowego qigongu Guolin. Ale co dalej? Oprócz planowania kolejnych warsztatów\, zapraszamy na weekendowe marsze Guolin w przyrodzie\, w Łazienkach Królewskich. Marsze mają charakter profilaktyczny ale też mogą przyspieszyć powrót do zdrowia tym\, którzy kończą lub mają już za sobą zwykle bardzo osłabiającą organizm szpitalną terapię onkologiczną. Marsz Guolin plus to cotygodniowe spacery połączone z odpowiednim oddechem.  Spotykamy się przed Starą Kordegardą o 10.00.  \nDaj nam znać że będziesz i zapisz się poprzez formularz
URL:https://fundacjadantian.com/wydarzenie/marsz-guolin-plus-4/
LOCATION:Łazienki Królewskie\, ul.Agrykola 1\, Warszawa
CATEGORIES:Qigong Guolin
ATTACH;FMTTYPE=image/jpeg:https://fundacjadantian.com/wp-content/uploads/2022/09/QIGONG-GUOLIN.jpg
END:VEVENT
BEGIN:VEVENT
DTSTART;TZID=Europe/Warsaw:20230226T100000
DTEND;TZID=Europe/Warsaw:20230226T110000
DTSTAMP:20260423T235245
CREATED:20230316T080002Z
LAST-MODIFIED:20230316T080312Z
UID:32554-1677405600-1677409200@fundacjadantian.com
SUMMARY:Marsz Guolin plus
DESCRIPTION:Poprzez różnorodne formy działalności\, Fundacja Dantian od szeregu lat stara się dołożyć swoją cegiełkę\, zwłaszcza w zakresie profilaktyki zdrowotnej. Widząc ciągle rosnący odsetek ludzi z chorobami nowotworowymi\, postanowiliśmy podzielić się z Wami dalekowschodnimi technikami qigongu medycznego\, o udokumentowanych – na Wschodzie i na Zachodzie – pozytywnych efektach zarówno w zapobieganiu pojawienia się nowotworów\, jak i w towarzyszeniu współczesnej terapii onkologicznej. W tym duchu zorganizowaliśmy warsztat\, dedykowany najbardziej chyba rozpowszechnionej technice tzw. antyrakowego qigongu Guolin. Ale co dalej? Oprócz planowania kolejnych warsztatów\, zapraszamy na weekendowe marsze Guolin w przyrodzie\, w Łazienkach Królewskich. Marsze mają charakter profilaktyczny ale też mogą przyspieszyć powrót do zdrowia tym\, którzy kończą lub mają już za sobą zwykle bardzo osłabiającą organizm szpitalną terapię onkologiczną. Marsz Guolin plus to cotygodniowe spacery połączone z odpowiednim oddechem.  Spotykamy się przed Starą Kordegardą o 10.00.  \nDaj nam znać że będziesz i zapisz się poprzez formularz
URL:https://fundacjadantian.com/wydarzenie/marsz-guolin-plus-3/
LOCATION:Łazienki Królewskie\, ul.Agrykola 1\, Warszawa
CATEGORIES:Qigong Guolin
ATTACH;FMTTYPE=image/jpeg:https://fundacjadantian.com/wp-content/uploads/2022/09/QIGONG-GUOLIN.jpg
END:VEVENT
END:VCALENDAR