BEGIN:VCALENDAR
VERSION:2.0
PRODID:-//Fundacja Dantian - ECPv6.15.20//NONSGML v1.0//EN
CALSCALE:GREGORIAN
METHOD:PUBLISH
X-ORIGINAL-URL:https://fundacjadantian.com
X-WR-CALDESC:Wydarzenia dla Fundacja Dantian
REFRESH-INTERVAL;VALUE=DURATION:PT1H
X-Robots-Tag:noindex
X-PUBLISHED-TTL:PT1H
BEGIN:VTIMEZONE
TZID:Europe/Warsaw
BEGIN:DAYLIGHT
TZOFFSETFROM:+0100
TZOFFSETTO:+0200
TZNAME:CEST
DTSTART:20210328T010000
END:DAYLIGHT
BEGIN:STANDARD
TZOFFSETFROM:+0200
TZOFFSETTO:+0100
TZNAME:CET
DTSTART:20211031T010000
END:STANDARD
BEGIN:DAYLIGHT
TZOFFSETFROM:+0100
TZOFFSETTO:+0200
TZNAME:CEST
DTSTART:20220327T010000
END:DAYLIGHT
BEGIN:STANDARD
TZOFFSETFROM:+0200
TZOFFSETTO:+0100
TZNAME:CET
DTSTART:20221030T010000
END:STANDARD
BEGIN:DAYLIGHT
TZOFFSETFROM:+0100
TZOFFSETTO:+0200
TZNAME:CEST
DTSTART:20230326T010000
END:DAYLIGHT
BEGIN:STANDARD
TZOFFSETFROM:+0200
TZOFFSETTO:+0100
TZNAME:CET
DTSTART:20231029T010000
END:STANDARD
END:VTIMEZONE
BEGIN:VEVENT
DTSTART;TZID=Europe/Warsaw:20220403T090000
DTEND;TZID=Europe/Warsaw:20220403T103000
DTSTAMP:20260425T025609
CREATED:20220124T105643Z
LAST-MODIFIED:20220302T134550Z
UID:27540-1648976400-1648981800@fundacjadantian.com
SUMMARY:Trening weekendowy
DESCRIPTION:Jeśli chcesz spędzić aktywnie czas\, w przyrodzie\, zapraszamy na weekendowe\, otwarte treningi do Łazienek Królewskich. O każdej porze roku\, bez względu na pogodę ćwiczymy ciało i ducha 🙂 wystarczy dostosować odpowiednio ubranie i buty. Zapraszamy zaawansowanych i niezaawansowanych. Zaczynamy Codziennym Rytuałem Zdrowia\, ćwiczymy długą formę Starego Stylu Yang Taiji oraz formy z bronią.  Do zobaczenia 🙂
URL:https://fundacjadantian.com/wydarzenie/trening-weekendowy-16-2022-04-03/
LOCATION:Łazienki Królewskie\, ul.Agrykola 1\, Warszawa
CATEGORIES:Trening weekendowy
ATTACH;FMTTYPE=image/jpeg:https://fundacjadantian.com/wp-content/uploads/2022/01/page-6.jpeg
END:VEVENT
BEGIN:VEVENT
DTSTART;TZID=Europe/Warsaw:20220409T090000
DTEND;TZID=Europe/Warsaw:20220409T103000
DTSTAMP:20260425T025609
CREATED:20220124T105643Z
LAST-MODIFIED:20220302T135209Z
UID:27541-1649494800-1649500200@fundacjadantian.com
SUMMARY:Trening weekendowy
DESCRIPTION:Jeśli chcesz spędzić aktywnie czas\, w przyrodzie\, zapraszamy na weekendowe\, otwarte treningi do Łazienek Królewskich. O każdej porze roku\, bez względu na pogodę ćwiczymy ciało i ducha 🙂 wystarczy dostosować odpowiednio ubranie i buty. Zapraszamy zaawansowanych i niezaawansowanych. Zaczynamy Codziennym Rytuałem Zdrowia\, ćwiczymy długą formę Starego Stylu Yang Taiji oraz formy z bronią.  Do zobaczenia 🙂
URL:https://fundacjadantian.com/wydarzenie/trening-weekendowy-16-2022-04-09/
LOCATION:Łazienki Królewskie\, ul.Agrykola 1\, Warszawa
CATEGORIES:Trening weekendowy
ATTACH;FMTTYPE=image/jpeg:https://fundacjadantian.com/wp-content/uploads/2022/01/page-6.jpeg
END:VEVENT
BEGIN:VEVENT
DTSTART;TZID=Europe/Warsaw:20220410T090000
DTEND;TZID=Europe/Warsaw:20220410T103000
DTSTAMP:20260425T025609
CREATED:20220124T105643Z
LAST-MODIFIED:20220302T135336Z
UID:27542-1649581200-1649586600@fundacjadantian.com
SUMMARY:Trening weekendowy
DESCRIPTION:Jeśli chcesz spędzić aktywnie czas\, w przyrodzie\, zapraszamy na weekendowe\, otwarte treningi do Łazienek Królewskich. O każdej porze roku\, bez względu na pogodę ćwiczymy ciało i ducha 🙂 wystarczy dostosować odpowiednio ubranie i buty. Zapraszamy zaawansowanych i niezaawansowanych. Zaczynamy Codziennym Rytuałem Zdrowia\, ćwiczymy długą formę Starego Stylu Yang Taiji oraz formy z bronią.  Do zobaczenia 🙂
URL:https://fundacjadantian.com/wydarzenie/trening-weekendowy-16-2022-04-10/
LOCATION:Łazienki Królewskie\, ul.Agrykola 1\, Warszawa
CATEGORIES:Trening weekendowy
ATTACH;FMTTYPE=image/jpeg:https://fundacjadantian.com/wp-content/uploads/2022/01/page-6.jpeg
END:VEVENT
BEGIN:VEVENT
DTSTART;TZID=Europe/Warsaw:20220416T090000
DTEND;TZID=Europe/Warsaw:20220416T103000
DTSTAMP:20260425T025609
CREATED:20220124T105643Z
LAST-MODIFIED:20220302T135740Z
UID:27543-1650099600-1650105000@fundacjadantian.com
SUMMARY:Trening weekendowy
DESCRIPTION:Jeśli chcesz spędzić aktywnie czas\, w przyrodzie\, zapraszamy na weekendowe\, otwarte treningi do Łazienek Królewskich. O każdej porze roku\, bez względu na pogodę ćwiczymy ciało i ducha 🙂 wystarczy dostosować odpowiednio ubranie i buty. Zapraszamy zaawansowanych i niezaawansowanych. Zaczynamy Codziennym Rytuałem Zdrowia\, ćwiczymy długą formę Starego Stylu Yang Taiji oraz formy z bronią.  Do zobaczenia 🙂
URL:https://fundacjadantian.com/wydarzenie/trening-weekendowy-16-2022-04-16/
LOCATION:Łazienki Królewskie\, ul.Agrykola 1\, Warszawa
CATEGORIES:Trening weekendowy
ATTACH;FMTTYPE=image/jpeg:https://fundacjadantian.com/wp-content/uploads/2022/01/page-6.jpeg
END:VEVENT
BEGIN:VEVENT
DTSTART;TZID=Europe/Warsaw:20220428T110000
DTEND;TZID=Europe/Warsaw:20220428T120000
DTSTAMP:20260425T025609
CREATED:20220125T081122Z
LAST-MODIFIED:20220302T135443Z
UID:28243-1651143600-1651147200@fundacjadantian.com
SUMMARY:Warsztaty artystyczno-ruchowe
DESCRIPTION:Poznaj i zrozum działa sztuki angażując wszystkie zmysły. Patrz uważniej\, obserwuj przyrodę\, siebie\, rozwijaj się. Rzeźbiąc\, malując\, słuchając\, poruszając się\, odkryj energetyczne siły żywiołów: ognia\, powietrza\, wody i ziemi. Na styczniowych warsztatach podpatrzysz\, w jaki sposób artyści uwieczniali zmienności zjawisk na niebie. Od delikatnych obłoczków oświetlonych słońcem\, poprzez imponujące\, wypiętrzone w niebo struktury\, aż po ciemne groźne chmury zwiastujące nawałnice. Każdy z nas zauważył\, jak dynamicznie zmienia się obraz nieba\, czasem z minuty na minutę. Poznasz taż ćwiczenia taiji i qigongu\, które harmonizują ciało i umysł a inspirowane są\, płynącymi po niebie chmurami. \nWarsztat prowadzi Marzena Rostkowska. \nZapraszamy!
URL:https://fundacjadantian.com/wydarzenie/warsztaty-artystyczno-ruchowe-4/
LOCATION:Muzeum Narodowe\, Al. Jerozolimskie 3\, Warszawa
CATEGORIES:Qigong
ATTACH;FMTTYPE=image/jpeg:https://fundacjadantian.com/wp-content/uploads/2022/01/Kalendarz-1920x1080-px-2.jpeg
END:VEVENT
END:VCALENDAR