BEGIN:VCALENDAR
VERSION:2.0
PRODID:-//Fundacja Dantian - ECPv6.15.20//NONSGML v1.0//EN
CALSCALE:GREGORIAN
METHOD:PUBLISH
X-ORIGINAL-URL:https://fundacjadantian.com
X-WR-CALDESC:Wydarzenia dla Fundacja Dantian
REFRESH-INTERVAL;VALUE=DURATION:PT1H
X-Robots-Tag:noindex
X-PUBLISHED-TTL:PT1H
BEGIN:VTIMEZONE
TZID:Europe/Warsaw
BEGIN:DAYLIGHT
TZOFFSETFROM:+0100
TZOFFSETTO:+0200
TZNAME:CEST
DTSTART:20210328T010000
END:DAYLIGHT
BEGIN:STANDARD
TZOFFSETFROM:+0200
TZOFFSETTO:+0100
TZNAME:CET
DTSTART:20211031T010000
END:STANDARD
BEGIN:DAYLIGHT
TZOFFSETFROM:+0100
TZOFFSETTO:+0200
TZNAME:CEST
DTSTART:20220327T010000
END:DAYLIGHT
BEGIN:STANDARD
TZOFFSETFROM:+0200
TZOFFSETTO:+0100
TZNAME:CET
DTSTART:20221030T010000
END:STANDARD
BEGIN:DAYLIGHT
TZOFFSETFROM:+0100
TZOFFSETTO:+0200
TZNAME:CEST
DTSTART:20230326T010000
END:DAYLIGHT
BEGIN:STANDARD
TZOFFSETFROM:+0200
TZOFFSETTO:+0100
TZNAME:CET
DTSTART:20231029T010000
END:STANDARD
END:VTIMEZONE
BEGIN:VEVENT
DTSTART;TZID=Europe/Warsaw:20220604T120000
DTEND;TZID=Europe/Warsaw:20220604T133000
DTSTAMP:20260420T151708
CREATED:20220509T094208Z
LAST-MODIFIED:20220513T105147Z
UID:29724-1654344000-1654349400@fundacjadantian.com
SUMMARY:Qigong w Parku Kultury w Powsinie
DESCRIPTION:Ruchu oraz obecności wsród przyrody nigdy za wiele. Szczególnie w pięknym miejscu\, jakim jest Park Kultury w Powsinie\, gdzie odbywać się będą nasze wiosenno-letnie zajęcia qigongu\, który przecież najprzyjemniej praktykować w przyrodzie. Zaplanuj sobie zieloną sobotę w Powsinie. Po zajęciach możesz pospacerować\, odwiedzić Ogród Botaniczny\, pograć w Chińczyka pod brzozami albo po prostu napić się herbaty i pooddychać leśnym powietrzem.\nZapraszamy w wybrane soboty. Spotykamy się o 11.50 przed Klubokawiarnią.
URL:https://fundacjadantian.com/wydarzenie/qigong-w-parku-kultury-w-powsinie-3/
LOCATION:Park Kultury w Powsinie\, Maślaków 1\, Warszawa\, 02-973
CATEGORIES:Qigong
ATTACH;FMTTYPE=image/jpeg:https://fundacjadantian.com/wp-content/uploads/2022/05/QIGING-W-POWSINIE.jpg
END:VEVENT
BEGIN:VEVENT
DTSTART;TZID=Europe/Warsaw:20220610T183000
DTEND;TZID=Europe/Warsaw:20220610T193000
DTSTAMP:20260420T151708
CREATED:20220603T111124Z
LAST-MODIFIED:20220603T111124Z
UID:29916-1654885800-1654889400@fundacjadantian.com
SUMMARY:Qigong na lato
DESCRIPTION:Zbierz swój zestaw ćwiczeń na wakacje! Lato coraz bliżej i warto mieć w swoim arsenale aktywności ćwiczenia qigong-u\, których prozdrowotne działanie wzrasta w kontakcie z przyrodą\, oraz takie\, które możemy wykonywać z rodziną\, przyjaciółmi\, niezależnie od wieku. Na czerwcowe warsztaty wybrałem trzy kategorie takich ćwiczeń: Wu Qin Xi (tzw. Ćwiczenia Pięciu Zwierząt)\, marsze oddechowe (z naciskiem na tzw. marsz antyrakowy Guolin) oraz tzw. Leśny Qigong (czyli Zhan Zhuang w kontakcie z drzewami). Tematem pierwszych zajęć\, w MDK\, 10.06.22\, będą „Ćwiczenia Pięciu Zwierząt„. Pozostałe dwa warsztaty (17 i 24.06.22) odbędą się na terenie Łazienek Królewskich\, przed Starą Kordegardą\, bez względu na pogodę. 17.06.22\, przybliżając sylwetkę Guolin od której nazwiska nazwano ten rodzaj chodzonego qigong-u\, dowiesz się jak chodzić by zdrowieć oraz jak to możliwe że  ten rodzaj qigong-u uzdrowił wielu nieuleczalnie chorych. Natomiast podczas ostatniego spotkania przed wakacjami (24.06.22) przygotuj się na „leśny prysznic”. Zapewne znasz tak zwane „kąpiele leśne” (shinrin-yoku)\, czyli obniżające poziom stresu\, redukujące znużenie\, niepokój\, zwiększające odporność organizmu\, leśne spacery. Tym razem będzie to nie tyle kąpiel\, ile raczej „leśny prysznic”. Poznasz pozycje Zhan Zhuang (czyli „Stojąc jak drzewo”) szukając ruchu w bezruchu\, w kontakcie z przyjaznymi nam drzewami.\n\n\n\nZe względu na ograniczoną przestrzeń w MDK\, obowiązują wcześniejsze zapisy na warsztat 10.06. Z kolei nie ma ograniczeń liczby uczestników warsztatów w Łazienkach 17 i 24.06\, niemniej prosimy o rejestrację również i na te zajęcia\, co pomoże w wyborze odpowiedniego miejsca do ćwiczeń i ich organizację\nZapisz się wypełniając formularz
URL:https://fundacjadantian.com/wydarzenie/qigong-na-lato/2022-06-10/
LOCATION:MDK im. W.Broniewskiego\, Ul. Łazienkowska 7\, Warszawa
CATEGORIES:Qigong
ATTACH;FMTTYPE=image/jpeg:https://fundacjadantian.com/wp-content/uploads/2022/06/qigong-na-lato.jpeg
END:VEVENT
BEGIN:VEVENT
DTSTART;TZID=Europe/Warsaw:20220617T183000
DTEND;TZID=Europe/Warsaw:20220617T193000
DTSTAMP:20260420T151708
CREATED:20220603T111125Z
LAST-MODIFIED:20220603T111229Z
UID:29920-1655490600-1655494200@fundacjadantian.com
SUMMARY:Qigong na lato
DESCRIPTION:Zbierz swój zestaw ćwiczeń na wakacje! Lato coraz bliżej i warto mieć w swoim arsenale aktywności ćwiczenia qigong-u\, których prozdrowotne działanie wzrasta w kontakcie z przyrodą\, oraz takie\, które możemy wykonywać z rodziną\, przyjaciółmi\, niezależnie od wieku. Na czerwcowe warsztaty wybrałem trzy kategorie takich ćwiczeń: Wu Qin Xi (tzw. Ćwiczenia Pięciu Zwierząt)\, marsze oddechowe (z naciskiem na tzw. marsz antyrakowy Guolin) oraz tzw. Leśny Qigong (czyli Zhan Zhuang w kontakcie z drzewami). Tematem pierwszych zajęć\, w MDK\, 10.06.22\, będą „Ćwiczenia Pięciu Zwierząt„. Pozostałe dwa warsztaty (17 i 24.06.22) odbędą się na terenie Łazienek Królewskich\, przed Starą Kordegardą\, bez względu na pogodę. 17.06.22\, przybliżając sylwetkę Guolin od której nazwiska nazwano ten rodzaj chodzonego qigong-u\, dowiesz się jak chodzić by zdrowieć oraz jak to możliwe że  ten rodzaj qigong-u uzdrowił wielu nieuleczalnie chorych. Natomiast podczas ostatniego spotkania przed wakacjami (24.06.22) przygotuj się na „leśny prysznic”. Zapewne znasz tak zwane „kąpiele leśne” (shinrin-yoku)\, czyli obniżające poziom stresu\, redukujące znużenie\, niepokój\, zwiększające odporność organizmu\, leśne spacery. Tym razem będzie to nie tyle kąpiel\, ile raczej „leśny prysznic”. Poznasz pozycje Zhan Zhuang (czyli „Stojąc jak drzewo”) szukając ruchu w bezruchu\, w kontakcie z przyjaznymi nam drzewami.\n\n\n\nZe względu na ograniczoną przestrzeń w MDK\, obowiązują wcześniejsze zapisy na warsztat 10.06. Z kolei nie ma ograniczeń liczby uczestników warsztatów w Łazienkach 17 i 24.06\, niemniej prosimy o rejestrację również i na te zajęcia\, co pomoże w wyborze odpowiedniego miejsca do ćwiczeń i ich organizację\nZapisz się wypełniając formularz
URL:https://fundacjadantian.com/wydarzenie/qigong-na-lato-2022-06-17/
LOCATION:Łazienki Królewskie\, ul.Agrykola 1\, Warszawa
CATEGORIES:Qigong
ATTACH;FMTTYPE=image/jpeg:https://fundacjadantian.com/wp-content/uploads/2022/06/qigong-na-lato.jpeg
END:VEVENT
BEGIN:VEVENT
DTSTART;TZID=Europe/Warsaw:20220618T120000
DTEND;TZID=Europe/Warsaw:20220618T130000
DTSTAMP:20260420T151708
CREATED:20220509T094427Z
LAST-MODIFIED:20220513T110041Z
UID:29727-1655553600-1655557200@fundacjadantian.com
SUMMARY:Qigong w Parku Kultury w Powsinie
DESCRIPTION:Ruchu oraz obecności wsród przyrody nigdy za wiele. Szczególnie w pięknym miejscu\, jakim jest Park Kultury w Powsinie\, gdzie odbywać się będą nasze wiosenno-letnie zajęcia qigongu\, który przecież najprzyjemniej praktykować w przyrodzie. Zaplanuj sobie zieloną sobotę w Powsinie. Po zajęciach możesz pospacerować\, odwiedzić Ogród Botaniczny\, pograć w Chińczyka pod brzozami albo po prostu napić się herbaty i pooddychać leśnym powietrzem.\nZapraszamy w wybrane soboty. Spotykamy się o 12.00 przed Klubokawiarnią.
URL:https://fundacjadantian.com/wydarzenie/qigong-w-parku-kultury-w-powsinie-4/
LOCATION:Park Kultury w Powsinie\, Maślaków 1\, Warszawa\, 02-973
CATEGORIES:Qigong
ATTACH;FMTTYPE=image/jpeg:https://fundacjadantian.com/wp-content/uploads/2022/05/QIGING-W-POWSINIE.jpg
END:VEVENT
BEGIN:VEVENT
DTSTART;TZID=Europe/Warsaw:20220623T110000
DTEND;TZID=Europe/Warsaw:20220623T120000
DTSTAMP:20260420T151708
CREATED:20220623T085350Z
LAST-MODIFIED:20220623T124728Z
UID:29968-1655982000-1655985600@fundacjadantian.com
SUMMARY:Warsztaty artystyczno-ruchowe
DESCRIPTION:Portret z plamą! Czy malowanie portretów może być łatwe i przyjemne? A co gdyby to kawowa plama i wyobraźnia\, nakreśliły początek twarzy\, jej charakter\, dał\, to coś\, co pozwala obudzić się kreatywności i podążać za własną inwencją twórczą. Sztuka od zawsze budziła w tworzącym i oglądającym nowe doznania\, uczyła i naprowadzała na świeże ścieżki czytania rzeczywistości. Zapraszamy na warsztaty w ramach cyklu „Letnie eksperymenty”\, przygoda czeka na Ciebie\, nie przegap tego spotkania!
URL:https://fundacjadantian.com/wydarzenie/warsztaty-artystyczno-ruchowe-6/
LOCATION:Muzeum Narodowe\, Al. Jerozolimskie 3\, Warszawa
CATEGORIES:Qigong
ATTACH;FMTTYPE=image/jpeg:https://fundacjadantian.com/wp-content/uploads/2022/01/Kalendarz-1920x1080-px-2.jpeg
END:VEVENT
BEGIN:VEVENT
DTSTART;TZID=Europe/Warsaw:20220624T183000
DTEND;TZID=Europe/Warsaw:20220624T193000
DTSTAMP:20260420T151708
CREATED:20220603T111127Z
LAST-MODIFIED:20220603T111410Z
UID:29921-1656095400-1656099000@fundacjadantian.com
SUMMARY:Qigong na lato
DESCRIPTION:Zbierz swój zestaw ćwiczeń na wakacje! Lato coraz bliżej i warto mieć w swoim arsenale aktywności ćwiczenia qigong-u\, których prozdrowotne działanie wzrasta w kontakcie z przyrodą\, oraz takie\, które możemy wykonywać z rodziną\, przyjaciółmi\, niezależnie od wieku. Na czerwcowe warsztaty wybrałem trzy kategorie takich ćwiczeń: Wu Qin Xi (tzw. Ćwiczenia Pięciu Zwierząt)\, marsze oddechowe (z naciskiem na tzw. marsz antyrakowy Guolin) oraz tzw. Leśny Qigong (czyli Zhan Zhuang w kontakcie z drzewami). Tematem pierwszych zajęć\, w MDK\, 10.06.22\, będą „Ćwiczenia Pięciu Zwierząt„. Pozostałe dwa warsztaty (17 i 24.06.22) odbędą się na terenie Łazienek Królewskich\, przed Starą Kordegardą\, bez względu na pogodę. 17.06.22\, przybliżając sylwetkę Guolin od której nazwiska nazwano ten rodzaj chodzonego qigong-u\, dowiesz się jak chodzić by zdrowieć oraz jak to możliwe że  ten rodzaj qigong-u uzdrowił wielu nieuleczalnie chorych. Natomiast podczas ostatniego spotkania przed wakacjami (24.06.22) przygotuj się na „leśny prysznic”. Zapewne znasz tak zwane „kąpiele leśne” (shinrin-yoku)\, czyli obniżające poziom stresu\, redukujące znużenie\, niepokój\, zwiększające odporność organizmu\, leśne spacery. Tym razem będzie to nie tyle kąpiel\, ile raczej „leśny prysznic”. Poznasz pozycje Zhan Zhuang (czyli „Stojąc jak drzewo”) szukając ruchu w bezruchu\, w kontakcie z przyjaznymi nam drzewami.\n\n\n\nZe względu na ograniczoną przestrzeń w MDK\, obowiązują wcześniejsze zapisy na warsztat 10.06. Z kolei nie ma ograniczeń liczby uczestników warsztatów w Łazienkach 17 i 24.06\, niemniej prosimy o rejestrację również i na te zajęcia\, co pomoże w wyborze odpowiedniego miejsca do ćwiczeń i ich organizację\nZapisz się wypełniając formularz
URL:https://fundacjadantian.com/wydarzenie/qigong-na-lato-2022-06-24/
LOCATION:Łazienki Królewskie\, ul.Agrykola 1\, Warszawa
CATEGORIES:Qigong
ATTACH;FMTTYPE=image/jpeg:https://fundacjadantian.com/wp-content/uploads/2022/06/qigong-na-lato.jpeg
END:VEVENT
END:VCALENDAR