BEGIN:VCALENDAR
VERSION:2.0
PRODID:-//Fundacja Dantian - ECPv6.15.20//NONSGML v1.0//EN
CALSCALE:GREGORIAN
METHOD:PUBLISH
X-ORIGINAL-URL:https://fundacjadantian.com
X-WR-CALDESC:Wydarzenia dla Fundacja Dantian
REFRESH-INTERVAL;VALUE=DURATION:PT1H
X-Robots-Tag:noindex
X-PUBLISHED-TTL:PT1H
BEGIN:VTIMEZONE
TZID:Europe/Warsaw
BEGIN:DAYLIGHT
TZOFFSETFROM:+0100
TZOFFSETTO:+0200
TZNAME:CEST
DTSTART:20210328T010000
END:DAYLIGHT
BEGIN:STANDARD
TZOFFSETFROM:+0200
TZOFFSETTO:+0100
TZNAME:CET
DTSTART:20211031T010000
END:STANDARD
BEGIN:DAYLIGHT
TZOFFSETFROM:+0100
TZOFFSETTO:+0200
TZNAME:CEST
DTSTART:20220327T010000
END:DAYLIGHT
BEGIN:STANDARD
TZOFFSETFROM:+0200
TZOFFSETTO:+0100
TZNAME:CET
DTSTART:20221030T010000
END:STANDARD
BEGIN:DAYLIGHT
TZOFFSETFROM:+0100
TZOFFSETTO:+0200
TZNAME:CEST
DTSTART:20230326T010000
END:DAYLIGHT
BEGIN:STANDARD
TZOFFSETFROM:+0200
TZOFFSETTO:+0100
TZNAME:CET
DTSTART:20231029T010000
END:STANDARD
END:VTIMEZONE
BEGIN:VEVENT
DTSTART;TZID=Europe/Warsaw:20220428T110000
DTEND;TZID=Europe/Warsaw:20220428T120000
DTSTAMP:20260422T195602
CREATED:20220125T081122Z
LAST-MODIFIED:20220302T135443Z
UID:28243-1651143600-1651147200@fundacjadantian.com
SUMMARY:Warsztaty artystyczno-ruchowe
DESCRIPTION:Poznaj i zrozum działa sztuki angażując wszystkie zmysły. Patrz uważniej\, obserwuj przyrodę\, siebie\, rozwijaj się. Rzeźbiąc\, malując\, słuchając\, poruszając się\, odkryj energetyczne siły żywiołów: ognia\, powietrza\, wody i ziemi. Na styczniowych warsztatach podpatrzysz\, w jaki sposób artyści uwieczniali zmienności zjawisk na niebie. Od delikatnych obłoczków oświetlonych słońcem\, poprzez imponujące\, wypiętrzone w niebo struktury\, aż po ciemne groźne chmury zwiastujące nawałnice. Każdy z nas zauważył\, jak dynamicznie zmienia się obraz nieba\, czasem z minuty na minutę. Poznasz taż ćwiczenia taiji i qigongu\, które harmonizują ciało i umysł a inspirowane są\, płynącymi po niebie chmurami. \nWarsztat prowadzi Marzena Rostkowska. \nZapraszamy!
URL:https://fundacjadantian.com/wydarzenie/warsztaty-artystyczno-ruchowe-4/
LOCATION:Muzeum Narodowe\, Al. Jerozolimskie 3\, Warszawa
CATEGORIES:Qigong
ATTACH;FMTTYPE=image/jpeg:https://fundacjadantian.com/wp-content/uploads/2022/01/Kalendarz-1920x1080-px-2.jpeg
END:VEVENT
END:VCALENDAR