BEGIN:VCALENDAR
VERSION:2.0
PRODID:-//Fundacja Dantian - ECPv6.15.20//NONSGML v1.0//EN
CALSCALE:GREGORIAN
METHOD:PUBLISH
X-ORIGINAL-URL:https://fundacjadantian.com
X-WR-CALDESC:Wydarzenia dla Fundacja Dantian
REFRESH-INTERVAL;VALUE=DURATION:PT1H
X-Robots-Tag:noindex
X-PUBLISHED-TTL:PT1H
BEGIN:VTIMEZONE
TZID:Europe/Warsaw
BEGIN:DAYLIGHT
TZOFFSETFROM:+0100
TZOFFSETTO:+0200
TZNAME:CEST
DTSTART:20230326T010000
END:DAYLIGHT
BEGIN:STANDARD
TZOFFSETFROM:+0200
TZOFFSETTO:+0100
TZNAME:CET
DTSTART:20231029T010000
END:STANDARD
BEGIN:DAYLIGHT
TZOFFSETFROM:+0100
TZOFFSETTO:+0200
TZNAME:CEST
DTSTART:20240331T010000
END:DAYLIGHT
BEGIN:STANDARD
TZOFFSETFROM:+0200
TZOFFSETTO:+0100
TZNAME:CET
DTSTART:20241027T010000
END:STANDARD
BEGIN:DAYLIGHT
TZOFFSETFROM:+0100
TZOFFSETTO:+0200
TZNAME:CEST
DTSTART:20250330T010000
END:DAYLIGHT
BEGIN:STANDARD
TZOFFSETFROM:+0200
TZOFFSETTO:+0100
TZNAME:CET
DTSTART:20251026T010000
END:STANDARD
BEGIN:DAYLIGHT
TZOFFSETFROM:+0100
TZOFFSETTO:+0200
TZNAME:CEST
DTSTART:20260329T010000
END:DAYLIGHT
BEGIN:STANDARD
TZOFFSETFROM:+0200
TZOFFSETTO:+0100
TZNAME:CET
DTSTART:20261025T010000
END:STANDARD
BEGIN:DAYLIGHT
TZOFFSETFROM:+0100
TZOFFSETTO:+0200
TZNAME:CEST
DTSTART:20270328T010000
END:DAYLIGHT
BEGIN:STANDARD
TZOFFSETFROM:+0200
TZOFFSETTO:+0100
TZNAME:CET
DTSTART:20271031T010000
END:STANDARD
END:VTIMEZONE
BEGIN:VEVENT
DTSTART;TZID=Europe/Warsaw:20240617T183000
DTEND;TZID=Europe/Warsaw:20240617T194500
DTSTAMP:20260425T221241
CREATED:20231122T102652Z
LAST-MODIFIED:20240402T143701Z
UID:40076-1718649000-1718653500@fundacjadantian.com
SUMMARY:Qigong w MAiP
DESCRIPTION:Zapraszamy na  cotygodniowe warsztaty qigongu do Muzeum Azji i Pacyfiku (Wwa\, ul. Solec 24).\n\n\n\nZ początkiem kwietnia br.\, nakładem Wydawnictwa Fundacji Dantian\, ukazało się długo oczekiwane polskie wydanie podręcznika autorstwa Mistrza Ly „Ba Duan Jin – Qigong dynamiczny”.  Opisuje on szczegółowo tradycyjną formę Ośmiu Kawałków Brokatu\, bardziej złożoną od popularnych\, prostszych wersji. Jej autorstwo było przypisywane generałowi Yue Fei (1103 – 1141) żyjącemu w czasach panowania dynastii Song. \n22 kwietnia rozpoczniemy cykl warsztatów\, zapoznający z podstawami wykonywania tej wersji Ba Duan Jin. Porównamy też jej poszczególne „sploty” z odpowiadającymi im prostszymi sekwencjami Ośmiu Kawałków Brokatu\, propagowanymi przez Lam Kam Chuena\, czy przez Chinese Health Qigong Association. \nWarsztat będzie trwał od 22.04  do 17.06.2024 \nProwadzi Jan Gliński \nZapraszamy. Muzeum Azji i Pacyfiku\, poniedziałki\, 18.30 – 19.45 – formularz do zpisów
URL:https://fundacjadantian.com/wydarzenie/qigong-w-maip-6-2024-01-15-2024-05-27/2024-06-17/
LOCATION:MAiP\, Ul. Solec 24\, Warszawa\, 00-403
CATEGORIES:Qigong - MAiP
ATTACH;FMTTYPE=image/jpeg:https://fundacjadantian.com/wp-content/uploads/2022/10/qigong-w-maip.jpg
END:VEVENT
BEGIN:VEVENT
DTSTART;VALUE=DATE:20260706
DTEND;VALUE=DATE:20260713
DTSTAMP:20260425T221241
CREATED:20260105T111455Z
LAST-MODIFIED:20260105T160531Z
UID:52258-1783296000-1783900799@fundacjadantian.com
SUMMARY:Warsztat wyjazdowy – Przestrzenie kobiecości
DESCRIPTION:Warsztat dla Kobiet – w rytmie ciała i natury \nKobiecość ma wiele aspektów – i coraz lepiej zdajemy sobie z tego sprawę. Współczesne kobiety intensywnie pracują\, rozwijają się i funkcjonują w wielu obszarach życia. Z tej potrzeby powstał kolejny już warsztat dedykowany wyłącznie kobietom – jako przestrzeń zatrzymania\, regeneracji i powrotu do siebie poprzez świadomy ruch\, pracę z energią i uważność. \nTo czas dla kobiet\, które chcą zwolnić\, pogłębić kontakt ze sobą i odzyskać dostęp do swojej naturalnej witalności – bez presji\, w swoim tempie. \nStruktura dnia warsztatowego \nWarsztat oparty jest na czytelnym\, powtarzalnym rytmie dnia\, który sprzyja regulacji układu nerwowego i pozwala praktyce pogłębiać się w naturalny sposób. \nPoranna praktyka – obudzenie i regulacja Każdy dzień zaczynamy od spaceru po okolicy oraz łagodnej rozgrzewki z elementami Codziennego Rytuału Zdrowia. To czas delikatnego wejścia w ruch\, kontaktu z naturą i zestrojenia się z własnym oddechem. \nPo śniadaniu – kobieca praktyka pogłębiona Pierwszą zaplanowaną praktyką dnia jest qigong „Promienny Lotos” – wyjątkowa forma pracy z ciałem dedykowana kobietom. Metoda ta została opracowana przez Daisy Lee i łączy elementy qigongu medycznego\, automasażu\, akupresury oraz leczących dźwięków. \nPraktyka wspiera uwalnianie zablokowanych w ciele emocji\, działa antystresowo\, wzmacnia układ odpornościowy i pomaga regulować gospodarkę hormonalną. Poprzez świadomy ruch i dotyk nauczymy się odczuwać przepływ Qi\, poprawiać krążenie energii w meridianach oraz harmonizować ciało na poziomie fizycznym\, emocjonalnym i psychicznym. \nPopołudniowa praktyka – stabilizacja i integracja Drugą codzienną praktyką jest kontynuacja i pogłębienie pracy z energią poprzez elementy Metody 15 Ćwiczeń Qigongu Wudang oraz pracę z oddechem – zarówno tradycyjną\, jak i inspirowaną współczesnymi badaniami. \nNie jest to zmiana systemu\, lecz naturalne przejście do jakości ugruntowania\, osiowości i wewnętrznej ciszy\, które pomagają integrować doświadczenia porannej praktyki i stabilizować przepływ energii w ciele. Kluczową rolę odgrywają uważność\, oddech i obecność\, a nie wysiłek czy intensywność fizyczna. \nTradycja Wudang\, wywodząca się z taoistycznych praktyk neigongu\, stanowi tło i wsparcie dla całego procesu – pomaga integrować doświadczenia\, stabilizować energię i przenosić ją w codzienne funkcjonowanie. Dzięki temu praktyka staje się kompletna: od czucia i regulacji\, przez pogłębienie\, aż po ugruntowanie i wewnętrzną równowagę. \nCzas wolny i integracja \nPo dwóch intensywnych praktykach dnia przewidziany jest czas wolny\, który stanowi integralną część procesu. Układ nerwowy potrzebuje przestrzeni\, aby zintegrować duże ilości bodźców i informacji płynących z pracy z ciałem\, oddechem i energią. \nPonadto\, w planie jest jedno popołudnie wolne\, które odświeży rytm pracy i nauki. To czas na odpoczynek lub indywidualne potrzeby. Dla chętnych istnieje możliwość wyjazdu do pobliskich Term w Uniejowie lub Poddębicach\, znanych z kąpieli termalnych o działaniu regenerującym i relaksującym. \nDlaczego warto wziąć udział? \nTen warsztat jest intensywnym treningiem\, ale w odmienny sposób. Jest zaproszeniem do doświadczania\, do bycia w ciele\, do słuchania jego rytmów i subtelnych sygnałów. Powtarzalność praktyk\, obecność w naturze i świadome pauzy tworzą przestrzeń\, w której możliwa jest realna regulacja\, regeneracja i powrót do wewnętrznej równowagi przy umiarkowanej dawce informacji i bodźców. \nTo idealny czas dla kobiet\, które pragną: \n\nzadbać o ciało\, oddech i energię w rytmie qigongu\,\npogłębić kontakt ze sobą\, swoimi emocjami i potrzebami\,\nzintegrować doświadczenia i odzyskać naturalną witalność\,\nprzeżyć czas w kobiecym kręgu\, w otoczeniu natury.\n\nDołącz do nas i daj sobie przestrzeń na odpoczynek\, regulację i kobiecą energię! \nFORMULARZ ZGŁOSZENIOWY \n\nZakwaterowanie i wyżywienie \n\n\n\n\nPokoje 2-osobowe z łazienkami (lub 1-osobowe z łazienką w korytarzu – nie będzie tłoku :).\n\n\n\nPełne\, zdrowe wyżywienie w formie bufetu.\n\n\n\nMiejsce kameralne\, położone wśród natury – idealne do regeneracji.\n\n\n\n\n Inwestycja w siebie \n\n\n\n2900 zł lub 3100 w pokoju W cenie: zakwaterowanie\, pełne wyżywienie\, program warsztatu. \n\n\n\nZaliczka rezerwacyjna (do wyboru): \n\n\n\n\n1500 zł (miejsce w pokoju 2-osobowym)\n\n\n\n1700 zł (pokój 1-osobowy z łazienką w korytarzu)\n\n\n\n\nDruga transza: 1400 zł do 3 lipca 2026. \n\n\n\nLiczba miejsc ograniczona. Decyduje kolejność zgłoszeń i wpłat. \n\n\n\nRezygnacja: \n\n\n\n\ndo 15 czerwca – zwrot 100% zaliczki\n\n\n\n16 czerwca– 30.06 – zwrot 50% zaliczki\n\n\n\npo 30 czerwca – zaliczka przepada\n\n\n\n\nPlan dnia (7–11 lipca) \n\n\n\n8:00–8:45 Spacer i Codzienny Rytuał Zdrowia \n9:00–10:00 Śniadanie i odpoczynek \n10:30–12:00 Qigong „Promienny Lotos” \n13:00–16:00 Obiad i czas wolny \n16:00–17:30 Qigong Wudang \n18:00–19:00 Kolacja \n\n\n\nWarsztat rozpoczynamy kolacją i spotkaniem organizacyjnym w poniedziałek 6 lipca. Wyjazd kończy się śniadaniem w niedzielę 12 lipca. \n  \nFORMULARZ ZGŁOSZENIOWY
URL:https://fundacjadantian.com/wydarzenie/warsztat-wyjazdowy-przestrzenie-kobiecosci/
LOCATION:Wytwórnia Ciszy\, Brzozówka 30\, Uniejów\, łódzkie\, 99-210\, Poland
CATEGORIES:Warsztaty wyjazdowe
ATTACH;FMTTYPE=image/jpeg:https://fundacjadantian.com/wp-content/uploads/2026/01/brzozowka.jpg
END:VEVENT
END:VCALENDAR