BEGIN:VCALENDAR
VERSION:2.0
PRODID:-//Fundacja Dantian - ECPv6.15.20//NONSGML v1.0//EN
CALSCALE:GREGORIAN
METHOD:PUBLISH
X-WR-CALNAME:Fundacja Dantian
X-ORIGINAL-URL:https://fundacjadantian.com
X-WR-CALDESC:Wydarzenia dla Fundacja Dantian
REFRESH-INTERVAL;VALUE=DURATION:PT1H
X-Robots-Tag:noindex
X-PUBLISHED-TTL:PT1H
BEGIN:VTIMEZONE
TZID:Europe/Warsaw
BEGIN:DAYLIGHT
TZOFFSETFROM:+0100
TZOFFSETTO:+0200
TZNAME:CEST
DTSTART:20220327T010000
END:DAYLIGHT
BEGIN:STANDARD
TZOFFSETFROM:+0200
TZOFFSETTO:+0100
TZNAME:CET
DTSTART:20221030T010000
END:STANDARD
BEGIN:DAYLIGHT
TZOFFSETFROM:+0100
TZOFFSETTO:+0200
TZNAME:CEST
DTSTART:20230326T010000
END:DAYLIGHT
BEGIN:STANDARD
TZOFFSETFROM:+0200
TZOFFSETTO:+0100
TZNAME:CET
DTSTART:20231029T010000
END:STANDARD
BEGIN:DAYLIGHT
TZOFFSETFROM:+0100
TZOFFSETTO:+0200
TZNAME:CEST
DTSTART:20240331T010000
END:DAYLIGHT
BEGIN:STANDARD
TZOFFSETFROM:+0200
TZOFFSETTO:+0100
TZNAME:CET
DTSTART:20241027T010000
END:STANDARD
BEGIN:DAYLIGHT
TZOFFSETFROM:+0100
TZOFFSETTO:+0200
TZNAME:CEST
DTSTART:20250330T010000
END:DAYLIGHT
BEGIN:STANDARD
TZOFFSETFROM:+0200
TZOFFSETTO:+0100
TZNAME:CET
DTSTART:20251026T010000
END:STANDARD
END:VTIMEZONE
BEGIN:VEVENT
DTSTART;TZID=Europe/Warsaw:20230615T110000
DTEND;TZID=Europe/Warsaw:20230615T122000
DTSTAMP:20260425T180653
CREATED:20230206T133820Z
LAST-MODIFIED:20230616T110354Z
UID:31949-1686826800-1686831600@fundacjadantian.com
SUMMARY:Warsztaty artystyczno-ruchowe
DESCRIPTION:Podczas warsztatów z cyklu „Sztuka i ruch” odkryjesz fascynujące detale dzieł sztuki europejskiej i azjatyckiej\, które nawiązują do żywiołów: ognia\, powietrza\, ziemi i wody. Aby dobrze poznać i zrozumieć dzieła sztuki zaangażujesz różne zmysły. Ćwicząc multisensoryczność przeniesiesz ją na umiejętność pracy z własnym ciałem oraz na działania artystyczne. Będziesz malować\, rzeźbić\, rysować. Odbędziesz podróż w głąb samego siebie. Zapraszamy seniorów na aktywne i twórcze spotkania ze sztuką. \nPejzaż leśny \nPozytyw czy negatyw – jak narysować\, namalować pejzaż przy użyciu dwóch kolorów\, białego i czarnego? Czy wtedy możemy opowiedzieć tyle samo\, jak przy pomocy kolorów? Na co zwrócić szczególną uwagę? Jak zadziałają kontrastowe zestawienia? Czym równoważymy kompozycję? Na te pytania odpowiemy podczas spotkania\, które będzie przygodą z komponowaniem pracy plastycznej. \nPROWADZĄCA \nMarzena Maya Rostkowska – z wykształcenia pedagog\, magister sztuki\, scenograf\, ilustrator\, grafik. Pisząca podróżniczka\, a z zamiłowania do ruchu instruktorka taiji i qigongu w Fundacji Dantian. Sztuka i ruch to jej pasja\, której daje uwagę i czas\, którą zamienia na obrazy\, książki\, zajęcia ruchowe i filmy. \nZajęcia odbywają się w sali edukacyjnej koło restauracji\, poziom  -1 \nLink do strony MNW gdzie znajduje się harmonogram zajęć. \nBilety w cenie 15 zł\, można nabyć w kasie MNM oraz online na dwa dni przed wydarzeniem\, od godz. 10.00.
URL:https://fundacjadantian.com/wydarzenie/warsztaty-artystyczno-ruchowe-18/
LOCATION:Muzeum Narodowe\, Al. Jerozolimskie 3\, Warszawa
CATEGORIES:Qigong
ATTACH;FMTTYPE=image/jpeg:https://fundacjadantian.com/wp-content/uploads/2022/01/Kalendarz-1920x1080-px-2.jpeg
END:VEVENT
BEGIN:VEVENT
DTSTART;TZID=Europe/Warsaw:20230701T120000
DTEND;TZID=Europe/Warsaw:20230701T133000
DTSTAMP:20260425T180653
CREATED:20230419T104750Z
LAST-MODIFIED:20230421T094339Z
UID:33776-1688212800-1688218200@fundacjadantian.com
SUMMARY:Qigong w Parku Kultury w Powsinie
DESCRIPTION:Ruchu oraz obecności wsród przyrody nigdy za wiele. Szczególnie w pięknym miejscu\, jakim jest Park Kultury w Powsinie\, gdzie odbywać się będą nasze wiosenno-letnie zajęcia qigongu\, który przecież najprzyjemniej praktykować w przyrodzie. Zaplanuj sobie zieloną sobotę w Powsinie. Po zajęciach możesz pospacerować\, odwiedzić Ogród Botaniczny\, pograć w Chińczyka pod brzozami albo po prostu napić się herbaty i pooddychać leśnym powietrzem.\nZapraszamy w wybrane soboty. Spotykamy się o 11.50 przed Klubokawiarnią.
URL:https://fundacjadantian.com/wydarzenie/qigong-w-parku-kultury-w-powsinie-8/2023-07-01/
LOCATION:Park Kultury w Powsinie\, Maślaków 1\, Warszawa\, 02-973
CATEGORIES:Qigong
ATTACH;FMTTYPE=image/jpeg:https://fundacjadantian.com/wp-content/uploads/2022/05/QIGING-W-POWSINIE.jpg
END:VEVENT
BEGIN:VEVENT
DTSTART;TZID=Europe/Warsaw:20230819T120000
DTEND;TZID=Europe/Warsaw:20230819T133000
DTSTAMP:20260425T180653
CREATED:20230421T094120Z
LAST-MODIFIED:20230421T094812Z
UID:33888-1692446400-1692451800@fundacjadantian.com
SUMMARY:Qigong w Parku Kultury w Powsinie
DESCRIPTION:Ruchu oraz obecności wsród przyrody nigdy za wiele. Szczególnie w pięknym miejscu\, jakim jest Park Kultury w Powsinie\, gdzie odbywać się będą nasze wiosenno-letnie zajęcia qigongu\, który przecież najprzyjemniej praktykować w przyrodzie. Zaplanuj sobie zieloną sobotę w Powsinie. Po zajęciach możesz pospacerować\, odwiedzić Ogród Botaniczny\, pograć w Chińczyka pod brzozami albo po prostu napić się herbaty i pooddychać leśnym powietrzem.\nZapraszamy w wybrane soboty. Spotykamy się o 11.50 przed Klubokawiarnią.
URL:https://fundacjadantian.com/wydarzenie/qigong-w-parku-kultury-w-powsinie-9/
LOCATION:Park Kultury w Powsinie\, Maślaków 1\, Warszawa\, 02-973
CATEGORIES:Qigong
ATTACH;FMTTYPE=image/jpeg:https://fundacjadantian.com/wp-content/uploads/2022/05/QIGING-W-POWSINIE.jpg
END:VEVENT
BEGIN:VEVENT
DTSTART;TZID=Europe/Warsaw:20240201T160000
DTEND;TZID=Europe/Warsaw:20240201T171500
DTSTAMP:20260425T180653
CREATED:20240419T091802Z
LAST-MODIFIED:20240419T092211Z
UID:42791-1706803200-1706807700@fundacjadantian.com
SUMMARY:Qigong dla dojrzałych
DESCRIPTION:Wraz z Mokotowskim Centrum Integracji Mieszkańców zapraszamy  na kolejną edycję „Qigongu dla dojrzałych”. Są to bezpłatne zajęcia\, podczas których uczymy podstaw qigongu oraz dalekowschodniego podejścia do zdrowia. Zajęcia przeznaczone są dla osób 55 + . Stopień trudności dostosowujemy do możliwości i kondycji uczestników. Wystarczy luźny stój i obuwie na miękkiej\, płaskiej podeszwie. Zależnie od bieżącej sytuacji\, zajęcia będą odbywały się online lub\, stacjonarnie w sali przy ul. Woronicza 44.
URL:https://fundacjadantian.com/wydarzenie/qigong-dla-dojrzalych-4/2024-02-01/
LOCATION:Mokotowskie Centrum Integracji Mieszkańców
CATEGORIES:Qigong - Woronicza 44 A
ATTACH;FMTTYPE=image/jpeg:https://fundacjadantian.com/wp-content/uploads/2022/01/page-3-1.jpeg
END:VEVENT
BEGIN:VEVENT
DTSTART;TZID=Europe/Warsaw:20240425T160000
DTEND;TZID=Europe/Warsaw:20240425T171500
DTSTAMP:20260425T180653
CREATED:20240419T091802Z
LAST-MODIFIED:20240419T092236Z
UID:42816-1714060800-1714065300@fundacjadantian.com
SUMMARY:Qigong dla dojrzałych
DESCRIPTION:Wraz z Mokotowskim Centrum Integracji Mieszkańców zapraszamy  na kolejną edycję „Qigongu dla dojrzałych”. Są to bezpłatne zajęcia\, podczas których uczymy podstaw qigongu oraz dalekowschodniego podejścia do zdrowia. Zajęcia przeznaczone są dla osób 55 + . Stopień trudności dostosowujemy do możliwości i kondycji uczestników. Wystarczy luźny stój i obuwie na miękkiej\, płaskiej podeszwie. Zależnie od bieżącej sytuacji\, zajęcia będą odbywały się online lub\, stacjonarnie w sali przy ul. Woronicza 44.
URL:https://fundacjadantian.com/wydarzenie/qigong-dla-dojrzalych-4/2024-04-25/
LOCATION:Mokotowskie Centrum Integracji Mieszkańców
CATEGORIES:Qigong - Woronicza 44 A
ATTACH;FMTTYPE=image/jpeg:https://fundacjadantian.com/wp-content/uploads/2022/01/page-3-1.jpeg
END:VEVENT
BEGIN:VEVENT
DTSTART;TZID=Europe/Warsaw:20240430T100000
DTEND;TZID=Europe/Warsaw:20240430T110000
DTSTAMP:20260425T180653
CREATED:20240419T091802Z
LAST-MODIFIED:20240419T092236Z
UID:42817-1714471200-1714474800@fundacjadantian.com
SUMMARY:Qigong dla dojrzałych
DESCRIPTION:Wraz z Mokotowskim Centrum Integracji Mieszkańców zapraszamy  na kolejną edycję „Qigongu dla dojrzałych”. Są to bezpłatne zajęcia\, podczas których uczymy podstaw qigongu oraz dalekowschodniego podejścia do zdrowia. Zajęcia przeznaczone są dla osób 55 + . Stopień trudności dostosowujemy do możliwości i kondycji uczestników. Wystarczy luźny stój i obuwie na miękkiej\, płaskiej podeszwie. Zależnie od bieżącej sytuacji\, zajęcia będą odbywały się online lub\, stacjonarnie w sali przy ul. Woronicza 44.
URL:https://fundacjadantian.com/wydarzenie/qigong-dla-dojrzalych-4/2024-04-30/
LOCATION:Mokotowskie Centrum Integracji Mieszkańców
CATEGORIES:Qigong - Woronicza 44 A
ATTACH;FMTTYPE=image/jpeg:https://fundacjadantian.com/wp-content/uploads/2022/01/page-3-1.jpeg
END:VEVENT
BEGIN:VEVENT
DTSTART;TZID=Europe/Warsaw:20240502T160000
DTEND;TZID=Europe/Warsaw:20240502T171500
DTSTAMP:20260425T180653
CREATED:20240419T091802Z
LAST-MODIFIED:20240419T092237Z
UID:42818-1714665600-1714670100@fundacjadantian.com
SUMMARY:Qigong dla dojrzałych
DESCRIPTION:Wraz z Mokotowskim Centrum Integracji Mieszkańców zapraszamy  na kolejną edycję „Qigongu dla dojrzałych”. Są to bezpłatne zajęcia\, podczas których uczymy podstaw qigongu oraz dalekowschodniego podejścia do zdrowia. Zajęcia przeznaczone są dla osób 55 + . Stopień trudności dostosowujemy do możliwości i kondycji uczestników. Wystarczy luźny stój i obuwie na miękkiej\, płaskiej podeszwie. Zależnie od bieżącej sytuacji\, zajęcia będą odbywały się online lub\, stacjonarnie w sali przy ul. Woronicza 44.
URL:https://fundacjadantian.com/wydarzenie/qigong-dla-dojrzalych-4/2024-05-02/
LOCATION:Mokotowskie Centrum Integracji Mieszkańców
CATEGORIES:Qigong - Woronicza 44 A
ATTACH;FMTTYPE=image/jpeg:https://fundacjadantian.com/wp-content/uploads/2022/01/page-3-1.jpeg
END:VEVENT
BEGIN:VEVENT
DTSTART;TZID=Europe/Warsaw:20240507T100000
DTEND;TZID=Europe/Warsaw:20240507T110000
DTSTAMP:20260425T180653
CREATED:20240419T091802Z
LAST-MODIFIED:20240419T092238Z
UID:42819-1715076000-1715079600@fundacjadantian.com
SUMMARY:Qigong dla dojrzałych
DESCRIPTION:Wraz z Mokotowskim Centrum Integracji Mieszkańców zapraszamy  na kolejną edycję „Qigongu dla dojrzałych”. Są to bezpłatne zajęcia\, podczas których uczymy podstaw qigongu oraz dalekowschodniego podejścia do zdrowia. Zajęcia przeznaczone są dla osób 55 + . Stopień trudności dostosowujemy do możliwości i kondycji uczestników. Wystarczy luźny stój i obuwie na miękkiej\, płaskiej podeszwie. Zależnie od bieżącej sytuacji\, zajęcia będą odbywały się online lub\, stacjonarnie w sali przy ul. Woronicza 44.
URL:https://fundacjadantian.com/wydarzenie/qigong-dla-dojrzalych-4/2024-05-07/
LOCATION:Mokotowskie Centrum Integracji Mieszkańców
CATEGORIES:Qigong - Woronicza 44 A
ATTACH;FMTTYPE=image/jpeg:https://fundacjadantian.com/wp-content/uploads/2022/01/page-3-1.jpeg
END:VEVENT
BEGIN:VEVENT
DTSTART;TZID=Europe/Warsaw:20240509T160000
DTEND;TZID=Europe/Warsaw:20240509T171500
DTSTAMP:20260425T180653
CREATED:20240419T091802Z
LAST-MODIFIED:20240419T092238Z
UID:42820-1715270400-1715274900@fundacjadantian.com
SUMMARY:Qigong dla dojrzałych
DESCRIPTION:Wraz z Mokotowskim Centrum Integracji Mieszkańców zapraszamy  na kolejną edycję „Qigongu dla dojrzałych”. Są to bezpłatne zajęcia\, podczas których uczymy podstaw qigongu oraz dalekowschodniego podejścia do zdrowia. Zajęcia przeznaczone są dla osób 55 + . Stopień trudności dostosowujemy do możliwości i kondycji uczestników. Wystarczy luźny stój i obuwie na miękkiej\, płaskiej podeszwie. Zależnie od bieżącej sytuacji\, zajęcia będą odbywały się online lub\, stacjonarnie w sali przy ul. Woronicza 44.
URL:https://fundacjadantian.com/wydarzenie/qigong-dla-dojrzalych-4/2024-05-09/
LOCATION:Mokotowskie Centrum Integracji Mieszkańców
CATEGORIES:Qigong - Woronicza 44 A
ATTACH;FMTTYPE=image/jpeg:https://fundacjadantian.com/wp-content/uploads/2022/01/page-3-1.jpeg
END:VEVENT
BEGIN:VEVENT
DTSTART;TZID=Europe/Warsaw:20240514T100000
DTEND;TZID=Europe/Warsaw:20240514T110000
DTSTAMP:20260425T180653
CREATED:20240419T091802Z
LAST-MODIFIED:20240419T092239Z
UID:42821-1715680800-1715684400@fundacjadantian.com
SUMMARY:Qigong dla dojrzałych
DESCRIPTION:Wraz z Mokotowskim Centrum Integracji Mieszkańców zapraszamy  na kolejną edycję „Qigongu dla dojrzałych”. Są to bezpłatne zajęcia\, podczas których uczymy podstaw qigongu oraz dalekowschodniego podejścia do zdrowia. Zajęcia przeznaczone są dla osób 55 + . Stopień trudności dostosowujemy do możliwości i kondycji uczestników. Wystarczy luźny stój i obuwie na miękkiej\, płaskiej podeszwie. Zależnie od bieżącej sytuacji\, zajęcia będą odbywały się online lub\, stacjonarnie w sali przy ul. Woronicza 44.
URL:https://fundacjadantian.com/wydarzenie/qigong-dla-dojrzalych-4/2024-05-14/
LOCATION:Mokotowskie Centrum Integracji Mieszkańców
CATEGORIES:Qigong - Woronicza 44 A
ATTACH;FMTTYPE=image/jpeg:https://fundacjadantian.com/wp-content/uploads/2022/01/page-3-1.jpeg
END:VEVENT
BEGIN:VEVENT
DTSTART;TZID=Europe/Warsaw:20240516T160000
DTEND;TZID=Europe/Warsaw:20240516T171500
DTSTAMP:20260425T180653
CREATED:20240419T091802Z
LAST-MODIFIED:20240419T092239Z
UID:42822-1715875200-1715879700@fundacjadantian.com
SUMMARY:Qigong dla dojrzałych
DESCRIPTION:Wraz z Mokotowskim Centrum Integracji Mieszkańców zapraszamy  na kolejną edycję „Qigongu dla dojrzałych”. Są to bezpłatne zajęcia\, podczas których uczymy podstaw qigongu oraz dalekowschodniego podejścia do zdrowia. Zajęcia przeznaczone są dla osób 55 + . Stopień trudności dostosowujemy do możliwości i kondycji uczestników. Wystarczy luźny stój i obuwie na miękkiej\, płaskiej podeszwie. Zależnie od bieżącej sytuacji\, zajęcia będą odbywały się online lub\, stacjonarnie w sali przy ul. Woronicza 44.
URL:https://fundacjadantian.com/wydarzenie/qigong-dla-dojrzalych-4/2024-05-16/
LOCATION:Mokotowskie Centrum Integracji Mieszkańców
CATEGORIES:Qigong - Woronicza 44 A
ATTACH;FMTTYPE=image/jpeg:https://fundacjadantian.com/wp-content/uploads/2022/01/page-3-1.jpeg
END:VEVENT
BEGIN:VEVENT
DTSTART;TZID=Europe/Warsaw:20240521T100000
DTEND;TZID=Europe/Warsaw:20240521T110000
DTSTAMP:20260425T180653
CREATED:20240419T091802Z
LAST-MODIFIED:20240419T092242Z
UID:42823-1716285600-1716289200@fundacjadantian.com
SUMMARY:Qigong dla dojrzałych
DESCRIPTION:Wraz z Mokotowskim Centrum Integracji Mieszkańców zapraszamy  na kolejną edycję „Qigongu dla dojrzałych”. Są to bezpłatne zajęcia\, podczas których uczymy podstaw qigongu oraz dalekowschodniego podejścia do zdrowia. Zajęcia przeznaczone są dla osób 55 + . Stopień trudności dostosowujemy do możliwości i kondycji uczestników. Wystarczy luźny stój i obuwie na miękkiej\, płaskiej podeszwie. Zależnie od bieżącej sytuacji\, zajęcia będą odbywały się online lub\, stacjonarnie w sali przy ul. Woronicza 44.
URL:https://fundacjadantian.com/wydarzenie/qigong-dla-dojrzalych-4/2024-05-21/
LOCATION:Mokotowskie Centrum Integracji Mieszkańców
CATEGORIES:Qigong - Woronicza 44 A
ATTACH;FMTTYPE=image/jpeg:https://fundacjadantian.com/wp-content/uploads/2022/01/page-3-1.jpeg
END:VEVENT
BEGIN:VEVENT
DTSTART;TZID=Europe/Warsaw:20240523T160000
DTEND;TZID=Europe/Warsaw:20240523T171500
DTSTAMP:20260425T180653
CREATED:20240419T091802Z
LAST-MODIFIED:20240419T092243Z
UID:42824-1716480000-1716484500@fundacjadantian.com
SUMMARY:Qigong dla dojrzałych
DESCRIPTION:Wraz z Mokotowskim Centrum Integracji Mieszkańców zapraszamy  na kolejną edycję „Qigongu dla dojrzałych”. Są to bezpłatne zajęcia\, podczas których uczymy podstaw qigongu oraz dalekowschodniego podejścia do zdrowia. Zajęcia przeznaczone są dla osób 55 + . Stopień trudności dostosowujemy do możliwości i kondycji uczestników. Wystarczy luźny stój i obuwie na miękkiej\, płaskiej podeszwie. Zależnie od bieżącej sytuacji\, zajęcia będą odbywały się online lub\, stacjonarnie w sali przy ul. Woronicza 44.
URL:https://fundacjadantian.com/wydarzenie/qigong-dla-dojrzalych-4/2024-05-23/
LOCATION:Mokotowskie Centrum Integracji Mieszkańców
CATEGORIES:Qigong - Woronicza 44 A
ATTACH;FMTTYPE=image/jpeg:https://fundacjadantian.com/wp-content/uploads/2022/01/page-3-1.jpeg
END:VEVENT
BEGIN:VEVENT
DTSTART;TZID=Europe/Warsaw:20240528T100000
DTEND;TZID=Europe/Warsaw:20240528T110000
DTSTAMP:20260425T180653
CREATED:20240419T091802Z
LAST-MODIFIED:20240419T092243Z
UID:42825-1716890400-1716894000@fundacjadantian.com
SUMMARY:Qigong dla dojrzałych
DESCRIPTION:Wraz z Mokotowskim Centrum Integracji Mieszkańców zapraszamy  na kolejną edycję „Qigongu dla dojrzałych”. Są to bezpłatne zajęcia\, podczas których uczymy podstaw qigongu oraz dalekowschodniego podejścia do zdrowia. Zajęcia przeznaczone są dla osób 55 + . Stopień trudności dostosowujemy do możliwości i kondycji uczestników. Wystarczy luźny stój i obuwie na miękkiej\, płaskiej podeszwie. Zależnie od bieżącej sytuacji\, zajęcia będą odbywały się online lub\, stacjonarnie w sali przy ul. Woronicza 44.
URL:https://fundacjadantian.com/wydarzenie/qigong-dla-dojrzalych-4/2024-05-28/
LOCATION:Mokotowskie Centrum Integracji Mieszkańców
CATEGORIES:Qigong - Woronicza 44 A
ATTACH;FMTTYPE=image/jpeg:https://fundacjadantian.com/wp-content/uploads/2022/01/page-3-1.jpeg
END:VEVENT
BEGIN:VEVENT
DTSTART;TZID=Europe/Warsaw:20240604T100000
DTEND;TZID=Europe/Warsaw:20240604T110000
DTSTAMP:20260425T180653
CREATED:20240419T091802Z
LAST-MODIFIED:20240419T092244Z
UID:42827-1717495200-1717498800@fundacjadantian.com
SUMMARY:Qigong dla dojrzałych
DESCRIPTION:Wraz z Mokotowskim Centrum Integracji Mieszkańców zapraszamy  na kolejną edycję „Qigongu dla dojrzałych”. Są to bezpłatne zajęcia\, podczas których uczymy podstaw qigongu oraz dalekowschodniego podejścia do zdrowia. Zajęcia przeznaczone są dla osób 55 + . Stopień trudności dostosowujemy do możliwości i kondycji uczestników. Wystarczy luźny stój i obuwie na miękkiej\, płaskiej podeszwie. Zależnie od bieżącej sytuacji\, zajęcia będą odbywały się online lub\, stacjonarnie w sali przy ul. Woronicza 44.
URL:https://fundacjadantian.com/wydarzenie/qigong-dla-dojrzalych-4/2024-06-04/
LOCATION:Mokotowskie Centrum Integracji Mieszkańców
CATEGORIES:Qigong - Woronicza 44 A
ATTACH;FMTTYPE=image/jpeg:https://fundacjadantian.com/wp-content/uploads/2022/01/page-3-1.jpeg
END:VEVENT
BEGIN:VEVENT
DTSTART;TZID=Europe/Warsaw:20240606T160000
DTEND;TZID=Europe/Warsaw:20240606T171500
DTSTAMP:20260425T180653
CREATED:20240419T091802Z
LAST-MODIFIED:20240419T092245Z
UID:42828-1717689600-1717694100@fundacjadantian.com
SUMMARY:Qigong dla dojrzałych
DESCRIPTION:Wraz z Mokotowskim Centrum Integracji Mieszkańców zapraszamy  na kolejną edycję „Qigongu dla dojrzałych”. Są to bezpłatne zajęcia\, podczas których uczymy podstaw qigongu oraz dalekowschodniego podejścia do zdrowia. Zajęcia przeznaczone są dla osób 55 + . Stopień trudności dostosowujemy do możliwości i kondycji uczestników. Wystarczy luźny stój i obuwie na miękkiej\, płaskiej podeszwie. Zależnie od bieżącej sytuacji\, zajęcia będą odbywały się online lub\, stacjonarnie w sali przy ul. Woronicza 44.
URL:https://fundacjadantian.com/wydarzenie/qigong-dla-dojrzalych-4/2024-06-06/
LOCATION:Mokotowskie Centrum Integracji Mieszkańców
CATEGORIES:Qigong - Woronicza 44 A
ATTACH;FMTTYPE=image/jpeg:https://fundacjadantian.com/wp-content/uploads/2022/01/page-3-1.jpeg
END:VEVENT
BEGIN:VEVENT
DTSTART;TZID=Europe/Warsaw:20240611T100000
DTEND;TZID=Europe/Warsaw:20240611T110000
DTSTAMP:20260425T180653
CREATED:20240419T091802Z
LAST-MODIFIED:20240419T092245Z
UID:42829-1718100000-1718103600@fundacjadantian.com
SUMMARY:Qigong dla dojrzałych
DESCRIPTION:Wraz z Mokotowskim Centrum Integracji Mieszkańców zapraszamy  na kolejną edycję „Qigongu dla dojrzałych”. Są to bezpłatne zajęcia\, podczas których uczymy podstaw qigongu oraz dalekowschodniego podejścia do zdrowia. Zajęcia przeznaczone są dla osób 55 + . Stopień trudności dostosowujemy do możliwości i kondycji uczestników. Wystarczy luźny stój i obuwie na miękkiej\, płaskiej podeszwie. Zależnie od bieżącej sytuacji\, zajęcia będą odbywały się online lub\, stacjonarnie w sali przy ul. Woronicza 44.
URL:https://fundacjadantian.com/wydarzenie/qigong-dla-dojrzalych-4/2024-06-11/
LOCATION:Mokotowskie Centrum Integracji Mieszkańców
CATEGORIES:Qigong - Woronicza 44 A
ATTACH;FMTTYPE=image/jpeg:https://fundacjadantian.com/wp-content/uploads/2022/01/page-3-1.jpeg
END:VEVENT
BEGIN:VEVENT
DTSTART;TZID=Europe/Warsaw:20240613T160000
DTEND;TZID=Europe/Warsaw:20240613T171500
DTSTAMP:20260425T180653
CREATED:20240419T091802Z
LAST-MODIFIED:20240419T092246Z
UID:42830-1718294400-1718298900@fundacjadantian.com
SUMMARY:Qigong dla dojrzałych
DESCRIPTION:Wraz z Mokotowskim Centrum Integracji Mieszkańców zapraszamy  na kolejną edycję „Qigongu dla dojrzałych”. Są to bezpłatne zajęcia\, podczas których uczymy podstaw qigongu oraz dalekowschodniego podejścia do zdrowia. Zajęcia przeznaczone są dla osób 55 + . Stopień trudności dostosowujemy do możliwości i kondycji uczestników. Wystarczy luźny stój i obuwie na miękkiej\, płaskiej podeszwie. Zależnie od bieżącej sytuacji\, zajęcia będą odbywały się online lub\, stacjonarnie w sali przy ul. Woronicza 44.
URL:https://fundacjadantian.com/wydarzenie/qigong-dla-dojrzalych-4/2024-06-13/
LOCATION:Mokotowskie Centrum Integracji Mieszkańców
CATEGORIES:Qigong - Woronicza 44 A
ATTACH;FMTTYPE=image/jpeg:https://fundacjadantian.com/wp-content/uploads/2022/01/page-3-1.jpeg
END:VEVENT
BEGIN:VEVENT
DTSTART;TZID=Europe/Warsaw:20240618T100000
DTEND;TZID=Europe/Warsaw:20240618T110000
DTSTAMP:20260425T180653
CREATED:20240419T091802Z
LAST-MODIFIED:20240419T092247Z
UID:42831-1718704800-1718708400@fundacjadantian.com
SUMMARY:Qigong dla dojrzałych
DESCRIPTION:Wraz z Mokotowskim Centrum Integracji Mieszkańców zapraszamy  na kolejną edycję „Qigongu dla dojrzałych”. Są to bezpłatne zajęcia\, podczas których uczymy podstaw qigongu oraz dalekowschodniego podejścia do zdrowia. Zajęcia przeznaczone są dla osób 55 + . Stopień trudności dostosowujemy do możliwości i kondycji uczestników. Wystarczy luźny stój i obuwie na miękkiej\, płaskiej podeszwie. Zależnie od bieżącej sytuacji\, zajęcia będą odbywały się online lub\, stacjonarnie w sali przy ul. Woronicza 44.
URL:https://fundacjadantian.com/wydarzenie/qigong-dla-dojrzalych-4/2024-06-18/
LOCATION:Mokotowskie Centrum Integracji Mieszkańców
CATEGORIES:Qigong - Woronicza 44 A
ATTACH;FMTTYPE=image/jpeg:https://fundacjadantian.com/wp-content/uploads/2022/01/page-3-1.jpeg
END:VEVENT
BEGIN:VEVENT
DTSTART;TZID=Europe/Warsaw:20240620T160000
DTEND;TZID=Europe/Warsaw:20240620T171500
DTSTAMP:20260425T180653
CREATED:20240419T091802Z
LAST-MODIFIED:20240419T092247Z
UID:42832-1718899200-1718903700@fundacjadantian.com
SUMMARY:Qigong dla dojrzałych
DESCRIPTION:Wraz z Mokotowskim Centrum Integracji Mieszkańców zapraszamy  na kolejną edycję „Qigongu dla dojrzałych”. Są to bezpłatne zajęcia\, podczas których uczymy podstaw qigongu oraz dalekowschodniego podejścia do zdrowia. Zajęcia przeznaczone są dla osób 55 + . Stopień trudności dostosowujemy do możliwości i kondycji uczestników. Wystarczy luźny stój i obuwie na miękkiej\, płaskiej podeszwie. Zależnie od bieżącej sytuacji\, zajęcia będą odbywały się online lub\, stacjonarnie w sali przy ul. Woronicza 44.
URL:https://fundacjadantian.com/wydarzenie/qigong-dla-dojrzalych-4/2024-06-20/
LOCATION:Mokotowskie Centrum Integracji Mieszkańców
CATEGORIES:Qigong - Woronicza 44 A
ATTACH;FMTTYPE=image/jpeg:https://fundacjadantian.com/wp-content/uploads/2022/01/page-3-1.jpeg
END:VEVENT
BEGIN:VEVENT
DTSTART;TZID=Europe/Warsaw:20240625T100000
DTEND;TZID=Europe/Warsaw:20240625T110000
DTSTAMP:20260425T180653
CREATED:20240419T091802Z
LAST-MODIFIED:20240419T092249Z
UID:42833-1719309600-1719313200@fundacjadantian.com
SUMMARY:Qigong dla dojrzałych
DESCRIPTION:Wraz z Mokotowskim Centrum Integracji Mieszkańców zapraszamy  na kolejną edycję „Qigongu dla dojrzałych”. Są to bezpłatne zajęcia\, podczas których uczymy podstaw qigongu oraz dalekowschodniego podejścia do zdrowia. Zajęcia przeznaczone są dla osób 55 + . Stopień trudności dostosowujemy do możliwości i kondycji uczestników. Wystarczy luźny stój i obuwie na miękkiej\, płaskiej podeszwie. Zależnie od bieżącej sytuacji\, zajęcia będą odbywały się online lub\, stacjonarnie w sali przy ul. Woronicza 44.
URL:https://fundacjadantian.com/wydarzenie/qigong-dla-dojrzalych-4/2024-06-25/
LOCATION:Mokotowskie Centrum Integracji Mieszkańców
CATEGORIES:Qigong - Woronicza 44 A
ATTACH;FMTTYPE=image/jpeg:https://fundacjadantian.com/wp-content/uploads/2022/01/page-3-1.jpeg
END:VEVENT
BEGIN:VEVENT
DTSTART;TZID=Europe/Warsaw:20240627T160000
DTEND;TZID=Europe/Warsaw:20240627T171500
DTSTAMP:20260425T180653
CREATED:20240419T091802Z
LAST-MODIFIED:20240419T092250Z
UID:42834-1719504000-1719508500@fundacjadantian.com
SUMMARY:Qigong dla dojrzałych
DESCRIPTION:Wraz z Mokotowskim Centrum Integracji Mieszkańców zapraszamy  na kolejną edycję „Qigongu dla dojrzałych”. Są to bezpłatne zajęcia\, podczas których uczymy podstaw qigongu oraz dalekowschodniego podejścia do zdrowia. Zajęcia przeznaczone są dla osób 55 + . Stopień trudności dostosowujemy do możliwości i kondycji uczestników. Wystarczy luźny stój i obuwie na miękkiej\, płaskiej podeszwie. Zależnie od bieżącej sytuacji\, zajęcia będą odbywały się online lub\, stacjonarnie w sali przy ul. Woronicza 44.
URL:https://fundacjadantian.com/wydarzenie/qigong-dla-dojrzalych-4/2024-06-27/
LOCATION:Mokotowskie Centrum Integracji Mieszkańców
CATEGORIES:Qigong - Woronicza 44 A
ATTACH;FMTTYPE=image/jpeg:https://fundacjadantian.com/wp-content/uploads/2022/01/page-3-1.jpeg
END:VEVENT
BEGIN:VEVENT
DTSTART;TZID=Europe/Warsaw:20240629T120000
DTEND;TZID=Europe/Warsaw:20240629T133000
DTSTAMP:20260425T180653
CREATED:20240306T104317Z
LAST-MODIFIED:20240306T104655Z
UID:42272-1719662400-1719667800@fundacjadantian.com
SUMMARY:Qigong w Parku Kultury w Powsinie
DESCRIPTION:Ruchu oraz obecności wsród przyrody nigdy za wiele. Szczególnie w pięknym miejscu\, jakim jest Park Kultury w Powsinie\, gdzie odbywać się będą nasze wiosenno-letnie zajęcia qigongu\, który przecież najprzyjemniej praktykować w przyrodzie. Zaplanuj sobie zieloną sobotę w Powsinie. Po zajęciach możesz pospacerować\, odwiedzić Ogród Botaniczny\, pograć w Chińczyka pod brzozami albo po prostu napić się herbaty i pooddychać leśnym powietrzem.\nZapraszamy w wybrane soboty. Spotykamy się o 11.50 przed Klubokawiarnią.
URL:https://fundacjadantian.com/wydarzenie/qigong-w-parku-kultury-w-powsinie-10/2024-06-29/
LOCATION:Park Kultury w Powsinie\, Maślaków 1\, Warszawa\, 02-973
CATEGORIES:Qigong
ATTACH;FMTTYPE=image/jpeg:https://fundacjadantian.com/wp-content/uploads/2022/05/QIGING-W-POWSINIE.jpg
END:VEVENT
BEGIN:VEVENT
DTSTART;TZID=Europe/Warsaw:20240713T120000
DTEND;TZID=Europe/Warsaw:20240713T133000
DTSTAMP:20260425T180653
CREATED:20240306T104317Z
LAST-MODIFIED:20240306T104317Z
UID:42274-1720872000-1720877400@fundacjadantian.com
SUMMARY:Qigong w Parku Kultury w Powsinie
DESCRIPTION:Ruchu oraz obecności wsród przyrody nigdy za wiele. Szczególnie w pięknym miejscu\, jakim jest Park Kultury w Powsinie\, gdzie odbywać się będą nasze wiosenno-letnie zajęcia qigongu\, który przecież najprzyjemniej praktykować w przyrodzie. Zaplanuj sobie zieloną sobotę w Powsinie. Po zajęciach możesz pospacerować\, odwiedzić Ogród Botaniczny\, pograć w Chińczyka pod brzozami albo po prostu napić się herbaty i pooddychać leśnym powietrzem.\nZapraszamy w wybrane soboty. Spotykamy się o 11.50 przed Klubokawiarnią.
URL:https://fundacjadantian.com/wydarzenie/qigong-w-parku-kultury-w-powsinie-10/2024-07-13/
LOCATION:Park Kultury w Powsinie\, Maślaków 1\, Warszawa\, 02-973
CATEGORIES:Qigong
ATTACH;FMTTYPE=image/jpeg:https://fundacjadantian.com/wp-content/uploads/2022/05/QIGING-W-POWSINIE.jpg
END:VEVENT
BEGIN:VEVENT
DTSTART;TZID=Europe/Warsaw:20240803T120000
DTEND;TZID=Europe/Warsaw:20240803T133000
DTSTAMP:20260425T180653
CREATED:20240306T104317Z
LAST-MODIFIED:20240306T104317Z
UID:42275-1722686400-1722691800@fundacjadantian.com
SUMMARY:Qigong w Parku Kultury w Powsinie
DESCRIPTION:Ruchu oraz obecności wsród przyrody nigdy za wiele. Szczególnie w pięknym miejscu\, jakim jest Park Kultury w Powsinie\, gdzie odbywać się będą nasze wiosenno-letnie zajęcia qigongu\, który przecież najprzyjemniej praktykować w przyrodzie. Zaplanuj sobie zieloną sobotę w Powsinie. Po zajęciach możesz pospacerować\, odwiedzić Ogród Botaniczny\, pograć w Chińczyka pod brzozami albo po prostu napić się herbaty i pooddychać leśnym powietrzem.\nZapraszamy w wybrane soboty. Spotykamy się o 11.50 przed Klubokawiarnią.
URL:https://fundacjadantian.com/wydarzenie/qigong-w-parku-kultury-w-powsinie-10/2024-08-03/
LOCATION:Park Kultury w Powsinie\, Maślaków 1\, Warszawa\, 02-973
CATEGORIES:Qigong
ATTACH;FMTTYPE=image/jpeg:https://fundacjadantian.com/wp-content/uploads/2022/05/QIGING-W-POWSINIE.jpg
END:VEVENT
END:VCALENDAR