BEGIN:VCALENDAR
VERSION:2.0
PRODID:-//Fundacja Dantian - ECPv6.15.20//NONSGML v1.0//EN
CALSCALE:GREGORIAN
METHOD:PUBLISH
X-ORIGINAL-URL:https://fundacjadantian.com
X-WR-CALDESC:Wydarzenia dla Fundacja Dantian
REFRESH-INTERVAL;VALUE=DURATION:PT1H
X-Robots-Tag:noindex
X-PUBLISHED-TTL:PT1H
BEGIN:VTIMEZONE
TZID:Europe/Warsaw
BEGIN:DAYLIGHT
TZOFFSETFROM:+0100
TZOFFSETTO:+0200
TZNAME:CEST
DTSTART:20240331T010000
END:DAYLIGHT
BEGIN:STANDARD
TZOFFSETFROM:+0200
TZOFFSETTO:+0100
TZNAME:CET
DTSTART:20241027T010000
END:STANDARD
BEGIN:DAYLIGHT
TZOFFSETFROM:+0100
TZOFFSETTO:+0200
TZNAME:CEST
DTSTART:20250330T010000
END:DAYLIGHT
BEGIN:STANDARD
TZOFFSETFROM:+0200
TZOFFSETTO:+0100
TZNAME:CET
DTSTART:20251026T010000
END:STANDARD
BEGIN:DAYLIGHT
TZOFFSETFROM:+0100
TZOFFSETTO:+0200
TZNAME:CEST
DTSTART:20260329T010000
END:DAYLIGHT
BEGIN:STANDARD
TZOFFSETFROM:+0200
TZOFFSETTO:+0100
TZNAME:CET
DTSTART:20261025T010000
END:STANDARD
END:VTIMEZONE
BEGIN:VEVENT
DTSTART;TZID=Europe/Warsaw:20250104T090000
DTEND;TZID=Europe/Warsaw:20250104T103000
DTSTAMP:20260425T130125
CREATED:20220124T105643Z
LAST-MODIFIED:20220124T105643Z
UID:43966-1735981200-1735986600@fundacjadantian.com
SUMMARY:Trening weekendowy
DESCRIPTION:Jeśli chcesz spędzić aktywnie czas\, w przyrodzie\, zapraszamy na weekendowe\, otwarte treningi do Łazienek Królewskich. O każdej porze roku\, bez względu na pogodę ćwiczymy ciało i ducha 🙂 wystarczy dostosować odpowiednio ubranie i buty. Zapraszamy zaawansowanych i niezaawansowanych. Zaczynamy Codziennym Rytuałem Zdrowia\, ćwiczymy długą formę Starego Stylu Yang Taiji oraz formy z bronią.  Do zobaczenia 🙂
URL:https://fundacjadantian.com/wydarzenie/trening-weekendowy-16/2025-01-04/
LOCATION:Łazienki Królewskie\, ul.Agrykola 1\, Warszawa
CATEGORIES:Trening weekendowy
ATTACH;FMTTYPE=image/jpeg:https://fundacjadantian.com/wp-content/uploads/2022/01/page-6.jpeg
END:VEVENT
BEGIN:VEVENT
DTSTART;TZID=Europe/Warsaw:20250105T090000
DTEND;TZID=Europe/Warsaw:20250105T103000
DTSTAMP:20260425T130125
CREATED:20220124T105643Z
LAST-MODIFIED:20220124T105643Z
UID:43967-1736067600-1736073000@fundacjadantian.com
SUMMARY:Trening weekendowy
DESCRIPTION:Jeśli chcesz spędzić aktywnie czas\, w przyrodzie\, zapraszamy na weekendowe\, otwarte treningi do Łazienek Królewskich. O każdej porze roku\, bez względu na pogodę ćwiczymy ciało i ducha 🙂 wystarczy dostosować odpowiednio ubranie i buty. Zapraszamy zaawansowanych i niezaawansowanych. Zaczynamy Codziennym Rytuałem Zdrowia\, ćwiczymy długą formę Starego Stylu Yang Taiji oraz formy z bronią.  Do zobaczenia 🙂
URL:https://fundacjadantian.com/wydarzenie/trening-weekendowy-16/2025-01-05/
LOCATION:Łazienki Królewskie\, ul.Agrykola 1\, Warszawa
CATEGORIES:Trening weekendowy
ATTACH;FMTTYPE=image/jpeg:https://fundacjadantian.com/wp-content/uploads/2022/01/page-6.jpeg
END:VEVENT
BEGIN:VEVENT
DTSTART;TZID=Europe/Warsaw:20250108T130000
DTEND;TZID=Europe/Warsaw:20250108T143000
DTSTAMP:20260425T130125
CREATED:20250102T074336Z
LAST-MODIFIED:20250102T074336Z
UID:44797-1736341200-1736346600@fundacjadantian.com
SUMMARY:Taiji online
DESCRIPTION:Zajęcia online\, dla grupy średnio zaawansowanej. Sposób nauczania wymagający szczególnego zaangażowania i pracy własnej.Dla osób\, które mają nieregularny tryb pracy\, podróżują\, albo mieszkają w innych miejscowościach.  Tym wszystkim osobom\, kurs daje możliwość zapoznania się z tym niezwykłym stylem\, ponieważ jesteśmy jedyną szkołą w Polsce\, dokładnie tego stylu\, mieszczącą się w Warszawie. Więcej o stylu  TUTAJ. Struktura szkoły czyli bezpośredni przekaz nauczyciel-uczeń\, powoduje że ciągle rozwijamy się\, będąc nieustająco uczniem swojego nauczyciela\, nawet ucząc kolejnych adeptów. To trzeci rok pracy online. W tym czasie dwie osoby podeszły z sukcesem do egzaminu\, zdając na poziom biały i mają apetyt na więcej 🙂 Widać da się nauczyć online\, nawet tak trudnego stylu 🙂
URL:https://fundacjadantian.com/wydarzenie/taiji-online-4/2025-01-08/
LOCATION:ONLINE
CATEGORIES:Taiji online
ATTACH;FMTTYPE=image/jpeg:https://fundacjadantian.com/wp-content/uploads/2022/01/page-6-1.jpeg
END:VEVENT
BEGIN:VEVENT
DTSTART;TZID=Europe/Warsaw:20250111T090000
DTEND;TZID=Europe/Warsaw:20250111T103000
DTSTAMP:20260425T130125
CREATED:20220124T105643Z
LAST-MODIFIED:20220124T105643Z
UID:43968-1736586000-1736591400@fundacjadantian.com
SUMMARY:Trening weekendowy
DESCRIPTION:Jeśli chcesz spędzić aktywnie czas\, w przyrodzie\, zapraszamy na weekendowe\, otwarte treningi do Łazienek Królewskich. O każdej porze roku\, bez względu na pogodę ćwiczymy ciało i ducha 🙂 wystarczy dostosować odpowiednio ubranie i buty. Zapraszamy zaawansowanych i niezaawansowanych. Zaczynamy Codziennym Rytuałem Zdrowia\, ćwiczymy długą formę Starego Stylu Yang Taiji oraz formy z bronią.  Do zobaczenia 🙂
URL:https://fundacjadantian.com/wydarzenie/trening-weekendowy-16/2025-01-11/
LOCATION:Łazienki Królewskie\, ul.Agrykola 1\, Warszawa
CATEGORIES:Trening weekendowy
ATTACH;FMTTYPE=image/jpeg:https://fundacjadantian.com/wp-content/uploads/2022/01/page-6.jpeg
END:VEVENT
BEGIN:VEVENT
DTSTART;TZID=Europe/Warsaw:20250112T090000
DTEND;TZID=Europe/Warsaw:20250112T103000
DTSTAMP:20260425T130125
CREATED:20220124T105643Z
LAST-MODIFIED:20220124T105643Z
UID:43969-1736672400-1736677800@fundacjadantian.com
SUMMARY:Trening weekendowy
DESCRIPTION:Jeśli chcesz spędzić aktywnie czas\, w przyrodzie\, zapraszamy na weekendowe\, otwarte treningi do Łazienek Królewskich. O każdej porze roku\, bez względu na pogodę ćwiczymy ciało i ducha 🙂 wystarczy dostosować odpowiednio ubranie i buty. Zapraszamy zaawansowanych i niezaawansowanych. Zaczynamy Codziennym Rytuałem Zdrowia\, ćwiczymy długą formę Starego Stylu Yang Taiji oraz formy z bronią.  Do zobaczenia 🙂
URL:https://fundacjadantian.com/wydarzenie/trening-weekendowy-16/2025-01-12/
LOCATION:Łazienki Królewskie\, ul.Agrykola 1\, Warszawa
CATEGORIES:Trening weekendowy
ATTACH;FMTTYPE=image/jpeg:https://fundacjadantian.com/wp-content/uploads/2022/01/page-6.jpeg
END:VEVENT
BEGIN:VEVENT
DTSTART;TZID=Europe/Warsaw:20250115T130000
DTEND;TZID=Europe/Warsaw:20250115T143000
DTSTAMP:20260425T130125
CREATED:20250102T074336Z
LAST-MODIFIED:20250102T074336Z
UID:44799-1736946000-1736951400@fundacjadantian.com
SUMMARY:Taiji online
DESCRIPTION:Zajęcia online\, dla grupy średnio zaawansowanej. Sposób nauczania wymagający szczególnego zaangażowania i pracy własnej.Dla osób\, które mają nieregularny tryb pracy\, podróżują\, albo mieszkają w innych miejscowościach.  Tym wszystkim osobom\, kurs daje możliwość zapoznania się z tym niezwykłym stylem\, ponieważ jesteśmy jedyną szkołą w Polsce\, dokładnie tego stylu\, mieszczącą się w Warszawie. Więcej o stylu  TUTAJ. Struktura szkoły czyli bezpośredni przekaz nauczyciel-uczeń\, powoduje że ciągle rozwijamy się\, będąc nieustająco uczniem swojego nauczyciela\, nawet ucząc kolejnych adeptów. To trzeci rok pracy online. W tym czasie dwie osoby podeszły z sukcesem do egzaminu\, zdając na poziom biały i mają apetyt na więcej 🙂 Widać da się nauczyć online\, nawet tak trudnego stylu 🙂
URL:https://fundacjadantian.com/wydarzenie/taiji-online-4/2025-01-15/
LOCATION:ONLINE
CATEGORIES:Taiji online
ATTACH;FMTTYPE=image/jpeg:https://fundacjadantian.com/wp-content/uploads/2022/01/page-6-1.jpeg
END:VEVENT
BEGIN:VEVENT
DTSTART;TZID=Europe/Warsaw:20250118T090000
DTEND;TZID=Europe/Warsaw:20250118T103000
DTSTAMP:20260425T130125
CREATED:20220124T105643Z
LAST-MODIFIED:20220124T105643Z
UID:43970-1737190800-1737196200@fundacjadantian.com
SUMMARY:Trening weekendowy
DESCRIPTION:Jeśli chcesz spędzić aktywnie czas\, w przyrodzie\, zapraszamy na weekendowe\, otwarte treningi do Łazienek Królewskich. O każdej porze roku\, bez względu na pogodę ćwiczymy ciało i ducha 🙂 wystarczy dostosować odpowiednio ubranie i buty. Zapraszamy zaawansowanych i niezaawansowanych. Zaczynamy Codziennym Rytuałem Zdrowia\, ćwiczymy długą formę Starego Stylu Yang Taiji oraz formy z bronią.  Do zobaczenia 🙂
URL:https://fundacjadantian.com/wydarzenie/trening-weekendowy-16/2025-01-18/
LOCATION:Łazienki Królewskie\, ul.Agrykola 1\, Warszawa
CATEGORIES:Trening weekendowy
ATTACH;FMTTYPE=image/jpeg:https://fundacjadantian.com/wp-content/uploads/2022/01/page-6.jpeg
END:VEVENT
BEGIN:VEVENT
DTSTART;TZID=Europe/Warsaw:20250119T090000
DTEND;TZID=Europe/Warsaw:20250119T103000
DTSTAMP:20260425T130125
CREATED:20220124T105643Z
LAST-MODIFIED:20220124T105643Z
UID:43971-1737277200-1737282600@fundacjadantian.com
SUMMARY:Trening weekendowy
DESCRIPTION:Jeśli chcesz spędzić aktywnie czas\, w przyrodzie\, zapraszamy na weekendowe\, otwarte treningi do Łazienek Królewskich. O każdej porze roku\, bez względu na pogodę ćwiczymy ciało i ducha 🙂 wystarczy dostosować odpowiednio ubranie i buty. Zapraszamy zaawansowanych i niezaawansowanych. Zaczynamy Codziennym Rytuałem Zdrowia\, ćwiczymy długą formę Starego Stylu Yang Taiji oraz formy z bronią.  Do zobaczenia 🙂
URL:https://fundacjadantian.com/wydarzenie/trening-weekendowy-16/2025-01-19/
LOCATION:Łazienki Królewskie\, ul.Agrykola 1\, Warszawa
CATEGORIES:Trening weekendowy
ATTACH;FMTTYPE=image/jpeg:https://fundacjadantian.com/wp-content/uploads/2022/01/page-6.jpeg
END:VEVENT
BEGIN:VEVENT
DTSTART;TZID=Europe/Warsaw:20250122T130000
DTEND;TZID=Europe/Warsaw:20250122T143000
DTSTAMP:20260425T130125
CREATED:20250102T074336Z
LAST-MODIFIED:20250102T074336Z
UID:44800-1737550800-1737556200@fundacjadantian.com
SUMMARY:Taiji online
DESCRIPTION:Zajęcia online\, dla grupy średnio zaawansowanej. Sposób nauczania wymagający szczególnego zaangażowania i pracy własnej.Dla osób\, które mają nieregularny tryb pracy\, podróżują\, albo mieszkają w innych miejscowościach.  Tym wszystkim osobom\, kurs daje możliwość zapoznania się z tym niezwykłym stylem\, ponieważ jesteśmy jedyną szkołą w Polsce\, dokładnie tego stylu\, mieszczącą się w Warszawie. Więcej o stylu  TUTAJ. Struktura szkoły czyli bezpośredni przekaz nauczyciel-uczeń\, powoduje że ciągle rozwijamy się\, będąc nieustająco uczniem swojego nauczyciela\, nawet ucząc kolejnych adeptów. To trzeci rok pracy online. W tym czasie dwie osoby podeszły z sukcesem do egzaminu\, zdając na poziom biały i mają apetyt na więcej 🙂 Widać da się nauczyć online\, nawet tak trudnego stylu 🙂
URL:https://fundacjadantian.com/wydarzenie/taiji-online-4/2025-01-22/
LOCATION:ONLINE
CATEGORIES:Taiji online
ATTACH;FMTTYPE=image/jpeg:https://fundacjadantian.com/wp-content/uploads/2022/01/page-6-1.jpeg
END:VEVENT
BEGIN:VEVENT
DTSTART;TZID=Europe/Warsaw:20250125T090000
DTEND;TZID=Europe/Warsaw:20250125T103000
DTSTAMP:20260425T130125
CREATED:20220124T105643Z
LAST-MODIFIED:20220124T105643Z
UID:43972-1737795600-1737801000@fundacjadantian.com
SUMMARY:Trening weekendowy
DESCRIPTION:Jeśli chcesz spędzić aktywnie czas\, w przyrodzie\, zapraszamy na weekendowe\, otwarte treningi do Łazienek Królewskich. O każdej porze roku\, bez względu na pogodę ćwiczymy ciało i ducha 🙂 wystarczy dostosować odpowiednio ubranie i buty. Zapraszamy zaawansowanych i niezaawansowanych. Zaczynamy Codziennym Rytuałem Zdrowia\, ćwiczymy długą formę Starego Stylu Yang Taiji oraz formy z bronią.  Do zobaczenia 🙂
URL:https://fundacjadantian.com/wydarzenie/trening-weekendowy-16/2025-01-25/
LOCATION:Łazienki Królewskie\, ul.Agrykola 1\, Warszawa
CATEGORIES:Trening weekendowy
ATTACH;FMTTYPE=image/jpeg:https://fundacjadantian.com/wp-content/uploads/2022/01/page-6.jpeg
END:VEVENT
BEGIN:VEVENT
DTSTART;TZID=Europe/Warsaw:20250126T090000
DTEND;TZID=Europe/Warsaw:20250126T103000
DTSTAMP:20260425T130125
CREATED:20220124T105643Z
LAST-MODIFIED:20220124T105643Z
UID:43973-1737882000-1737887400@fundacjadantian.com
SUMMARY:Trening weekendowy
DESCRIPTION:Jeśli chcesz spędzić aktywnie czas\, w przyrodzie\, zapraszamy na weekendowe\, otwarte treningi do Łazienek Królewskich. O każdej porze roku\, bez względu na pogodę ćwiczymy ciało i ducha 🙂 wystarczy dostosować odpowiednio ubranie i buty. Zapraszamy zaawansowanych i niezaawansowanych. Zaczynamy Codziennym Rytuałem Zdrowia\, ćwiczymy długą formę Starego Stylu Yang Taiji oraz formy z bronią.  Do zobaczenia 🙂
URL:https://fundacjadantian.com/wydarzenie/trening-weekendowy-16/2025-01-26/
LOCATION:Łazienki Królewskie\, ul.Agrykola 1\, Warszawa
CATEGORIES:Trening weekendowy
ATTACH;FMTTYPE=image/jpeg:https://fundacjadantian.com/wp-content/uploads/2022/01/page-6.jpeg
END:VEVENT
BEGIN:VEVENT
DTSTART;TZID=Europe/Warsaw:20250129T130000
DTEND;TZID=Europe/Warsaw:20250129T143000
DTSTAMP:20260425T130125
CREATED:20250102T074336Z
LAST-MODIFIED:20250102T074336Z
UID:44801-1738155600-1738161000@fundacjadantian.com
SUMMARY:Taiji online
DESCRIPTION:Zajęcia online\, dla grupy średnio zaawansowanej. Sposób nauczania wymagający szczególnego zaangażowania i pracy własnej.Dla osób\, które mają nieregularny tryb pracy\, podróżują\, albo mieszkają w innych miejscowościach.  Tym wszystkim osobom\, kurs daje możliwość zapoznania się z tym niezwykłym stylem\, ponieważ jesteśmy jedyną szkołą w Polsce\, dokładnie tego stylu\, mieszczącą się w Warszawie. Więcej o stylu  TUTAJ. Struktura szkoły czyli bezpośredni przekaz nauczyciel-uczeń\, powoduje że ciągle rozwijamy się\, będąc nieustająco uczniem swojego nauczyciela\, nawet ucząc kolejnych adeptów. To trzeci rok pracy online. W tym czasie dwie osoby podeszły z sukcesem do egzaminu\, zdając na poziom biały i mają apetyt na więcej 🙂 Widać da się nauczyć online\, nawet tak trudnego stylu 🙂
URL:https://fundacjadantian.com/wydarzenie/taiji-online-4/2025-01-29/
LOCATION:ONLINE
CATEGORIES:Taiji online
ATTACH;FMTTYPE=image/jpeg:https://fundacjadantian.com/wp-content/uploads/2022/01/page-6-1.jpeg
END:VEVENT
END:VCALENDAR