BEGIN:VCALENDAR
VERSION:2.0
PRODID:-//Fundacja Dantian - ECPv6.15.20//NONSGML v1.0//EN
CALSCALE:GREGORIAN
METHOD:PUBLISH
X-ORIGINAL-URL:https://fundacjadantian.com
X-WR-CALDESC:Wydarzenia dla Fundacja Dantian
REFRESH-INTERVAL;VALUE=DURATION:PT1H
X-Robots-Tag:noindex
X-PUBLISHED-TTL:PT1H
BEGIN:VTIMEZONE
TZID:Europe/Warsaw
BEGIN:DAYLIGHT
TZOFFSETFROM:+0100
TZOFFSETTO:+0200
TZNAME:CEST
DTSTART:20150329T010000
END:DAYLIGHT
BEGIN:STANDARD
TZOFFSETFROM:+0200
TZOFFSETTO:+0100
TZNAME:CET
DTSTART:20151025T010000
END:STANDARD
BEGIN:DAYLIGHT
TZOFFSETFROM:+0100
TZOFFSETTO:+0200
TZNAME:CEST
DTSTART:20160327T010000
END:DAYLIGHT
BEGIN:STANDARD
TZOFFSETFROM:+0200
TZOFFSETTO:+0100
TZNAME:CET
DTSTART:20161030T010000
END:STANDARD
BEGIN:DAYLIGHT
TZOFFSETFROM:+0100
TZOFFSETTO:+0200
TZNAME:CEST
DTSTART:20170326T010000
END:DAYLIGHT
BEGIN:STANDARD
TZOFFSETFROM:+0200
TZOFFSETTO:+0100
TZNAME:CET
DTSTART:20171029T010000
END:STANDARD
END:VTIMEZONE
BEGIN:VEVENT
DTSTART;TZID=Europe/Warsaw:20160828T090000
DTEND;TZID=Europe/Warsaw:20160828T180000
DTSTAMP:20260422T125231
CREATED:20160812T102148Z
LAST-MODIFIED:20160812T102148Z
UID:8690-1472374800-1472407200@fundacjadantian.com
SUMMARY:27 – 28 sierpnia: Warsztaty Starego Stylu Yang Taijiquan z Mistrzem Ly
DESCRIPTION:Serdecznie zapraszamy na długo oczekiwane \nWarsztaty Starego Stylu Yang Taijiquan z Mistrzem Ly \n27 – 28 sierpnia\, 2016 (sobota – niedziela) \nWarszawa\, S.P. nr 98\, ul. Grottgera 22  \nPLAN WARSZTATÓW \nSobota\, 27 sierpnia \n9.00 – 12.00 Trening \n12.30 – 15.00 Wspólny lunch i przerwa \n15.00 – 18.00 Trening \nNiedziela\, 28 sierpnia \n9.00 – 12.00 Trening i egzaminy \n12.30 – 15.00 Wspólny lunch i przerwa \n15.00 – 17.00 Trening \n18.00 – Impreza pożegnalna: Mozaika\, ul Puławska 53 \n  \n 
URL:https://fundacjadantian.com/wydarzenie/27-28-sierpnia-warsztaty-starego-stylu-yang-taijiquan-z-mistrzem-ly-2/2016-08-28/
CATEGORIES:Taiji Quan Grupa Łączona
ATTACH;FMTTYPE=image/jpeg:https://fundacjadantian.com/wp-content/uploads/2016/06/Antoine-Ly.jpg
END:VEVENT
END:VCALENDAR