BEGIN:VCALENDAR
VERSION:2.0
PRODID:-//Fundacja Dantian - ECPv6.15.20//NONSGML v1.0//EN
CALSCALE:GREGORIAN
METHOD:PUBLISH
X-ORIGINAL-URL:https://fundacjadantian.com
X-WR-CALDESC:Wydarzenia dla Fundacja Dantian
REFRESH-INTERVAL;VALUE=DURATION:PT1H
X-Robots-Tag:noindex
X-PUBLISHED-TTL:PT1H
BEGIN:VTIMEZONE
TZID:Europe/Warsaw
BEGIN:DAYLIGHT
TZOFFSETFROM:+0100
TZOFFSETTO:+0200
TZNAME:CEST
DTSTART:20140330T010000
END:DAYLIGHT
BEGIN:STANDARD
TZOFFSETFROM:+0200
TZOFFSETTO:+0100
TZNAME:CET
DTSTART:20141026T010000
END:STANDARD
BEGIN:DAYLIGHT
TZOFFSETFROM:+0100
TZOFFSETTO:+0200
TZNAME:CEST
DTSTART:20150329T010000
END:DAYLIGHT
BEGIN:STANDARD
TZOFFSETFROM:+0200
TZOFFSETTO:+0100
TZNAME:CET
DTSTART:20151025T010000
END:STANDARD
BEGIN:DAYLIGHT
TZOFFSETFROM:+0100
TZOFFSETTO:+0200
TZNAME:CEST
DTSTART:20160327T010000
END:DAYLIGHT
BEGIN:STANDARD
TZOFFSETFROM:+0200
TZOFFSETTO:+0100
TZNAME:CET
DTSTART:20161030T010000
END:STANDARD
END:VTIMEZONE
BEGIN:VEVENT
DTSTART;TZID=Europe/Warsaw:20151214T180000
DTEND;TZID=Europe/Warsaw:20151214T193000
DTSTAMP:20260426T032439
CREATED:20151130T100637Z
LAST-MODIFIED:20151130T100637Z
UID:6786-1450116000-1450121400@fundacjadantian.com
SUMMARY:BA DUAN JIN („OSIEM KAWAŁKÓW BROKATU”) (2/2)
DESCRIPTION:Warsztaty zapoznające z  drugą połową ośmiu ćwiczeń dynamicznego qigongu\, o ponad 1000-letniej historii\, z których każde usprawnia funkcjonowanie wybranych organów wewnętrznych\, a jako kompletny zestaw – całego organizmu. Zademonstrowane będą również bardziej zaawansowane wersje.  Prowadzi Jan Gliński
URL:https://fundacjadantian.com/wydarzenie/ba-duan-jin-osiem-kawalkow-brokatu-22/2015-12-14/
CATEGORIES:Qigong
ATTACH;FMTTYPE=:
END:VEVENT
END:VCALENDAR