BEGIN:VCALENDAR
VERSION:2.0
PRODID:-//Fundacja Dantian - ECPv6.15.20//NONSGML v1.0//EN
CALSCALE:GREGORIAN
METHOD:PUBLISH
X-WR-CALNAME:Fundacja Dantian
X-ORIGINAL-URL:https://fundacjadantian.com
X-WR-CALDESC:Wydarzenia dla Fundacja Dantian
REFRESH-INTERVAL;VALUE=DURATION:PT1H
X-Robots-Tag:noindex
X-PUBLISHED-TTL:PT1H
BEGIN:VTIMEZONE
TZID:Europe/Warsaw
BEGIN:DAYLIGHT
TZOFFSETFROM:+0100
TZOFFSETTO:+0200
TZNAME:CEST
DTSTART:20170326T010000
END:DAYLIGHT
BEGIN:STANDARD
TZOFFSETFROM:+0200
TZOFFSETTO:+0100
TZNAME:CET
DTSTART:20171029T010000
END:STANDARD
BEGIN:DAYLIGHT
TZOFFSETFROM:+0100
TZOFFSETTO:+0200
TZNAME:CEST
DTSTART:20180325T010000
END:DAYLIGHT
BEGIN:STANDARD
TZOFFSETFROM:+0200
TZOFFSETTO:+0100
TZNAME:CET
DTSTART:20181028T010000
END:STANDARD
BEGIN:DAYLIGHT
TZOFFSETFROM:+0100
TZOFFSETTO:+0200
TZNAME:CEST
DTSTART:20190331T010000
END:DAYLIGHT
BEGIN:STANDARD
TZOFFSETFROM:+0200
TZOFFSETTO:+0100
TZNAME:CET
DTSTART:20191027T010000
END:STANDARD
END:VTIMEZONE
BEGIN:VEVENT
DTSTART;TZID=Europe/Warsaw:20180307T160000
DTEND;TZID=Europe/Warsaw:20180307T170000
DTSTAMP:20260425T165110
CREATED:20180220T135618Z
LAST-MODIFIED:20180220T135618Z
UID:15272-1520438400-1520442000@fundacjadantian.com
SUMMARY:Ćwiczenia dla dojrzałych - Woronicza 44 A
DESCRIPTION:Zapraszamy wszystkich na kolejną edycję Qigongu dla dojrzałych. Są to bezpłatne zajęcia z podstaw gimnastyki chińskiej dla każdego bez względu na wiek\, wystarczy luźny stój i obuwie na miękkiej podeszwie. Ćwiczenia Qigongu oraz wstępu do Starego Stylu Yang Taijiquan odbywać się będą przy ulicy Woronicza 44A w Mokotowskim Centrum Integracji Mieszkańców. Zapraszamy od 6 marca w każdy wtorek na godzinę 10:00 do 11:00\, oraz w każdą środę na godzinę 16:00 do 17:00.
URL:https://fundacjadantian.com/wydarzenie/cwiczenia-dla-dojrzalych-woronicza-44-a-2/2018-03-07/
CATEGORIES:Qigong - Woronicza 44 A
ATTACH;FMTTYPE=image/jpeg:https://fundacjadantian.com/wp-content/uploads/2016/11/MCiM-Fundacja-Dantian.jpg
END:VEVENT
END:VCALENDAR