BEGIN:VCALENDAR
VERSION:2.0
PRODID:-//Fundacja Dantian - ECPv6.15.16//NONSGML v1.0//EN
CALSCALE:GREGORIAN
METHOD:PUBLISH
X-ORIGINAL-URL:https://fundacjadantian.com
X-WR-CALDESC:Wydarzenia dla Fundacja Dantian
REFRESH-INTERVAL;VALUE=DURATION:PT1H
X-Robots-Tag:noindex
X-PUBLISHED-TTL:PT1H
BEGIN:VTIMEZONE
TZID:Europe/Warsaw
BEGIN:DAYLIGHT
TZOFFSETFROM:+0100
TZOFFSETTO:+0200
TZNAME:CEST
DTSTART:20180325T010000
END:DAYLIGHT
BEGIN:STANDARD
TZOFFSETFROM:+0200
TZOFFSETTO:+0100
TZNAME:CET
DTSTART:20181028T010000
END:STANDARD
BEGIN:DAYLIGHT
TZOFFSETFROM:+0100
TZOFFSETTO:+0200
TZNAME:CEST
DTSTART:20190331T010000
END:DAYLIGHT
BEGIN:STANDARD
TZOFFSETFROM:+0200
TZOFFSETTO:+0100
TZNAME:CET
DTSTART:20191027T010000
END:STANDARD
BEGIN:DAYLIGHT
TZOFFSETFROM:+0100
TZOFFSETTO:+0200
TZNAME:CEST
DTSTART:20200329T010000
END:DAYLIGHT
BEGIN:STANDARD
TZOFFSETFROM:+0200
TZOFFSETTO:+0100
TZNAME:CET
DTSTART:20201025T010000
END:STANDARD
END:VTIMEZONE
BEGIN:VEVENT
DTSTART;TZID=Europe/Warsaw:20191006T153000
DTEND;TZID=Europe/Warsaw:20191006T170000
DTSTAMP:20260420T041025
CREATED:20190927T104854Z
LAST-MODIFIED:20190927T104854Z
UID:20186-1570375800-1570381200@fundacjadantian.com
SUMMARY:Czakramy - mapa wewnętrznej integralności - cykl 8 spotkań
DESCRIPTION:Na ścieżce samorozwoju możemy posłużyć się systemem czakr\, swoistą  mapą wewnętrznej integralności. \nWspółczesny miliarder i jeden z najlepszych inwestorów na świecie powiedział o intergralności osoby: jeśli masz do czynienia z osobą o wielkiej inteligencji i energii\, ale brakuje jej integralności\, nie zawracaj sobie nią głowy. \nCzakry są miejscami subtelnej energii o określonej jakości w naszym ciele. \nPoszczególnym czakrom odpowiadają organy wewnętrzne\, sploty nerwowe i gruczoły dokrewne. Można więc powiązać nasze niedomagania fizyczne czy  emocjonalne ze słabością czakr położonych w tym określonym obszarze. W ten oto sposób możemy z łatwością zidentyfikować własną potrzebę pracy z danym obszarem ciała\, np. z pierwszą czakrą czyli poczuciem bezpieczeństwa i samowystarczalności. \nW dalszym kroku\, możemy wybrać właściwą dla siebie serię ćwiczeń i po pewnym czasie praktykowania\, poprawić swój stan zdrowia\, poziom energii i stan emocji. \n  \n  \n  \n  \nZapraszamy na cotygodniowe spotkania poświęcone kolejnym czakrom. Zaczynamy w najbliższą niedzielę o godz. 15.30 – 17.00.  Zajęcia trwają 1.5 godziny.  Składają się z rozgrzewki ciała i oddechu\, kryi właściwej dla danej czakry\, medytacji z dźwiękiem czakry oraz statycznego rozciągania z afirmacjami. \nCo tydzień zajmiemy się inną czakrą\, od  pierwszej  do ósmej (ósma to pole elektromagnetyczne otaczające nasze ciała). \nNie jest potrzebne  wcześniejsze przygotowanie. \n  \nProwadzi   Aleksandra Duda\, Jai Ram. \nEwentualne pytania oraz zgłoszenie prosimy kierować bezpośrednio do Oli\, Jai Ram na numer +48 606 22 33 66 \nZapraszamy \n 
URL:https://fundacjadantian.com/wydarzenie/czakramy-mapa-wewnetrznej-integralnosci-cykl-8-spotkan/2019-10-06/
CATEGORIES:Studio Dantian
ATTACH;FMTTYPE=:
END:VEVENT
END:VCALENDAR