BEGIN:VCALENDAR
VERSION:2.0
PRODID:-//Fundacja Dantian - ECPv6.15.20//NONSGML v1.0//EN
CALSCALE:GREGORIAN
METHOD:PUBLISH
X-ORIGINAL-URL:https://fundacjadantian.com
X-WR-CALDESC:Wydarzenia dla Fundacja Dantian
REFRESH-INTERVAL;VALUE=DURATION:PT1H
X-Robots-Tag:noindex
X-PUBLISHED-TTL:PT1H
BEGIN:VTIMEZONE
TZID:Europe/Warsaw
BEGIN:DAYLIGHT
TZOFFSETFROM:+0100
TZOFFSETTO:+0200
TZNAME:CEST
DTSTART:20140330T010000
END:DAYLIGHT
BEGIN:STANDARD
TZOFFSETFROM:+0200
TZOFFSETTO:+0100
TZNAME:CET
DTSTART:20141026T010000
END:STANDARD
BEGIN:DAYLIGHT
TZOFFSETFROM:+0100
TZOFFSETTO:+0200
TZNAME:CEST
DTSTART:20150329T010000
END:DAYLIGHT
BEGIN:STANDARD
TZOFFSETFROM:+0200
TZOFFSETTO:+0100
TZNAME:CET
DTSTART:20151025T010000
END:STANDARD
BEGIN:DAYLIGHT
TZOFFSETFROM:+0100
TZOFFSETTO:+0200
TZNAME:CEST
DTSTART:20160327T010000
END:DAYLIGHT
BEGIN:STANDARD
TZOFFSETFROM:+0200
TZOFFSETTO:+0100
TZNAME:CET
DTSTART:20161030T010000
END:STANDARD
END:VTIMEZONE
BEGIN:VEVENT
DTSTART;TZID=Europe/Warsaw:20150910T110000
DTEND;TZID=Europe/Warsaw:20150910T120000
DTSTAMP:20260423T142847
CREATED:20150831T202559Z
LAST-MODIFIED:20150831T202559Z
UID:5883-1441882800-1441886400@fundacjadantian.com
SUMMARY:Dom Lekarza Seniora
DESCRIPTION:Z dużą przyjemnością pojawiamy się co tydzień w Domu Lekarza Seniora\, ciesząc się\, że możemy ćwiczyć razem z osobami\, które swoje życie\, a z pewnością i część zdrowia\, poświęciły uzdrawianiu innych.  Będąc też najlepszych dowodem tego\, że qigong można ćwiczyć w każdym wieku i kondycji. Oby więcej seniorów miało na to ochotę!
URL:https://fundacjadantian.com/wydarzenie/dom-lekarza-seniora-9/2015-09-10/
CATEGORIES:Qigong
ATTACH;FMTTYPE=image/jpeg:https://fundacjadantian.com/wp-content/uploads/2015/03/Fundacja-Dantian-Dom-Seniora-Lekarza.jpg
END:VEVENT
END:VCALENDAR