BEGIN:VCALENDAR
VERSION:2.0
PRODID:-//Fundacja Dantian - ECPv6.15.20//NONSGML v1.0//EN
CALSCALE:GREGORIAN
METHOD:PUBLISH
X-ORIGINAL-URL:https://fundacjadantian.com
X-WR-CALDESC:Wydarzenia dla Fundacja Dantian
REFRESH-INTERVAL;VALUE=DURATION:PT1H
X-Robots-Tag:noindex
X-PUBLISHED-TTL:PT1H
BEGIN:VTIMEZONE
TZID:Europe/Warsaw
BEGIN:DAYLIGHT
TZOFFSETFROM:+0100
TZOFFSETTO:+0200
TZNAME:CEST
DTSTART:20190331T010000
END:DAYLIGHT
BEGIN:STANDARD
TZOFFSETFROM:+0200
TZOFFSETTO:+0100
TZNAME:CET
DTSTART:20191027T010000
END:STANDARD
BEGIN:DAYLIGHT
TZOFFSETFROM:+0100
TZOFFSETTO:+0200
TZNAME:CEST
DTSTART:20200329T010000
END:DAYLIGHT
BEGIN:STANDARD
TZOFFSETFROM:+0200
TZOFFSETTO:+0100
TZNAME:CET
DTSTART:20201025T010000
END:STANDARD
BEGIN:DAYLIGHT
TZOFFSETFROM:+0100
TZOFFSETTO:+0200
TZNAME:CEST
DTSTART:20210328T010000
END:DAYLIGHT
BEGIN:STANDARD
TZOFFSETFROM:+0200
TZOFFSETTO:+0100
TZNAME:CET
DTSTART:20211031T010000
END:STANDARD
END:VTIMEZONE
BEGIN:VEVENT
DTSTART;TZID=Europe/Warsaw:20200511T190000
DTEND;TZID=Europe/Warsaw:20200511T200000
DTSTAMP:20260423T081630
CREATED:20200501T134035Z
LAST-MODIFIED:20200501T134035Z
UID:21418-1589223600-1589227200@fundacjadantian.com
SUMMARY:KURS ONLINE: BA DUAN JIN 〜 OSIEM KAWAŁKÓW BROKATU 〜 PODTRZYMYWANIE NIEBA
DESCRIPTION:Zapraszamy na kurs online Akademii Dantian: BA DUAN JIN (“OSIEM KAWAŁKÓW BROKATU”)\, który będzie się odbywał w poniedziałki od 11 maja do 29 czerwca\, o godz. 19.00 na platformie ZOOM. \n⚪️ Cel kursu: praktyczne zapoznanie się z tradycyjnym zestawem ćwiczeń\, polepszających funkcjonowanie indywidualnych narządów wewnętrznych i całego organizmu. \n⚪️ Ba Duan Jin (八段錦; czyt. ba duan dżin; „Osiem Kawałków Brokatu”) jest zestawem ośmiu ćwiczeń dynamicznego QIGONGU (czyt. czi gongu) o ponad 1000-letniej historii\, z których każde usprawnia funkcjonowanie wybranych organów wewnętrznych\, a jako kompletny zestaw – całego organizmu. \n⚪️ Ba Duan Jin jest wzmiankowane w szeregu tekstach z dynastii Song (960-1279). Późniejsze źródła\, zwłaszcza XIX-wieczne\, zaczęły przypisywać wynalezienie Ba Duan Jin słynnemu generałowi Yue Fei\, żyjącemu w XII wieku\, o legendarnej sile i waleczności. Yue Fei miał stworzyć Ba Duan Jin\, aby w czasie\, kiedy dowodził obroną niegościnnych\, północnych granic Chin\, utrzymać żołnierzy w nienagannej formie i pełnej gotowości do walki. \n⚪️ Uczestnicy kursu nauczą się przede wszystkim stosunkowo prostej\, niemniej dostarczającej szeregu korzyści zdrowotnych\, formy Ba Duan Jin\, propagowanej przez mistrza Lam Kam Chuen. Jednocześnie\, podczas nauki każdego Kawałka Brokatu\, zostaną pokazane i omówione ich bardziej zaawansowane formy\, włączając te w transmisji linii Dou Fengshan i Wang Zihe\, nauczane w tradycji Starego Stylu Yang Taiji (Klasycznego Yang Taiji). \n⚪️ Ukończenie całej serii warsztatów zostanie potwierdzone dyplomem “białego poziomu Ba Duan Jin” Akademii Dantian. \n⚪️ Ćwiczenia o charakterze psychofizycznym\, możliwe do wykonania praktycznie w każdym wieku i kondycji fizycznej. \nUbiór: strój sportowy\, który nie krępuje szerokich ruchów oraz wygodne obuwie na płaskiej podeszwie. \n⚪️ HARMONOGRAM ZAJĘĆ: \nZajęcia będą odbywać się na platformie ZOOM w poniedziałki\, o godz. 19.00 do ok. 20.00\, w następujące dni: \n11.05 | Brokat #1. Podtrzymywanie nieba oburącz reguluje wszystkie organy wewnętrzne \n18.05 | Brokat #2. Naciąganie łuku na boki przypomina strzelanie do orła \n25.05 | Brokat #3. Podniesienie jednej ręki reguluje śledzionę i żołądek. \n1.06 | Brokat #4. Oglądanie się do tyłu jak sowa przypatrująca się księżycowi \n8.06 | Brokat #5. Obniżenie głowy i bioder usuwa nadmiar ognia z serca \n15.06 | Brokat #6. Dotkniecie stóp oburącz wzmacnia nerki i lędźwie \n22.06 | Brokat #7. Zaciskanie pieści wzmacnia siłę \n29.06 | Brokat #8. Potrząsanie ciałem zapobiega wszystkim chorobom \n⭕️ JAK WZIĄĆ UDZIAŁ W KURSIE ONLINE? \nKurs online – 200 zł\nMożliwość uczestniczenia w pojedynczych zajęciach – 25 zł \n1️⃣ Formą zapisu jest przelew w wysokości 200 zł (lub 25 zł w przypadku pojedynczych zajęć) o tytule: BA DUAN JIN na konto Fundacji Dantian – Bank PKO SA\, nr konta: 06 1240 6218 1111 0010 7770 4082 \n2️⃣ Po wykonaniu przelewu\, prześlij nam potwierdzenie na email: studiodantian@gmail.com. Pamiętaj\, że wysyłany prosto z banku przelew nie ma adresata czyli Ciebie\, więc prosimy o mail\, abyśmy mogli przesłać Ci link. \n3️⃣ Dostaniesz od nas email zwrotny z zaproszeniem do wirtualnej platformy\, na której odbędzie się wykład \n⭕️ CZAS I MIEJSCE SPOTKANIA? \n???? Spotykamy się od 11 maja w poniedziałki o godzinie 19.00 ONLINE na platformie ZOOM. Czas trwania – ok. 1 godziny \n???? Wcześniej pobierz na komputer lub telefon bezpłatną aplikację ZOOM https://zoom.us/join \n???? Na godzinę przed każdym spotkaniem otrzymasz od nas mail z linkiem do pokoju oraz ID i hasło do zalogowania się na wydarzenie \n⭕️ PROWADZĄCY: \nJan Gliński\, nauczyciel ósmej generacji Sztuk Walki Klasycznego Yang Taiji\, głównego instruktora Fundacji Dantian.
URL:https://fundacjadantian.com/wydarzenie/kurs-online-ba-duan-jin-%e3%80%9c-osiem-kawalkow-brokatu-%e3%80%9c-podtrzymywanie-nieba/2020-05-11/
CATEGORIES:Studio Dantian
END:VEVENT
END:VCALENDAR