BEGIN:VCALENDAR
VERSION:2.0
PRODID:-//Fundacja Dantian - ECPv6.15.20//NONSGML v1.0//EN
CALSCALE:GREGORIAN
METHOD:PUBLISH
X-ORIGINAL-URL:https://fundacjadantian.com
X-WR-CALDESC:Wydarzenia dla Fundacja Dantian
REFRESH-INTERVAL;VALUE=DURATION:PT1H
X-Robots-Tag:noindex
X-PUBLISHED-TTL:PT1H
BEGIN:VTIMEZONE
TZID:Europe/Warsaw
BEGIN:DAYLIGHT
TZOFFSETFROM:+0100
TZOFFSETTO:+0200
TZNAME:CEST
DTSTART:20150329T010000
END:DAYLIGHT
BEGIN:STANDARD
TZOFFSETFROM:+0200
TZOFFSETTO:+0100
TZNAME:CET
DTSTART:20151025T010000
END:STANDARD
BEGIN:DAYLIGHT
TZOFFSETFROM:+0100
TZOFFSETTO:+0200
TZNAME:CEST
DTSTART:20160327T010000
END:DAYLIGHT
BEGIN:STANDARD
TZOFFSETFROM:+0200
TZOFFSETTO:+0100
TZNAME:CET
DTSTART:20161030T010000
END:STANDARD
BEGIN:DAYLIGHT
TZOFFSETFROM:+0100
TZOFFSETTO:+0200
TZNAME:CEST
DTSTART:20170326T010000
END:DAYLIGHT
BEGIN:STANDARD
TZOFFSETFROM:+0200
TZOFFSETTO:+0100
TZNAME:CET
DTSTART:20171029T010000
END:STANDARD
END:VTIMEZONE
BEGIN:VEVENT
DTSTART;TZID=Europe/Warsaw:20161003T200000
DTEND;TZID=Europe/Warsaw:20161003T213000
DTSTAMP:20260425T002521
CREATED:20161003T091552Z
LAST-MODIFIED:20161003T091552Z
UID:9362-1475524800-1475530200@fundacjadantian.com
SUMMARY:KURS STAREGO STYLU YANG TAIJI QUAN – GRUPA POCZĄTKUJĄCA
DESCRIPTION:Kurs dla grupy początkującej w 2016 roku odbywa się 2 raz w tygodniu. Zapraszamy na zajęcia w poniedziałki o godz.20:00 – 21:30 do Muzeum Azji i Pacyfiku\, ul. Solec 24\, oraz w czwartki\, o godz. 18:30- 20:00 w XLII LO im. Marii Konopnickiej\, ul. Madalińskiego 22. \nPodobnie jak w we wcześniejszych latach (2013 – 2016)\, organizuję ten kurs z intencją trwałego zakorzenienia Starego Stylu Szkoły Yang Taiji Quan w naszym kraju\, dla osób które pociąga perspektywa poświęcenia wielu lat regularnej pracy nad sobą poprzez naukę tego stylu i które z czasem staną się jego adeptami\, nauczycielami i mistrzami. \nSerdecznie zapraszam silnie zmotywowanych!
URL:https://fundacjadantian.com/wydarzenie/kurs-starego-stylu-yang-taiji-quan-grupa-poczatkujaca-2/2016-10-03/
CATEGORIES:Taiji Quan Grupa Łączona
ATTACH;FMTTYPE=image/jpeg:https://fundacjadantian.com/wp-content/uploads/2016/01/Taiji1.jpg
END:VEVENT
END:VCALENDAR