BEGIN:VCALENDAR
VERSION:2.0
PRODID:-//Fundacja Dantian - ECPv6.15.16//NONSGML v1.0//EN
CALSCALE:GREGORIAN
METHOD:PUBLISH
X-ORIGINAL-URL:https://fundacjadantian.com
X-WR-CALDESC:Wydarzenia dla Fundacja Dantian
REFRESH-INTERVAL;VALUE=DURATION:PT1H
X-Robots-Tag:noindex
X-PUBLISHED-TTL:PT1H
BEGIN:VTIMEZONE
TZID:Europe/Warsaw
BEGIN:DAYLIGHT
TZOFFSETFROM:+0100
TZOFFSETTO:+0200
TZNAME:CEST
DTSTART:20170326T010000
END:DAYLIGHT
BEGIN:STANDARD
TZOFFSETFROM:+0200
TZOFFSETTO:+0100
TZNAME:CET
DTSTART:20171029T010000
END:STANDARD
BEGIN:DAYLIGHT
TZOFFSETFROM:+0100
TZOFFSETTO:+0200
TZNAME:CEST
DTSTART:20180325T010000
END:DAYLIGHT
BEGIN:STANDARD
TZOFFSETFROM:+0200
TZOFFSETTO:+0100
TZNAME:CET
DTSTART:20181028T010000
END:STANDARD
BEGIN:DAYLIGHT
TZOFFSETFROM:+0100
TZOFFSETTO:+0200
TZNAME:CEST
DTSTART:20190331T010000
END:DAYLIGHT
BEGIN:STANDARD
TZOFFSETFROM:+0200
TZOFFSETTO:+0100
TZNAME:CET
DTSTART:20191027T010000
END:STANDARD
END:VTIMEZONE
BEGIN:VEVENT
DTSTART;TZID=Europe/Warsaw:20180107T094500
DTEND;TZID=Europe/Warsaw:20180107T114500
DTSTAMP:20260419T182451
CREATED:20180102T152951Z
LAST-MODIFIED:20180102T152951Z
UID:15059-1515318300-1515325500@fundacjadantian.com
SUMMARY:Kurs szabli od podstaw II edycja
DESCRIPTION:Od najbliższej niedzieli 7 stycznia\, po raz drugi rozpoczniemy kurs szabli Starego Stylu Yang\, który będzie się odbywał przez najbliższe 8 weekendów w terminach: 07\, 14\, 21 i 28 stycznia oraz 04\, 11. 18 i 25 lutego\, w godzinach 9.45 – 11.45\, w Młodzieżowym Domu Kultury przy ul. Łazienkowskiej 7\, sala nr 105.
URL:https://fundacjadantian.com/wydarzenie/kurs-szabli-od-podstaw-ii-edycja/2018-01-07/
ATTACH;FMTTYPE=image/jpeg:https://fundacjadantian.com/wp-content/uploads/2017/11/Kurs-szabli-1.jpg
END:VEVENT
END:VCALENDAR