BEGIN:VCALENDAR
VERSION:2.0
PRODID:-//Fundacja Dantian - ECPv6.15.20//NONSGML v1.0//EN
CALSCALE:GREGORIAN
METHOD:PUBLISH
X-ORIGINAL-URL:https://fundacjadantian.com
X-WR-CALDESC:Wydarzenia dla Fundacja Dantian
REFRESH-INTERVAL;VALUE=DURATION:PT1H
X-Robots-Tag:noindex
X-PUBLISHED-TTL:PT1H
BEGIN:VTIMEZONE
TZID:Europe/Warsaw
BEGIN:DAYLIGHT
TZOFFSETFROM:+0100
TZOFFSETTO:+0200
TZNAME:CEST
DTSTART:20140330T010000
END:DAYLIGHT
BEGIN:STANDARD
TZOFFSETFROM:+0200
TZOFFSETTO:+0100
TZNAME:CET
DTSTART:20141026T010000
END:STANDARD
BEGIN:DAYLIGHT
TZOFFSETFROM:+0100
TZOFFSETTO:+0200
TZNAME:CEST
DTSTART:20150329T010000
END:DAYLIGHT
BEGIN:STANDARD
TZOFFSETFROM:+0200
TZOFFSETTO:+0100
TZNAME:CET
DTSTART:20151025T010000
END:STANDARD
BEGIN:DAYLIGHT
TZOFFSETFROM:+0100
TZOFFSETTO:+0200
TZNAME:CEST
DTSTART:20160327T010000
END:DAYLIGHT
BEGIN:STANDARD
TZOFFSETFROM:+0200
TZOFFSETTO:+0100
TZNAME:CET
DTSTART:20161030T010000
END:STANDARD
END:VTIMEZONE
BEGIN:VEVENT
DTSTART;TZID=Europe/Warsaw:20151021T180000
DTEND;TZID=Europe/Warsaw:20151021T193000
DTSTAMP:20260425T011752
CREATED:20151004T074309Z
LAST-MODIFIED:20151004T074309Z
UID:6279-1445450400-1445455800@fundacjadantian.com
SUMMARY:Medytacja stojąca i poszukiwanie siły
DESCRIPTION:Medytacja Stojąca (Zhan Zhuang) to znana w różnych systemach sztuk walki i Qi Gong metoda treningowa. Jej celem jest ogólne wzmocnienie ciała i zbudowanie poprawnej struktury mięśniowej. Poprawna struktura ciała ma niebagatelne znaczenie dla ogólnej kondycji zdrowotnej całego organizmu. Prowadzi Krzysztof „KO” Operacz (Fundacja Dantian).
URL:https://fundacjadantian.com/wydarzenie/medytacja-stojaca-i-poszukiwanie-sily/2015-10-21/
CATEGORIES:Qigong
ATTACH;FMTTYPE=:
END:VEVENT
END:VCALENDAR