BEGIN:VCALENDAR
VERSION:2.0
PRODID:-//Fundacja Dantian - ECPv6.15.20//NONSGML v1.0//EN
CALSCALE:GREGORIAN
METHOD:PUBLISH
X-ORIGINAL-URL:https://fundacjadantian.com
X-WR-CALDESC:Wydarzenia dla Fundacja Dantian
REFRESH-INTERVAL;VALUE=DURATION:PT1H
X-Robots-Tag:noindex
X-PUBLISHED-TTL:PT1H
BEGIN:VTIMEZONE
TZID:Europe/Warsaw
BEGIN:DAYLIGHT
TZOFFSETFROM:+0100
TZOFFSETTO:+0200
TZNAME:CEST
DTSTART:20150329T010000
END:DAYLIGHT
BEGIN:STANDARD
TZOFFSETFROM:+0200
TZOFFSETTO:+0100
TZNAME:CET
DTSTART:20151025T010000
END:STANDARD
BEGIN:DAYLIGHT
TZOFFSETFROM:+0100
TZOFFSETTO:+0200
TZNAME:CEST
DTSTART:20160327T010000
END:DAYLIGHT
BEGIN:STANDARD
TZOFFSETFROM:+0200
TZOFFSETTO:+0100
TZNAME:CET
DTSTART:20161030T010000
END:STANDARD
BEGIN:DAYLIGHT
TZOFFSETFROM:+0100
TZOFFSETTO:+0200
TZNAME:CEST
DTSTART:20170326T010000
END:DAYLIGHT
BEGIN:STANDARD
TZOFFSETFROM:+0200
TZOFFSETTO:+0100
TZNAME:CET
DTSTART:20171029T010000
END:STANDARD
END:VTIMEZONE
BEGIN:VEVENT
DTSTART;TZID=Europe/Warsaw:20161024T180000
DTEND;TZID=Europe/Warsaw:20161024T193000
DTSTAMP:20260424T123047
CREATED:20161003T093825Z
LAST-MODIFIED:20161003T093825Z
UID:9530-1477332000-1477337400@fundacjadantian.com
SUMMARY:MOC TRZECH PIERWSZYCH CZAKR
DESCRIPTION:Bezpieczeństwo – kreatywność – wyrażanie siebie. Dowiecie się czym są czakry i jak odnoszą się do waszego życia. Na przykład: zrównoważona trzecia czakra umożliwia nam skuteczne wyrażanie się własnych potrzeb\, tak by inni mogli nas dobrze zrozumieć. Dowiemy sie jak rozpoznać deficyty w działaniu czakr i jak z nimi pracować. Prowadzi: Ola Duda.
URL:https://fundacjadantian.com/wydarzenie/moc-trzech-pierwszych-czakr/2016-10-24/
CATEGORIES:Qigong
ATTACH;FMTTYPE=:
END:VEVENT
END:VCALENDAR