BEGIN:VCALENDAR
VERSION:2.0
PRODID:-//Fundacja Dantian - ECPv6.15.20//NONSGML v1.0//EN
CALSCALE:GREGORIAN
METHOD:PUBLISH
X-WR-CALNAME:Fundacja Dantian
X-ORIGINAL-URL:https://fundacjadantian.com
X-WR-CALDESC:Wydarzenia dla Fundacja Dantian
REFRESH-INTERVAL;VALUE=DURATION:PT1H
X-Robots-Tag:noindex
X-PUBLISHED-TTL:PT1H
BEGIN:VTIMEZONE
TZID:Europe/Warsaw
BEGIN:DAYLIGHT
TZOFFSETFROM:+0100
TZOFFSETTO:+0200
TZNAME:CEST
DTSTART:20240331T010000
END:DAYLIGHT
BEGIN:STANDARD
TZOFFSETFROM:+0200
TZOFFSETTO:+0100
TZNAME:CET
DTSTART:20241027T010000
END:STANDARD
BEGIN:DAYLIGHT
TZOFFSETFROM:+0100
TZOFFSETTO:+0200
TZNAME:CEST
DTSTART:20250330T010000
END:DAYLIGHT
BEGIN:STANDARD
TZOFFSETFROM:+0200
TZOFFSETTO:+0100
TZNAME:CET
DTSTART:20251026T010000
END:STANDARD
BEGIN:DAYLIGHT
TZOFFSETFROM:+0100
TZOFFSETTO:+0200
TZNAME:CEST
DTSTART:20260329T010000
END:DAYLIGHT
BEGIN:STANDARD
TZOFFSETFROM:+0200
TZOFFSETTO:+0100
TZNAME:CET
DTSTART:20261025T010000
END:STANDARD
END:VTIMEZONE
BEGIN:VEVENT
DTSTART;TZID=Europe/Warsaw:20251026T100000
DTEND;TZID=Europe/Warsaw:20251026T110000
DTSTAMP:20260424T122758
CREATED:20250827T093337Z
LAST-MODIFIED:20250827T093337Z
UID:51129-1761472800-1761476400@fundacjadantian.com
SUMMARY:Niedzielne marsze oddechowe
DESCRIPTION:Poprzez różnorodne formy działalności\, Fundacja Dantian od szeregu lat stara się dołożyć swoją cegiełkę\, zwłaszcza w zakresie profilaktyki zdrowotnej. Widząc ciągle rosnący odsetek ludzi z chorobami cywilizacyjnymi\, postanowiliśmy podzielić się z Wami wschodnioazjatyckimi technikami qigongu medycznego\, o udokumentowanych – na Wschodzie i na Zachodzie – pozytywnych efektach w zapobieganiu pojawienia się chorób cywilizacyjnych jak również w ich zwalczaniu. Te coniedzielne spotkania mają charakter profilaktyczny i edukacyjny\, ponieważ zarówno oddech jak i sposób poruszania wymagają wiedzy i praktyki. Zapraszamy do wspólnego maszerowania po zdrowie\,  Spotykamy się przed Starą Kordegardą o 10.00. Spotkania są bezpłatne. 
URL:https://fundacjadantian.com/wydarzenie/niedzielne-marsze-oddechowe-5/2025-10-26/
LOCATION:Łazienki Królewskie\, ul.Agrykola 1\, Warszawa
CATEGORIES:Qigong Guolin
ATTACH;FMTTYPE=image/jpeg:https://fundacjadantian.com/wp-content/uploads/2023/09/marsze-chodzone.jpg
END:VEVENT
BEGIN:VEVENT
DTSTART;TZID=Europe/Warsaw:20251019T100000
DTEND;TZID=Europe/Warsaw:20251019T110000
DTSTAMP:20260424T122758
CREATED:20250827T093337Z
LAST-MODIFIED:20250827T093337Z
UID:51128-1760868000-1760871600@fundacjadantian.com
SUMMARY:Niedzielne marsze oddechowe
DESCRIPTION:Poprzez różnorodne formy działalności\, Fundacja Dantian od szeregu lat stara się dołożyć swoją cegiełkę\, zwłaszcza w zakresie profilaktyki zdrowotnej. Widząc ciągle rosnący odsetek ludzi z chorobami cywilizacyjnymi\, postanowiliśmy podzielić się z Wami wschodnioazjatyckimi technikami qigongu medycznego\, o udokumentowanych – na Wschodzie i na Zachodzie – pozytywnych efektach w zapobieganiu pojawienia się chorób cywilizacyjnych jak również w ich zwalczaniu. Te coniedzielne spotkania mają charakter profilaktyczny i edukacyjny\, ponieważ zarówno oddech jak i sposób poruszania wymagają wiedzy i praktyki. Zapraszamy do wspólnego maszerowania po zdrowie\,  Spotykamy się przed Starą Kordegardą o 10.00. Spotkania są bezpłatne. 
URL:https://fundacjadantian.com/wydarzenie/niedzielne-marsze-oddechowe-5/2025-10-19/
LOCATION:Łazienki Królewskie\, ul.Agrykola 1\, Warszawa
CATEGORIES:Qigong Guolin
ATTACH;FMTTYPE=image/jpeg:https://fundacjadantian.com/wp-content/uploads/2023/09/marsze-chodzone.jpg
END:VEVENT
BEGIN:VEVENT
DTSTART;TZID=Europe/Warsaw:20251012T100000
DTEND;TZID=Europe/Warsaw:20251012T110000
DTSTAMP:20260424T122758
CREATED:20250827T093337Z
LAST-MODIFIED:20250827T093337Z
UID:51127-1760263200-1760266800@fundacjadantian.com
SUMMARY:Niedzielne marsze oddechowe
DESCRIPTION:Poprzez różnorodne formy działalności\, Fundacja Dantian od szeregu lat stara się dołożyć swoją cegiełkę\, zwłaszcza w zakresie profilaktyki zdrowotnej. Widząc ciągle rosnący odsetek ludzi z chorobami cywilizacyjnymi\, postanowiliśmy podzielić się z Wami wschodnioazjatyckimi technikami qigongu medycznego\, o udokumentowanych – na Wschodzie i na Zachodzie – pozytywnych efektach w zapobieganiu pojawienia się chorób cywilizacyjnych jak również w ich zwalczaniu. Te coniedzielne spotkania mają charakter profilaktyczny i edukacyjny\, ponieważ zarówno oddech jak i sposób poruszania wymagają wiedzy i praktyki. Zapraszamy do wspólnego maszerowania po zdrowie\,  Spotykamy się przed Starą Kordegardą o 10.00. Spotkania są bezpłatne. 
URL:https://fundacjadantian.com/wydarzenie/niedzielne-marsze-oddechowe-5/2025-10-12/
LOCATION:Łazienki Królewskie\, ul.Agrykola 1\, Warszawa
CATEGORIES:Qigong Guolin
ATTACH;FMTTYPE=image/jpeg:https://fundacjadantian.com/wp-content/uploads/2023/09/marsze-chodzone.jpg
END:VEVENT
BEGIN:VEVENT
DTSTART;TZID=Europe/Warsaw:20250928T100000
DTEND;TZID=Europe/Warsaw:20250928T110000
DTSTAMP:20260424T122758
CREATED:20250827T093337Z
LAST-MODIFIED:20250827T093337Z
UID:51125-1759053600-1759057200@fundacjadantian.com
SUMMARY:Niedzielne marsze oddechowe
DESCRIPTION:Poprzez różnorodne formy działalności\, Fundacja Dantian od szeregu lat stara się dołożyć swoją cegiełkę\, zwłaszcza w zakresie profilaktyki zdrowotnej. Widząc ciągle rosnący odsetek ludzi z chorobami cywilizacyjnymi\, postanowiliśmy podzielić się z Wami wschodnioazjatyckimi technikami qigongu medycznego\, o udokumentowanych – na Wschodzie i na Zachodzie – pozytywnych efektach w zapobieganiu pojawienia się chorób cywilizacyjnych jak również w ich zwalczaniu. Te coniedzielne spotkania mają charakter profilaktyczny i edukacyjny\, ponieważ zarówno oddech jak i sposób poruszania wymagają wiedzy i praktyki. Zapraszamy do wspólnego maszerowania po zdrowie\,  Spotykamy się przed Starą Kordegardą o 10.00. Spotkania są bezpłatne. 
URL:https://fundacjadantian.com/wydarzenie/niedzielne-marsze-oddechowe-5/2025-09-28/
LOCATION:Łazienki Królewskie\, ul.Agrykola 1\, Warszawa
CATEGORIES:Qigong Guolin
ATTACH;FMTTYPE=image/jpeg:https://fundacjadantian.com/wp-content/uploads/2023/09/marsze-chodzone.jpg
END:VEVENT
BEGIN:VEVENT
DTSTART;TZID=Europe/Warsaw:20250921T100000
DTEND;TZID=Europe/Warsaw:20250921T110000
DTSTAMP:20260424T122758
CREATED:20250827T093337Z
LAST-MODIFIED:20250827T093337Z
UID:51124-1758448800-1758452400@fundacjadantian.com
SUMMARY:Niedzielne marsze oddechowe
DESCRIPTION:Poprzez różnorodne formy działalności\, Fundacja Dantian od szeregu lat stara się dołożyć swoją cegiełkę\, zwłaszcza w zakresie profilaktyki zdrowotnej. Widząc ciągle rosnący odsetek ludzi z chorobami cywilizacyjnymi\, postanowiliśmy podzielić się z Wami wschodnioazjatyckimi technikami qigongu medycznego\, o udokumentowanych – na Wschodzie i na Zachodzie – pozytywnych efektach w zapobieganiu pojawienia się chorób cywilizacyjnych jak również w ich zwalczaniu. Te coniedzielne spotkania mają charakter profilaktyczny i edukacyjny\, ponieważ zarówno oddech jak i sposób poruszania wymagają wiedzy i praktyki. Zapraszamy do wspólnego maszerowania po zdrowie\,  Spotykamy się przed Starą Kordegardą o 10.00. Spotkania są bezpłatne. 
URL:https://fundacjadantian.com/wydarzenie/niedzielne-marsze-oddechowe-5/2025-09-21/
LOCATION:Łazienki Królewskie\, ul.Agrykola 1\, Warszawa
CATEGORIES:Qigong Guolin
ATTACH;FMTTYPE=image/jpeg:https://fundacjadantian.com/wp-content/uploads/2023/09/marsze-chodzone.jpg
END:VEVENT
BEGIN:VEVENT
DTSTART;TZID=Europe/Warsaw:20250914T100000
DTEND;TZID=Europe/Warsaw:20250914T110000
DTSTAMP:20260424T122758
CREATED:20250827T093337Z
LAST-MODIFIED:20250827T093337Z
UID:51123-1757844000-1757847600@fundacjadantian.com
SUMMARY:Niedzielne marsze oddechowe
DESCRIPTION:Poprzez różnorodne formy działalności\, Fundacja Dantian od szeregu lat stara się dołożyć swoją cegiełkę\, zwłaszcza w zakresie profilaktyki zdrowotnej. Widząc ciągle rosnący odsetek ludzi z chorobami cywilizacyjnymi\, postanowiliśmy podzielić się z Wami wschodnioazjatyckimi technikami qigongu medycznego\, o udokumentowanych – na Wschodzie i na Zachodzie – pozytywnych efektach w zapobieganiu pojawienia się chorób cywilizacyjnych jak również w ich zwalczaniu. Te coniedzielne spotkania mają charakter profilaktyczny i edukacyjny\, ponieważ zarówno oddech jak i sposób poruszania wymagają wiedzy i praktyki. Zapraszamy do wspólnego maszerowania po zdrowie\,  Spotykamy się przed Starą Kordegardą o 10.00. Spotkania są bezpłatne. 
URL:https://fundacjadantian.com/wydarzenie/niedzielne-marsze-oddechowe-5/2025-09-14/
LOCATION:Łazienki Królewskie\, ul.Agrykola 1\, Warszawa
CATEGORIES:Qigong Guolin
ATTACH;FMTTYPE=image/jpeg:https://fundacjadantian.com/wp-content/uploads/2023/09/marsze-chodzone.jpg
END:VEVENT
BEGIN:VEVENT
DTSTART;TZID=Europe/Warsaw:20250907T100000
DTEND;TZID=Europe/Warsaw:20250907T110000
DTSTAMP:20260424T122758
CREATED:20250827T093337Z
LAST-MODIFIED:20250827T093338Z
UID:51121-1757239200-1757242800@fundacjadantian.com
SUMMARY:Niedzielne marsze oddechowe
DESCRIPTION:Poprzez różnorodne formy działalności\, Fundacja Dantian od szeregu lat stara się dołożyć swoją cegiełkę\, zwłaszcza w zakresie profilaktyki zdrowotnej. Widząc ciągle rosnący odsetek ludzi z chorobami cywilizacyjnymi\, postanowiliśmy podzielić się z Wami wschodnioazjatyckimi technikami qigongu medycznego\, o udokumentowanych – na Wschodzie i na Zachodzie – pozytywnych efektach w zapobieganiu pojawienia się chorób cywilizacyjnych jak również w ich zwalczaniu. Te coniedzielne spotkania mają charakter profilaktyczny i edukacyjny\, ponieważ zarówno oddech jak i sposób poruszania wymagają wiedzy i praktyki. Zapraszamy do wspólnego maszerowania po zdrowie\,  Spotykamy się przed Starą Kordegardą o 10.00. Spotkania są bezpłatne. 
URL:https://fundacjadantian.com/wydarzenie/niedzielne-marsze-oddechowe-5/2025-09-07/
LOCATION:Łazienki Królewskie\, ul.Agrykola 1\, Warszawa
CATEGORIES:Qigong Guolin
ATTACH;FMTTYPE=image/jpeg:https://fundacjadantian.com/wp-content/uploads/2023/09/marsze-chodzone.jpg
END:VEVENT
END:VCALENDAR