BEGIN:VCALENDAR
VERSION:2.0
PRODID:-//Fundacja Dantian - ECPv6.15.20//NONSGML v1.0//EN
CALSCALE:GREGORIAN
METHOD:PUBLISH
X-ORIGINAL-URL:https://fundacjadantian.com
X-WR-CALDESC:Wydarzenia dla Fundacja Dantian
REFRESH-INTERVAL;VALUE=DURATION:PT1H
X-Robots-Tag:noindex
X-PUBLISHED-TTL:PT1H
BEGIN:VTIMEZONE
TZID:Europe/Warsaw
BEGIN:DAYLIGHT
TZOFFSETFROM:+0100
TZOFFSETTO:+0200
TZNAME:CEST
DTSTART:20150329T010000
END:DAYLIGHT
BEGIN:STANDARD
TZOFFSETFROM:+0200
TZOFFSETTO:+0100
TZNAME:CET
DTSTART:20151025T010000
END:STANDARD
BEGIN:DAYLIGHT
TZOFFSETFROM:+0100
TZOFFSETTO:+0200
TZNAME:CEST
DTSTART:20160327T010000
END:DAYLIGHT
BEGIN:STANDARD
TZOFFSETFROM:+0200
TZOFFSETTO:+0100
TZNAME:CET
DTSTART:20161030T010000
END:STANDARD
BEGIN:DAYLIGHT
TZOFFSETFROM:+0100
TZOFFSETTO:+0200
TZNAME:CEST
DTSTART:20170326T010000
END:DAYLIGHT
BEGIN:STANDARD
TZOFFSETFROM:+0200
TZOFFSETTO:+0100
TZNAME:CET
DTSTART:20171029T010000
END:STANDARD
END:VTIMEZONE
BEGIN:VEVENT
DTSTART;TZID=Europe/Warsaw:20160215T180000
DTEND;TZID=Europe/Warsaw:20160215T193000
DTSTAMP:20260422T165137
CREATED:20160127T120720Z
LAST-MODIFIED:20160127T120720Z
UID:7294-1455559200-1455564600@fundacjadantian.com
SUMMARY:QIGONG KRĘGOSŁUPA
DESCRIPTION:bóle kręgosłupa i pleców stały się chorobą cywilizacyjną naszych czasów i dotykają już coraz młodsze osoby. Warsztaty pozwolą na praktyczne zapoznanie się z ćwiczeniami qigongu\, uelastyczniającymi kręgosłup i usuwającymi blokady energetyczne odpowiedzialne za związane z nimi schorzenia. Prowadzi Jan Gliński
URL:https://fundacjadantian.com/wydarzenie/qigong-kregoslupa-3/2016-02-15/
CATEGORIES:Qigong
ATTACH;FMTTYPE=:
END:VEVENT
END:VCALENDAR