BEGIN:VCALENDAR
VERSION:2.0
PRODID:-//Fundacja Dantian - ECPv6.15.20//NONSGML v1.0//EN
CALSCALE:GREGORIAN
METHOD:PUBLISH
X-ORIGINAL-URL:https://fundacjadantian.com
X-WR-CALDESC:Wydarzenia dla Fundacja Dantian
REFRESH-INTERVAL;VALUE=DURATION:PT1H
X-Robots-Tag:noindex
X-PUBLISHED-TTL:PT1H
BEGIN:VTIMEZONE
TZID:Europe/Warsaw
BEGIN:DAYLIGHT
TZOFFSETFROM:+0100
TZOFFSETTO:+0200
TZNAME:CEST
DTSTART:20190331T010000
END:DAYLIGHT
BEGIN:STANDARD
TZOFFSETFROM:+0200
TZOFFSETTO:+0100
TZNAME:CET
DTSTART:20191027T010000
END:STANDARD
BEGIN:DAYLIGHT
TZOFFSETFROM:+0100
TZOFFSETTO:+0200
TZNAME:CEST
DTSTART:20200329T010000
END:DAYLIGHT
BEGIN:STANDARD
TZOFFSETFROM:+0200
TZOFFSETTO:+0100
TZNAME:CET
DTSTART:20201025T010000
END:STANDARD
BEGIN:DAYLIGHT
TZOFFSETFROM:+0100
TZOFFSETTO:+0200
TZNAME:CEST
DTSTART:20210328T010000
END:DAYLIGHT
BEGIN:STANDARD
TZOFFSETFROM:+0200
TZOFFSETTO:+0100
TZNAME:CET
DTSTART:20211031T010000
END:STANDARD
END:VTIMEZONE
BEGIN:VEVENT
DTSTART;TZID=Europe/Warsaw:20201109T190000
DTEND;TZID=Europe/Warsaw:20201109T200000
DTSTAMP:20260425T061237
CREATED:20201117T152054Z
LAST-MODIFIED:20201117T152054Z
UID:22444-1604948400-1604952000@fundacjadantian.com
SUMMARY:QIGONG NA LOCKDOWN - ONLINE
DESCRIPTION:Zapraszamy na cotygodniowy\, ogólnodostępny Qigong online\, live na Facebooku Studia Dantian.\nSkoncentrujemy się na sprawdzonych ćwiczeniach\, które pomogą Ci uniknąć typowych problemów związanych z okresem lockdownu\,\nkiedy nasze ciała nie mają wystarczającej ilość ruchu\, kiedy spędzamy za dużo czasu w niewygodnych pozycjach przed laptopami\,\npochylając się też zbyt często nad ekranami smartfonów\, zestresowani\, oddychający za płytko i za szybko.\n\n16.11.20  Oddech + Płuca\n23.11.20  Kręgosłup lędźwiowy + Nerki \n30.11.20  Oczy + Wątroba \n07.12.20  Nogi + Serce\n14.12.20  Zestaw świąteczno – noworoczny\n\nZapraszamy serdecznie! Wydarzenie bezpłatne!
URL:https://fundacjadantian.com/wydarzenie/qigong-na-lockdown-online/2020-11-09/
CATEGORIES:Wydarzenie online
ATTACH;FMTTYPE=:
END:VEVENT
END:VCALENDAR