BEGIN:VCALENDAR
VERSION:2.0
PRODID:-//Fundacja Dantian - ECPv6.15.20//NONSGML v1.0//EN
CALSCALE:GREGORIAN
METHOD:PUBLISH
X-WR-CALNAME:Fundacja Dantian
X-ORIGINAL-URL:https://fundacjadantian.com
X-WR-CALDESC:Wydarzenia dla Fundacja Dantian
REFRESH-INTERVAL;VALUE=DURATION:PT1H
X-Robots-Tag:noindex
X-PUBLISHED-TTL:PT1H
BEGIN:VTIMEZONE
TZID:Europe/Warsaw
BEGIN:DAYLIGHT
TZOFFSETFROM:+0100
TZOFFSETTO:+0200
TZNAME:CEST
DTSTART:20160327T010000
END:DAYLIGHT
BEGIN:STANDARD
TZOFFSETFROM:+0200
TZOFFSETTO:+0100
TZNAME:CET
DTSTART:20161030T010000
END:STANDARD
BEGIN:DAYLIGHT
TZOFFSETFROM:+0100
TZOFFSETTO:+0200
TZNAME:CEST
DTSTART:20170326T010000
END:DAYLIGHT
BEGIN:STANDARD
TZOFFSETFROM:+0200
TZOFFSETTO:+0100
TZNAME:CET
DTSTART:20171029T010000
END:STANDARD
BEGIN:DAYLIGHT
TZOFFSETFROM:+0100
TZOFFSETTO:+0200
TZNAME:CEST
DTSTART:20180325T010000
END:DAYLIGHT
BEGIN:STANDARD
TZOFFSETFROM:+0200
TZOFFSETTO:+0100
TZNAME:CET
DTSTART:20181028T010000
END:STANDARD
END:VTIMEZONE
BEGIN:VEVENT
DTSTART;TZID=Europe/Warsaw:20171108T090000
DTEND;TZID=Europe/Warsaw:20171108T095000
DTSTAMP:20260425T052045
CREATED:20171110T092637Z
LAST-MODIFIED:20171110T092637Z
UID:14616-1510131600-1510134600@fundacjadantian.com
SUMMARY:Qigong – Retro Akademia
DESCRIPTION:Qigong w środy\ngodz. 9.00-9.50 i 10.00-10.50\ninstruktorzy: Jan Gliński i Marzena Rostkowska\nsala: Tańcząc w ciemnościach\, III piętro\nzajęcia w ramach opłaty semestralnej za Retro Akademię: 50 zł \nQigong (czyt. czikung) to tradycyjna chińska gimnastyka zdrowotna. Regularne wykonywanie ćwiczeń qigongu pozwala: rozluźnić się i uwolnić od stresu; wzmocnić odporność organizmu na choroby somatyczne i psychiczne; zniwelować skutki urazów fizycznych; poprawić koordynację ruchową; wyzwolić pokłady wewnętrznej energii.\nUczestnicy zajęć zapoznają się z systemami ćwiczeń skutecznie aktywizujących samoleczące mechanizmy ludzkiego organizmu (Osiem Kawałków Brokatu\, Ćwiczenia Pięciu Zwierząt\, Sześć Leczących Dźwięków itp.).
URL:https://fundacjadantian.com/wydarzenie/qigong-retro-akademia/2017-11-08/
ATTACH;FMTTYPE=:
END:VEVENT
END:VCALENDAR