BEGIN:VCALENDAR
VERSION:2.0
PRODID:-//Fundacja Dantian - ECPv6.15.20//NONSGML v1.0//EN
CALSCALE:GREGORIAN
METHOD:PUBLISH
X-ORIGINAL-URL:https://fundacjadantian.com
X-WR-CALDESC:Wydarzenia dla Fundacja Dantian
REFRESH-INTERVAL;VALUE=DURATION:PT1H
X-Robots-Tag:noindex
X-PUBLISHED-TTL:PT1H
BEGIN:VTIMEZONE
TZID:Europe/Warsaw
BEGIN:DAYLIGHT
TZOFFSETFROM:+0100
TZOFFSETTO:+0200
TZNAME:CEST
DTSTART:20150329T010000
END:DAYLIGHT
BEGIN:STANDARD
TZOFFSETFROM:+0200
TZOFFSETTO:+0100
TZNAME:CET
DTSTART:20151025T010000
END:STANDARD
BEGIN:DAYLIGHT
TZOFFSETFROM:+0100
TZOFFSETTO:+0200
TZNAME:CEST
DTSTART:20160327T010000
END:DAYLIGHT
BEGIN:STANDARD
TZOFFSETFROM:+0200
TZOFFSETTO:+0100
TZNAME:CET
DTSTART:20161030T010000
END:STANDARD
BEGIN:DAYLIGHT
TZOFFSETFROM:+0100
TZOFFSETTO:+0200
TZNAME:CEST
DTSTART:20170326T010000
END:DAYLIGHT
BEGIN:STANDARD
TZOFFSETFROM:+0200
TZOFFSETTO:+0100
TZNAME:CET
DTSTART:20171029T010000
END:STANDARD
END:VTIMEZONE
BEGIN:VEVENT
DTSTART;TZID=Europe/Warsaw:20161205T180000
DTEND;TZID=Europe/Warsaw:20161205T193000
DTSTAMP:20260421T193049
CREATED:20161109T121759Z
LAST-MODIFIED:20161109T121759Z
UID:10041-1480960800-1480966200@fundacjadantian.com
SUMMARY:Qigong Sztuki - warsztaty malowania spiruliną\, kawą\, mieloną papryką i kurkumą
DESCRIPTION:Podczas zajęć łączymy energię świadomego ruchu z malarstwem\, wyzwalając drzemiące w nas pokłady kreatywności. Zalecane luźne ubranie\, z uwzględnieniem możliwości poplamienia podczas pracy twórczej. Prowadzi Marzena Rostkowska (Fundacja Dantian). Wstęp: 30 zł (w cenie materiały). Wymagana rezerwacja uczestnictwa pod adresem rostkowska.marzena@gmail.com \n  \n \n  \n  \n  \n 
URL:https://fundacjadantian.com/wydarzenie/qigong-sztuki-warsztaty-malowania-spirulina-kawa-mielona-papryka-i-kurkuma/2016-12-05/
CATEGORIES:Qigong
ATTACH;FMTTYPE=image/jpeg:https://fundacjadantian.com/wp-content/uploads/2021/12/Qigong-sztuki_3.jpg
END:VEVENT
END:VCALENDAR