BEGIN:VCALENDAR
VERSION:2.0
PRODID:-//Fundacja Dantian - ECPv6.15.20//NONSGML v1.0//EN
CALSCALE:GREGORIAN
METHOD:PUBLISH
X-ORIGINAL-URL:https://fundacjadantian.com
X-WR-CALDESC:Wydarzenia dla Fundacja Dantian
REFRESH-INTERVAL;VALUE=DURATION:PT1H
X-Robots-Tag:noindex
X-PUBLISHED-TTL:PT1H
BEGIN:VTIMEZONE
TZID:Europe/Warsaw
BEGIN:DAYLIGHT
TZOFFSETFROM:+0100
TZOFFSETTO:+0200
TZNAME:CEST
DTSTART:20150329T010000
END:DAYLIGHT
BEGIN:STANDARD
TZOFFSETFROM:+0200
TZOFFSETTO:+0100
TZNAME:CET
DTSTART:20151025T010000
END:STANDARD
BEGIN:DAYLIGHT
TZOFFSETFROM:+0100
TZOFFSETTO:+0200
TZNAME:CEST
DTSTART:20160327T010000
END:DAYLIGHT
BEGIN:STANDARD
TZOFFSETFROM:+0200
TZOFFSETTO:+0100
TZNAME:CET
DTSTART:20161030T010000
END:STANDARD
BEGIN:DAYLIGHT
TZOFFSETFROM:+0100
TZOFFSETTO:+0200
TZNAME:CEST
DTSTART:20170326T010000
END:DAYLIGHT
BEGIN:STANDARD
TZOFFSETFROM:+0200
TZOFFSETTO:+0100
TZNAME:CET
DTSTART:20171029T010000
END:STANDARD
END:VTIMEZONE
BEGIN:VEVENT
DTSTART;TZID=Europe/Warsaw:20160823T183000
DTEND;TZID=Europe/Warsaw:20160823T200000
DTSTAMP:20260426T005553
CREATED:20160819T072133Z
LAST-MODIFIED:20160819T072133Z
UID:8731-1471977000-1471982400@fundacjadantian.com
SUMMARY:Sesje przygotowujące do egzaminów
DESCRIPTION:Drodzy adepci taiji! \nZapraszamy tych\, którzy mają wolny czas i są na miejscu\, ćwiczymy również codziennie rano o 7:00 pod Kordegardą od poniedziałku do piątku. \n 
URL:https://fundacjadantian.com/wydarzenie/sesje-przygotowujace-do-egzaminow-19/2016-08-23/
CATEGORIES:Taiji Quan Grupa Łączona
ATTACH;FMTTYPE=image/jpeg:https://fundacjadantian.com/wp-content/uploads/2016/05/gotowe1.jpg
END:VEVENT
END:VCALENDAR