BEGIN:VCALENDAR
VERSION:2.0
PRODID:-//Fundacja Dantian - ECPv6.15.20//NONSGML v1.0//EN
CALSCALE:GREGORIAN
METHOD:PUBLISH
X-WR-CALNAME:Fundacja Dantian
X-ORIGINAL-URL:https://fundacjadantian.com
X-WR-CALDESC:Wydarzenia dla Fundacja Dantian
REFRESH-INTERVAL;VALUE=DURATION:PT1H
X-Robots-Tag:noindex
X-PUBLISHED-TTL:PT1H
BEGIN:VTIMEZONE
TZID:Europe/Warsaw
BEGIN:DAYLIGHT
TZOFFSETFROM:+0100
TZOFFSETTO:+0200
TZNAME:CEST
DTSTART:20160327T010000
END:DAYLIGHT
BEGIN:STANDARD
TZOFFSETFROM:+0200
TZOFFSETTO:+0100
TZNAME:CET
DTSTART:20161030T010000
END:STANDARD
BEGIN:DAYLIGHT
TZOFFSETFROM:+0100
TZOFFSETTO:+0200
TZNAME:CEST
DTSTART:20170326T010000
END:DAYLIGHT
BEGIN:STANDARD
TZOFFSETFROM:+0200
TZOFFSETTO:+0100
TZNAME:CET
DTSTART:20171029T010000
END:STANDARD
BEGIN:DAYLIGHT
TZOFFSETFROM:+0100
TZOFFSETTO:+0200
TZNAME:CEST
DTSTART:20180325T010000
END:DAYLIGHT
BEGIN:STANDARD
TZOFFSETFROM:+0200
TZOFFSETTO:+0100
TZNAME:CET
DTSTART:20181028T010000
END:STANDARD
END:VTIMEZONE
BEGIN:VEVENT
DTSTART;TZID=Europe/Warsaw:20170225T100000
DTEND;TZID=Europe/Warsaw:20170225T110000
DTSTAMP:20260424T175619
CREATED:20170224T215327Z
LAST-MODIFIED:20170224T215327Z
UID:10847-1488016800-1488020400@fundacjadantian.com
SUMMARY:Sobotni trening w Łazienkach o 10:00
DESCRIPTION:Zapraszamy na trening w zimowej scenerii Parku Łazienkowskiego. Spotykamy się o 10:00 przed Starą Kordegardą (jeśli śnieg/deszcz – w Pawilonie Chińskim). \nBroń mile widziana 🙂 \n 
URL:https://fundacjadantian.com/wydarzenie/sobotni-trening-w-lazienkach-o-1000/2017-02-25/
CATEGORIES:Taiji Quan Grupa Łączona
ATTACH;FMTTYPE=:
END:VEVENT
END:VCALENDAR