BEGIN:VCALENDAR
VERSION:2.0
PRODID:-//Fundacja Dantian - ECPv6.15.20//NONSGML v1.0//EN
CALSCALE:GREGORIAN
METHOD:PUBLISH
X-WR-CALNAME:Fundacja Dantian
X-ORIGINAL-URL:https://fundacjadantian.com
X-WR-CALDESC:Wydarzenia dla Fundacja Dantian
REFRESH-INTERVAL;VALUE=DURATION:PT1H
X-Robots-Tag:noindex
X-PUBLISHED-TTL:PT1H
BEGIN:VTIMEZONE
TZID:Europe/Warsaw
BEGIN:DAYLIGHT
TZOFFSETFROM:+0100
TZOFFSETTO:+0200
TZNAME:CEST
DTSTART:20160327T010000
END:DAYLIGHT
BEGIN:STANDARD
TZOFFSETFROM:+0200
TZOFFSETTO:+0100
TZNAME:CET
DTSTART:20161030T010000
END:STANDARD
BEGIN:DAYLIGHT
TZOFFSETFROM:+0100
TZOFFSETTO:+0200
TZNAME:CEST
DTSTART:20170326T010000
END:DAYLIGHT
BEGIN:STANDARD
TZOFFSETFROM:+0200
TZOFFSETTO:+0100
TZNAME:CET
DTSTART:20171029T010000
END:STANDARD
BEGIN:DAYLIGHT
TZOFFSETFROM:+0100
TZOFFSETTO:+0200
TZNAME:CEST
DTSTART:20180325T010000
END:DAYLIGHT
BEGIN:STANDARD
TZOFFSETFROM:+0200
TZOFFSETTO:+0100
TZNAME:CET
DTSTART:20181028T010000
END:STANDARD
END:VTIMEZONE
BEGIN:VEVENT
DTSTART;TZID=Europe/Warsaw:20170218T090000
DTEND;TZID=Europe/Warsaw:20170218T100000
DTSTAMP:20260424T025538
CREATED:20170217T085021Z
LAST-MODIFIED:20170217T085021Z
UID:10814-1487408400-1487412000@fundacjadantian.com
SUMMARY:Sobotni trening w Łazienkach o 9:00
DESCRIPTION:Zapraszamy na trening w zimowej scenerii Parku Łazienkowskiego. Spotykamy się o 9:00 przed Starą Kordegardą (jeśli śnieg/deszcz – w Pawilonie Chińskim). \nBroń mile widziana 🙂 \n 
URL:https://fundacjadantian.com/wydarzenie/sobotni-trening-w-lazienkach-o-900-4/2017-02-18/
CATEGORIES:Taiji Quan Grupa Łączona
ATTACH;FMTTYPE=:
END:VEVENT
END:VCALENDAR