BEGIN:VCALENDAR
VERSION:2.0
PRODID:-//Fundacja Dantian - ECPv6.15.20//NONSGML v1.0//EN
CALSCALE:GREGORIAN
METHOD:PUBLISH
X-WR-CALNAME:Fundacja Dantian
X-ORIGINAL-URL:https://fundacjadantian.com
X-WR-CALDESC:Wydarzenia dla Fundacja Dantian
REFRESH-INTERVAL;VALUE=DURATION:PT1H
X-Robots-Tag:noindex
X-PUBLISHED-TTL:PT1H
BEGIN:VTIMEZONE
TZID:Europe/Warsaw
BEGIN:DAYLIGHT
TZOFFSETFROM:+0100
TZOFFSETTO:+0200
TZNAME:CEST
DTSTART:20160327T010000
END:DAYLIGHT
BEGIN:STANDARD
TZOFFSETFROM:+0200
TZOFFSETTO:+0100
TZNAME:CET
DTSTART:20161030T010000
END:STANDARD
BEGIN:DAYLIGHT
TZOFFSETFROM:+0100
TZOFFSETTO:+0200
TZNAME:CEST
DTSTART:20170326T010000
END:DAYLIGHT
BEGIN:STANDARD
TZOFFSETFROM:+0200
TZOFFSETTO:+0100
TZNAME:CET
DTSTART:20171029T010000
END:STANDARD
BEGIN:DAYLIGHT
TZOFFSETFROM:+0100
TZOFFSETTO:+0200
TZNAME:CEST
DTSTART:20180325T010000
END:DAYLIGHT
BEGIN:STANDARD
TZOFFSETFROM:+0200
TZOFFSETTO:+0100
TZNAME:CET
DTSTART:20181028T010000
END:STANDARD
END:VTIMEZONE
BEGIN:VEVENT
DTSTART;TZID=Europe/Warsaw:20170920T194500
DTEND;TZID=Europe/Warsaw:20170920T211500
DTSTAMP:20260423T073628
CREATED:20170828T103230Z
LAST-MODIFIED:20170828T103230Z
UID:12479-1505936700-1505942100@fundacjadantian.com
SUMMARY:Grupa początkująca Stary Styl Yang - MAiP
DESCRIPTION:Warsztaty zapoznające z prawidłowym wykonaniem ćwiczeń przygotowawczych oraz kolejnymi sekwencjami tej tradycyjnej\, długiej formy taijiquan. Wstęp: pierwsze  zajęcia bezpłatne\, później zgodnie z cennikiem (możliwe zniżki\, info: https://fundacjadantian.com/cennik/)
URL:https://fundacjadantian.com/wydarzenie/stary-styl-yang-dla-poczatkujacych-7/2017-09-20/
CATEGORIES:Taiji Grupa Początkująca
ATTACH;FMTTYPE=image/jpeg:https://fundacjadantian.com/wp-content/uploads/2015/11/Maip_taiji_2.jpg
END:VEVENT
END:VCALENDAR