BEGIN:VCALENDAR
VERSION:2.0
PRODID:-//Fundacja Dantian - ECPv6.15.20//NONSGML v1.0//EN
CALSCALE:GREGORIAN
METHOD:PUBLISH
X-ORIGINAL-URL:https://fundacjadantian.com
X-WR-CALDESC:Wydarzenia dla Fundacja Dantian
REFRESH-INTERVAL;VALUE=DURATION:PT1H
X-Robots-Tag:noindex
X-PUBLISHED-TTL:PT1H
BEGIN:VTIMEZONE
TZID:Europe/Warsaw
BEGIN:DAYLIGHT
TZOFFSETFROM:+0100
TZOFFSETTO:+0200
TZNAME:CEST
DTSTART:20190331T010000
END:DAYLIGHT
BEGIN:STANDARD
TZOFFSETFROM:+0200
TZOFFSETTO:+0100
TZNAME:CET
DTSTART:20191027T010000
END:STANDARD
BEGIN:DAYLIGHT
TZOFFSETFROM:+0100
TZOFFSETTO:+0200
TZNAME:CEST
DTSTART:20200329T010000
END:DAYLIGHT
BEGIN:STANDARD
TZOFFSETFROM:+0200
TZOFFSETTO:+0100
TZNAME:CET
DTSTART:20201025T010000
END:STANDARD
BEGIN:DAYLIGHT
TZOFFSETFROM:+0100
TZOFFSETTO:+0200
TZNAME:CEST
DTSTART:20210328T010000
END:DAYLIGHT
BEGIN:STANDARD
TZOFFSETFROM:+0200
TZOFFSETTO:+0100
TZNAME:CET
DTSTART:20211031T010000
END:STANDARD
END:VTIMEZONE
BEGIN:VEVENT
DTSTART;TZID=Europe/Warsaw:20200707T180000
DTEND;TZID=Europe/Warsaw:20200707T193000
DTSTAMP:20260424T234734
CREATED:20200707T115200Z
LAST-MODIFIED:20200707T115200Z
UID:21760-1594144800-1594150200@fundacjadantian.com
SUMMARY:Taiji grupa zaawansowana i początkująca
DESCRIPTION:Zapraszamy na treningi Starego Stylu Yang\, w trakcie wakacji odbywają się one w plenerze\, \n\nprzed Starą Kordegardą w Łazienkach Królewskich. Do zobaczenia 🙂\n\n \n\nCEL KURSU:\n\nNauka zestawu ćwiczeń przygotowawczych oraz – od początku – długiej formy Yang Jia Lao Jia („Starego Stylu Szkoły Yang”) Taiji Quan http://www.youtube.com/watch?v=Ja2BKK_aOJk.\n\nWARUNKI UCZESTNICTWA:\n\nWewnętrzna silna motywacja.\nDeklaracja regularnej\, indywidualnej pracy z samym sobą.\n\nUbiór: strój sportowy nie krępujący szerokich ruchów\, wygodne obuwie na płaskiej podeszwie.\n\n**************************************************************************************************\n\nWitam wszystkich zainteresowanych wstąpieniem na drogę Starego Stylu Yang Taijiquan\,\n\nPodobnie jak w ubiegłych latach\, organizuję ten kurs z intencją trwałego zakorzenienia Starego Stylu Szkoły Yang Taiji Quan w naszym kraju\, dla osób które pociąga perspektywa poświęcenia wielu lat regularnej pracy nad sobą poprzez naukę tego stylu i które z czasem staną się jego adeptami\, nauczycielami i mistrzami.\n\nSerdecznie zapraszam silnie zmotywowanych – pierwsze zajęcia gratis!\n\nJan Gliński\n\n***************************************************************************************************\n\nKurs dla grupy początkującej w 2018 informacje oraz pytania proszę kierować na adres (jan.glinski@fundacjadantian.com)\n\nCENNIK: https://fundacjadantian.com/cennik/
URL:https://fundacjadantian.com/wydarzenie/taiji-grupa-zaawansowana-i-poczatkujaca/2020-07-07/
CATEGORIES:Taiji Grupa Początkująca
ATTACH;FMTTYPE=:
END:VEVENT
END:VCALENDAR