BEGIN:VCALENDAR
VERSION:2.0
PRODID:-//Fundacja Dantian - ECPv6.15.20//NONSGML v1.0//EN
CALSCALE:GREGORIAN
METHOD:PUBLISH
X-ORIGINAL-URL:https://fundacjadantian.com
X-WR-CALDESC:Wydarzenia dla Fundacja Dantian
REFRESH-INTERVAL;VALUE=DURATION:PT1H
X-Robots-Tag:noindex
X-PUBLISHED-TTL:PT1H
BEGIN:VTIMEZONE
TZID:Europe/Warsaw
BEGIN:DAYLIGHT
TZOFFSETFROM:+0100
TZOFFSETTO:+0200
TZNAME:CEST
DTSTART:20160327T010000
END:DAYLIGHT
BEGIN:STANDARD
TZOFFSETFROM:+0200
TZOFFSETTO:+0100
TZNAME:CET
DTSTART:20161030T010000
END:STANDARD
BEGIN:DAYLIGHT
TZOFFSETFROM:+0100
TZOFFSETTO:+0200
TZNAME:CEST
DTSTART:20170326T010000
END:DAYLIGHT
BEGIN:STANDARD
TZOFFSETFROM:+0200
TZOFFSETTO:+0100
TZNAME:CET
DTSTART:20171029T010000
END:STANDARD
BEGIN:DAYLIGHT
TZOFFSETFROM:+0100
TZOFFSETTO:+0200
TZNAME:CEST
DTSTART:20180325T010000
END:DAYLIGHT
BEGIN:STANDARD
TZOFFSETFROM:+0200
TZOFFSETTO:+0100
TZNAME:CET
DTSTART:20181028T010000
END:STANDARD
END:VTIMEZONE
BEGIN:VEVENT
DTSTART;TZID=Europe/Warsaw:20170505T183000
DTEND;TZID=Europe/Warsaw:20170505T200000
DTSTAMP:20260425T015752
CREATED:20170413T074959Z
LAST-MODIFIED:20170413T074959Z
UID:11344-1494009000-1494014400@fundacjadantian.com
SUMMARY:Taiji grupy łączone
DESCRIPTION:Od 05 maja do 23 czerwca\, zajęcia dla obu grup (zaawansowanej i początkującej) będą się odbywały jedynie we wtorki i piątki (18:30 – 20:00; nie będzie zajęć czwartkowych). Zajęcia są w Szkole Podstawowej nr 69 przy ulicy Wiktorskiej 73 (blisko przystanku metra Racławicka).\n 
URL:https://fundacjadantian.com/wydarzenie/taiji-grupy-laczone/2017-05-05/
CATEGORIES:Taiji Quan Grupa Łączona
ATTACH;FMTTYPE=:
END:VEVENT
END:VCALENDAR