BEGIN:VCALENDAR
VERSION:2.0
PRODID:-//Fundacja Dantian - ECPv6.15.20//NONSGML v1.0//EN
CALSCALE:GREGORIAN
METHOD:PUBLISH
X-WR-CALNAME:Fundacja Dantian
X-ORIGINAL-URL:https://fundacjadantian.com
X-WR-CALDESC:Wydarzenia dla Fundacja Dantian
REFRESH-INTERVAL;VALUE=DURATION:PT1H
X-Robots-Tag:noindex
X-PUBLISHED-TTL:PT1H
BEGIN:VTIMEZONE
TZID:Europe/Warsaw
BEGIN:DAYLIGHT
TZOFFSETFROM:+0100
TZOFFSETTO:+0200
TZNAME:CEST
DTSTART:20160327T010000
END:DAYLIGHT
BEGIN:STANDARD
TZOFFSETFROM:+0200
TZOFFSETTO:+0100
TZNAME:CET
DTSTART:20161030T010000
END:STANDARD
BEGIN:DAYLIGHT
TZOFFSETFROM:+0100
TZOFFSETTO:+0200
TZNAME:CEST
DTSTART:20170326T010000
END:DAYLIGHT
BEGIN:STANDARD
TZOFFSETFROM:+0200
TZOFFSETTO:+0100
TZNAME:CET
DTSTART:20171029T010000
END:STANDARD
BEGIN:DAYLIGHT
TZOFFSETFROM:+0100
TZOFFSETTO:+0200
TZNAME:CEST
DTSTART:20180325T010000
END:DAYLIGHT
BEGIN:STANDARD
TZOFFSETFROM:+0200
TZOFFSETTO:+0100
TZNAME:CET
DTSTART:20181028T010000
END:STANDARD
END:VTIMEZONE
BEGIN:VEVENT
DTSTART;TZID=Europe/Warsaw:20170106T090000
DTEND;TZID=Europe/Warsaw:20170106T103000
DTSTAMP:20260426T001154
CREATED:20170105T164636Z
LAST-MODIFIED:20170105T164636Z
UID:10515-1483693200-1483698600@fundacjadantian.com
SUMMARY:Trzech Króli w Łazienkach o 9:00 rano - Stara Kordegarda
DESCRIPTION:Zobaczymy czy uda nam się zgromadzić przynajmniej trójkę adeptów obojga płci przed Starą Kordegardą kiedy prognoza wskazuję na temperaturę poniżej -10C. Ale jak to się mówi\, nie ma złej pogody\, są tylko złe ubrania 🙂 \nObiecujemy sporo rozgrzewających ćwiczeń\, no i zabierzcie broń! \n 
URL:https://fundacjadantian.com/wydarzenie/trzech-kroli-w-lazienkach-o-900-rano-stara-kordegarda/2017-01-06/
CATEGORIES:Taiji Quan Grupa Łączona
ATTACH;FMTTYPE=:
END:VEVENT
END:VCALENDAR