BEGIN:VCALENDAR
VERSION:2.0
PRODID:-//Fundacja Dantian - ECPv6.15.20//NONSGML v1.0//EN
CALSCALE:GREGORIAN
METHOD:PUBLISH
X-WR-CALNAME:Fundacja Dantian
X-ORIGINAL-URL:https://fundacjadantian.com
X-WR-CALDESC:Wydarzenia dla Fundacja Dantian
REFRESH-INTERVAL;VALUE=DURATION:PT1H
X-Robots-Tag:noindex
X-PUBLISHED-TTL:PT1H
BEGIN:VTIMEZONE
TZID:Europe/Warsaw
BEGIN:DAYLIGHT
TZOFFSETFROM:+0100
TZOFFSETTO:+0200
TZNAME:CEST
DTSTART:20150329T010000
END:DAYLIGHT
BEGIN:STANDARD
TZOFFSETFROM:+0200
TZOFFSETTO:+0100
TZNAME:CET
DTSTART:20151025T010000
END:STANDARD
BEGIN:DAYLIGHT
TZOFFSETFROM:+0100
TZOFFSETTO:+0200
TZNAME:CEST
DTSTART:20160327T010000
END:DAYLIGHT
BEGIN:STANDARD
TZOFFSETFROM:+0200
TZOFFSETTO:+0100
TZNAME:CET
DTSTART:20161030T010000
END:STANDARD
BEGIN:DAYLIGHT
TZOFFSETFROM:+0100
TZOFFSETTO:+0200
TZNAME:CEST
DTSTART:20170326T010000
END:DAYLIGHT
BEGIN:STANDARD
TZOFFSETFROM:+0200
TZOFFSETTO:+0100
TZNAME:CET
DTSTART:20171029T010000
END:STANDARD
END:VTIMEZONE
BEGIN:VEVENT
DTSTART;TZID=Europe/Warsaw:20160826T150000
DTEND;TZID=Europe/Warsaw:20160826T180000
DTSTAMP:20260423T032710
CREATED:20160812T082435Z
LAST-MODIFIED:20160812T082435Z
UID:8687-1472223600-1472234400@fundacjadantian.com
SUMMARY:WARSZTATY BA DUAN JIN - po południu
DESCRIPTION:To wspaniała okazja dla wszystkich praktykujących qigong oraz sztuki walki\, aby zapoznać się z pozostającą wiernej tradycyjnemu przekazowi formą Ośmiu Sztuk Brokatu Generała Yue Fei o 1000-letniej historii. \nWarsztaty tej odmiany Yue Fei Ba Duan Jin odbędą się po raz pierwszy w Polsce\, w Warszawie\, 26 sierpnia. Przeprowadzi je nasz mistrz\, Ly Chuanzheng (Antoine Ly)\, wyjątkowy jak na obecne czasy nauczyciel 7-ej generacji Szkoły Yangjialaojia Taijiquan (Starego Stylu Yang Taijiquan). Nauczył się on tej formy Ba Duan Jin od Mistrza Li Fengzhang’a\, który z kolei uczył się jej od Mistrza Wang Zihe\, ucznia Mistrza Dou Fenshan’a ze starej linii sztuk walki Taiyi. \nAutorstwo prezentowanej na warsztatach formy Ba Duan Jin przypisywane jest słynnemu generałowi Yue Fei (1103-1141) który broniąc północnych granic cesarstwa chińskiego przed hordami Jin\, utrzymywał w dobrej kondycji swoich oficerów i żołnierzy właśnie poprzez codzienne wykonywanie tego qigong’u. \nZ biegiem czasu ta tradycyjna forma uległa pewnej ewolucji\, integrując różne metody takich gałęzi qigong’u\, jak dao yin\, xing qi\, czy nei dan\, jednocześnie pozostając wierną tradycyjnemu przekazowi Yue Fei Ba Duan Jin. \nW porównaniu do najczęściej nauczanych form Ośmiu Sztuk Brokatu\, które są w zasadzie formą qigong’u dao yin\, Yue Fei Ba Duan Jin jest bardziej złożonym i trudniejszym do wykonania zestawem ćwiczeń\, oferując w zamian lepszą stymulację i zharmonizowanie pracy organów wewnętrznych\, a tym samym większą efektywność jako metoda utrzymania zdrowia. \nWarsztaty będą dość szczegółowym wprowadzenie do tej formy Ba Duan Jin i zapoznają ich uczestników z zasadami jej prawidłowego wykonywania. Niewiele więcej można zrobić w ciągu trzech godzin przeznaczonych na warsztaty\, czy nawet podczas całego dnia. Głębsze opanowanie tego kompletnego zestawu ćwiczeń wymaga dłuższego czasu i dlatego zamierzamy kontynuować wspólną naukę tego systemu\, w ramach naszej Fundacji\, w przyszłym roku szkolnym. \nZajęcia będą prowadzone w języku francuskim\, z tłumaczeniem na polski przez naszego nauczyciela Jana Glińskiego\, wieloletniego ucznia Mistrza Ly. Warsztaty będą rzadką okazją bezpośredniego skorzystania z jego wielkiego i długoletniego doświadczenia\, płynącego z wielu dekad praktycznego nauczania tradycyjnych sztuk walki. \n  \nWarsztaty odbędą się w piątek\, 26 sierpnia 2016\, w Szkole Podstawowej numer 98\, przy ulicy Grottgera 22\, na terenie parku Morskie Oko (wjazd od Belwederskiej). \nOpłata: 100 zł (90 zł – Przyjaciele Fundacji) gotówką przy wejściu lub (preferowane) wcześniejszym przelewem na konto: Bank PKO SA\, Al. Jerozolimskie 65/79\, nr konta 08124062181111001058278535.
URL:https://fundacjadantian.com/wydarzenie/warsztaty-ba-duan-jin-popoludniu/2016-08-26/
CATEGORIES:Qigong
ATTACH;FMTTYPE=image/jpeg:https://fundacjadantian.com/wp-content/uploads/2016/06/Antoine-Ly.jpg
END:VEVENT
END:VCALENDAR