BEGIN:VCALENDAR
VERSION:2.0
PRODID:-//Fundacja Dantian - ECPv6.15.20//NONSGML v1.0//EN
CALSCALE:GREGORIAN
METHOD:PUBLISH
X-ORIGINAL-URL:https://fundacjadantian.com
X-WR-CALDESC:Wydarzenia dla Fundacja Dantian
REFRESH-INTERVAL;VALUE=DURATION:PT1H
X-Robots-Tag:noindex
X-PUBLISHED-TTL:PT1H
BEGIN:VTIMEZONE
TZID:Europe/Warsaw
BEGIN:DAYLIGHT
TZOFFSETFROM:+0100
TZOFFSETTO:+0200
TZNAME:CEST
DTSTART:20140330T010000
END:DAYLIGHT
BEGIN:STANDARD
TZOFFSETFROM:+0200
TZOFFSETTO:+0100
TZNAME:CET
DTSTART:20141026T010000
END:STANDARD
BEGIN:DAYLIGHT
TZOFFSETFROM:+0100
TZOFFSETTO:+0200
TZNAME:CEST
DTSTART:20150329T010000
END:DAYLIGHT
BEGIN:STANDARD
TZOFFSETFROM:+0200
TZOFFSETTO:+0100
TZNAME:CET
DTSTART:20151025T010000
END:STANDARD
BEGIN:DAYLIGHT
TZOFFSETFROM:+0100
TZOFFSETTO:+0200
TZNAME:CEST
DTSTART:20160327T010000
END:DAYLIGHT
BEGIN:STANDARD
TZOFFSETFROM:+0200
TZOFFSETTO:+0100
TZNAME:CET
DTSTART:20161030T010000
END:STANDARD
END:VTIMEZONE
BEGIN:VEVENT
DTSTART;TZID=Europe/Warsaw:20151205T100000
DTEND;TZID=Europe/Warsaw:20151205T113000
DTSTAMP:20260423T065911
CREATED:20151204T095233Z
LAST-MODIFIED:20151204T095233Z
UID:6912-1449309600-1449315000@fundacjadantian.com
SUMMARY:Weekendowe taiji quan w Parku Skaryszewskim
DESCRIPTION:Drodzy adepci w nadchodzący weekend ćwiczymy o 10:00 w Parku Skaryszewskim koło Stawu Kaczego. Jak zawsze\, będziemy ćwiczyli różne fragmenty długiej formy\, do wyboru w zależności od składu grupy. \nTreningi są bezpłatne.
URL:https://fundacjadantian.com/wydarzenie/weekendowe-taiji-quan-w-parku-skaryszewskim/2015-12-05/
CATEGORIES:Taiji Quan Grupa Łączona
ATTACH;FMTTYPE=:
END:VEVENT
END:VCALENDAR