BEGIN:VCALENDAR
VERSION:2.0
PRODID:-//Fundacja Dantian - ECPv6.15.20//NONSGML v1.0//EN
CALSCALE:GREGORIAN
METHOD:PUBLISH
X-WR-CALNAME:Fundacja Dantian
X-ORIGINAL-URL:https://fundacjadantian.com
X-WR-CALDESC:Wydarzenia dla Fundacja Dantian
REFRESH-INTERVAL;VALUE=DURATION:PT1H
X-Robots-Tag:noindex
X-PUBLISHED-TTL:PT1H
BEGIN:VTIMEZONE
TZID:Europe/Warsaw
BEGIN:DAYLIGHT
TZOFFSETFROM:+0100
TZOFFSETTO:+0200
TZNAME:CEST
DTSTART:20150329T010000
END:DAYLIGHT
BEGIN:STANDARD
TZOFFSETFROM:+0200
TZOFFSETTO:+0100
TZNAME:CET
DTSTART:20151025T010000
END:STANDARD
BEGIN:DAYLIGHT
TZOFFSETFROM:+0100
TZOFFSETTO:+0200
TZNAME:CEST
DTSTART:20160327T010000
END:DAYLIGHT
BEGIN:STANDARD
TZOFFSETFROM:+0200
TZOFFSETTO:+0100
TZNAME:CET
DTSTART:20161030T010000
END:STANDARD
BEGIN:DAYLIGHT
TZOFFSETFROM:+0100
TZOFFSETTO:+0200
TZNAME:CEST
DTSTART:20170326T010000
END:DAYLIGHT
BEGIN:STANDARD
TZOFFSETFROM:+0200
TZOFFSETTO:+0100
TZNAME:CET
DTSTART:20171029T010000
END:STANDARD
END:VTIMEZONE
BEGIN:VEVENT
DTSTART;TZID=Europe/Warsaw:20160221T100000
DTEND;TZID=Europe/Warsaw:20160221T113000
DTSTAMP:20260425T035205
CREATED:20160219T150519Z
LAST-MODIFIED:20160219T150519Z
UID:7517-1456048800-1456054200@fundacjadantian.com
SUMMARY:Weekendowy trening w Łazienkach
DESCRIPTION:Zapraszamy na wspólne ćwiczenia do Łazienek Królewskich. Jeśli nie pada\, spotykamy się przed Starą Kordegardą\, a w razie deszczu w Pawilonie Chińskim. Zabierzcie kije!
URL:https://fundacjadantian.com/wydarzenie/weekendowy-trening-w-lazienkach-6/2016-02-21/
CATEGORIES:Taiji Quan Grupa Łączona
ATTACH;FMTTYPE=image/jpeg:https://fundacjadantian.com/wp-content/uploads/2016/02/Czarny-smok-kolysze-ogonem.jpg
END:VEVENT
END:VCALENDAR