BEGIN:VCALENDAR
VERSION:2.0
PRODID:-//Fundacja Dantian - ECPv6.15.20//NONSGML v1.0//EN
CALSCALE:GREGORIAN
METHOD:PUBLISH
X-ORIGINAL-URL:https://fundacjadantian.com
X-WR-CALDESC:Wydarzenia dla Fundacja Dantian
REFRESH-INTERVAL;VALUE=DURATION:PT1H
X-Robots-Tag:noindex
X-PUBLISHED-TTL:PT1H
BEGIN:VTIMEZONE
TZID:Europe/Warsaw
BEGIN:DAYLIGHT
TZOFFSETFROM:+0100
TZOFFSETTO:+0200
TZNAME:CEST
DTSTART:20160327T010000
END:DAYLIGHT
BEGIN:STANDARD
TZOFFSETFROM:+0200
TZOFFSETTO:+0100
TZNAME:CET
DTSTART:20161030T010000
END:STANDARD
BEGIN:DAYLIGHT
TZOFFSETFROM:+0100
TZOFFSETTO:+0200
TZNAME:CEST
DTSTART:20170326T010000
END:DAYLIGHT
BEGIN:STANDARD
TZOFFSETFROM:+0200
TZOFFSETTO:+0100
TZNAME:CET
DTSTART:20171029T010000
END:STANDARD
BEGIN:DAYLIGHT
TZOFFSETFROM:+0100
TZOFFSETTO:+0200
TZNAME:CEST
DTSTART:20180325T010000
END:DAYLIGHT
BEGIN:STANDARD
TZOFFSETFROM:+0200
TZOFFSETTO:+0100
TZNAME:CET
DTSTART:20181028T010000
END:STANDARD
END:VTIMEZONE
BEGIN:VEVENT
DTSTART;TZID=Europe/Warsaw:20171122T180000
DTEND;TZID=Europe/Warsaw:20171122T193000
DTSTAMP:20260424T221640
CREATED:20170908T080403Z
LAST-MODIFIED:20170908T080403Z
UID:14112-1511373600-1511379000@fundacjadantian.com
SUMMARY:Wibrujące organy: serce + płuca
DESCRIPTION:Warsztaty uczące ćwiczeń polepszających funkcjonowanie narządów wewnętrznych\, wybranych ze skarbnicy systemów qigongu (chi kungu): Ba Duan Jin (Osiem Kawałków Brokatu)\, Zhan Zhuang (Stojąc jak Drzewo)\, Wu Qin Xi (Ćwiczenia Pięciu Zwierząt)\, Liu Zi Jue (Sześć Leczących Dźwięków). Prowadzi Jan Gliński  (Fundacja Dantian).
URL:https://fundacjadantian.com/wydarzenie/wibrujace-organy-serce-pluca/2017-11-22/
CATEGORIES:Qigong - MAiP
ATTACH;FMTTYPE=image/jpeg:https://fundacjadantian.com/wp-content/uploads/2015/09/Maip_wibrujace-organy_Serce_06.jpg
END:VEVENT
END:VCALENDAR